{"text_format":"1","workbook":"xlsx","n_sheets":3,"sheets":["Introduction","Instructions","Company List"],"not_rendered":{"charts":0,"images":4,"macros":1,"external_links":1,"defined_names":3,"comments":0,"pivot_tables":0},"unopened":[],"bounds":{"document_bytes":16777216,"sheet_cells":100000,"rows_first":2000,"rows_last":500,"rows_between":2000,"halvings":0,"cell_chars":16384,"cell_head_chars":4096},"cells_cut":0,"cells_raw":0,"read":"whole","date_system":"1900"}

{"sheet":"Introduction","index":0,"n_rows":0,"n_cols":0,"rows_kept":0,"cut":false,"hidden":false,"merged":[]}

{"sheet":"Instructions","index":1,"n_rows":7,"n_cols":3,"rows_kept":7,"cut":false,"hidden":false,"merged":[]}
[]
[]
[null,"*Double Click over the below Section to scroll the whole document."]
[null,"You will see a frame after double clicking then you can use any of the following to scroll up or down:"]
[null,null,"a. Page up or page down keys"]
[null,null,"b. Arrow up or down keys"]
[null,null,"c. Use the scroll wheel of your computer mouse"]

{"sheet":"Company List","index":2,"n_rows":2003,"n_cols":15,"rows_kept":2003,"cut":false,"hidden":false,"merged":[[5,0,5,2],[5,3,5,4]]}
[]
[]
[]
[]
[]
[null,null,null,"<<<== Search criteria goes here"]
[]
[]
[]
[]
[null,"Company","Category","Focus","Locations","Careers Website","Company Size","Year Founded","Index (Adjust the Formula to Pick Which Columns - USE SHIFT_CTRL ENTER AS I AM ARRAY FORMULA THEN HIDE COLUMN)","Some Role/s Available","Column26","Column25","Hiring for Remote work Y/N?","Indeed Business jobs Y/N","Link to indeed"]
[null,"EarthOptics","AgriTech","EarthOptics develops tools and technology to map and measure soil characteristics.","Virginia; North Carolina; Minnessota; Arkansas","https://earthoptics.bamboohr.com/jobs/?source=bamboohr",30,2018,{"$f":"_xlfn.CONCAT(Table3[[#This Row],[Company]:[Year Founded]]&\" \")","v":"EarthOptics AgriTech EarthOptics develops tools and technology to map and measure soil characteristics. Virginia; North Carolina; Minnessota; Arkansas https://earthoptics.bamboohr.com/jobs/?source=bamboohr 30 2018 "},{"$f":"Table3[[#This Row],[Column26]]","v":"NA"},"NA","EarthOptics"]
[null,"Afiniti","Artificial Intelligence","AI-based behavioral pairing platform ","DC; Washington; New York; Toronto","https://www.afiniti.com/careers",1000,2006,{"$f":"_xlfn.CONCAT(Table3[[#This Row],[Company]:[Year Founded]]&\" \")","v":"Afiniti Artificial Intelligence AI-based behavioral pairing platform  DC; Washington; New York; Toronto https://www.afiniti.com/careers 1000 2006 "},{"$f":"Table3[[#This Row],[Column26]]","v":"Content and Channels Manager"},"Content and Channels Manager","Afiniti","NA","Y"]
[null,"Oosto","Artificial Intelligence","AI for facial, body and object recognition","New York","https://oosto.com/careers/#jobs-section",150,2016,{"$f":"_xlfn.CONCAT(Table3[[#This Row],[Company]:[Year Founded]]&\" \")","v":"Oosto Artificial Intelligence AI for facial, body and object recognition New York https://oosto.com/careers/#jobs-section 150 2016 "},{"$f":"Table3[[#This Row],[Column26]]","v":"Global Demand Gen Director"},"Global Demand Gen Director","Anyvision","NA","Y"]
[null,"Augury","Artificial Intelligence","AI-based predictive maintenance solutions for commercial and industrial sectors. ","New York","https://www.augury.com/about/careers/",100,2011,{"$f":"_xlfn.CONCAT(Table3[[#This Row],[Company]:[Year Founded]]&\" \")","v":"Augury Artificial Intelligence AI-based predictive maintenance solutions for commercial and industrial sectors.  New York https://www.augury.com/about/careers/ 100 2011 "},{"$f":"Table3[[#This Row],[Column26]]","v":"Enterprise Customer Success Manager"},"Enterprise Customer Success Manager","Augry","NA","Y"]
[null,"BackboneAI","Artificial Intelligence","AI-based platform for customer data management and analytics ","New York; Georgia","https://www.backbone.ai/",20,2019,{"$f":"_xlfn.CONCAT(Table3[[#This Row],[Company]:[Year Founded]]&\" \")","v":"BackboneAI Artificial Intelligence AI-based platform for customer data management and analytics  New York; Georgia https://www.backbone.ai/ 20 2019 "},{"$f":"Table3[[#This Row],[Column26]]","v":"Customer Success Lead "},"Customer Success Lead ","BackboneAI","NA","N"]
[null,"Bigpanda","Artificial Intelligence"," AI-based platform for IT Ops, NOC, and DevOps teams to detect, investigate, and resolve IT incidents and outages.","California; New York","https://www.bigpanda.io/company/careers/",150,2012,{"$f":"_xlfn.CONCAT(Table3[[#This Row],[Company]:[Year Founded]]&\" \")","v":"Bigpanda Artificial Intelligence  AI-based platform for IT Ops, NOC, and DevOps teams to detect, investigate, and resolve IT incidents and outages. California; New York https://www.bigpanda.io/company/careers/ 150 2012 "},"Customer Outcomes: Value and Adoption","Customer Outcomes: Value and Adoption","Bigpanda","Y","Y","https://www.indeed.com/jobs?q=Bigpanda&l=United%20States&vjk=54d65fe9c7f639b2"]
[null,"Checkr","Artificial Intelligence","AI-based platform that automates background checks and screening processes for hiring teams.","California; Colorado","https://checkr.com/company/careers/open-careers",400,2014,{"$f":"_xlfn.CONCAT(Table3[[#This Row],[Company]:[Year Founded]]&\" \")","v":"Checkr Artificial Intelligence AI-based platform that automates background checks and screening processes for hiring teams. California; Colorado https://checkr.com/company/careers/open-careers 400 2014 "},"Enterprise Customer Success Manager","Enterprise Customer Success Manager","Checkr","Y","Y"]
[null,"CognitiveScale","Artificial Intelligence","CognitiveScale pioneered the concept of ‘Trusted AI”, paving the way for responsible Enterprise AI development worldwide. ","Texas","https://www.cognitivescale.com/careers/",154,2013,{"$f":"_xlfn.CONCAT(Table3[[#This Row],[Company]:[Year Founded]]&\" \")","v":"CognitiveScale Artificial Intelligence CognitiveScale pioneered the concept of ‘Trusted AI”, paving the way for responsible Enterprise AI development worldwide.  Texas https://www.cognitivescale.com/careers/ 154 2013 "},{"$f":"Table3[[#This Row],[Column26]]","v":"NA"},"NA","CognitiveScale","NA","N"]
[null,"DataRobot","Artificial Intelligence","Platform for developers to build and deploy artificial intelligence and machine learning models","Massachusetts; California; Ohio; DC","https://www.datarobot.com/careers/?department=65750",1200,2012,{"$f":"_xlfn.CONCAT(Table3[[#This Row],[Company]:[Year Founded]]&\" \")","v":"DataRobot Artificial Intelligence Platform for developers to build and deploy artificial intelligence and machine learning models Massachusetts; California; Ohio; DC https://www.datarobot.com/careers/?department=65750 1200 2012 "},{"$f":"Table3[[#This Row],[Column26]]","v":"Account Executive"},"Account Executive","Data Robot","NA","Y"]
[null,"EdCast","Artificial Intelligence","AI-based platform for personalized learning and knowledge management solutions for enterprises. Subsidiaries include Sociative, Inc., Sales-University","California","https://www.edcast.com/corp/careers/",231,2013,{"$f":"_xlfn.CONCAT(Table3[[#This Row],[Company]:[Year Founded]]&\" \")","v":"EdCast Artificial Intelligence AI-based platform for personalized learning and knowledge management solutions for enterprises. Subsidiaries include Sociative, Inc., Sales-University California https://www.edcast.com/corp/careers/ 231 2013 "},{"$f":"Table3[[#This Row],[Column26]]","v":"Business Consultant"},"Business Consultant","Edcast","NA","Y"]
[null,"Envoy","Artificial Intelligence","AI that enables remote and touchless offices","California","https://envoy.com/jobs/#open-positions",201,2018,{"$f":"_xlfn.CONCAT(Table3[[#This Row],[Company]:[Year Founded]]&\" \")","v":"Envoy Artificial Intelligence AI that enables remote and touchless offices California https://envoy.com/jobs/#open-positions 201 2018 "},{"$f":"Table3[[#This Row],[Column26]]","v":"Enterprise Customer Success Manager"},"Enterprise Customer Success Manager","Envoy","NA","N"]
[null,"Gong","Artificial Intelligence","AI-based revenue intelligence platform for sales conversation engagement ","California","https://www.gong.io/careers/",250,2014,{"$f":"_xlfn.CONCAT(Table3[[#This Row],[Company]:[Year Founded]]&\" \")","v":"Gong Artificial Intelligence AI-based revenue intelligence platform for sales conversation engagement  California https://www.gong.io/careers/ 250 2014 "},{"$f":"Table3[[#This Row],[Column26]]","v":"ACCOUNT BASED MARKETING MANAGER, STRATEGIC"},"ACCOUNT BASED MARKETING MANAGER, STRATEGIC","Gong","NA","Y"]
[null,"Grammarly","Artificial Intelligence","AI-based digital editing support","California; New York; Vancouver","https://www.grammarly.com/jobs/openings#all:sanfrancisco",240,2009,{"$f":"_xlfn.CONCAT(Table3[[#This Row],[Company]:[Year Founded]]&\" \")","v":"Grammarly Artificial Intelligence AI-based digital editing support California; New York; Vancouver https://www.grammarly.com/jobs/openings#all:sanfrancisco 240 2009 "},"Lifecycle Marketing Manager, Professionals","Lifecycle Marketing Manager, Professionals","Grammarly","Y","Y","https://www.indeed.com/jobs?q=Grammarly&l=United%20States&vjk=df14a31a943ae043"]
[null,"HighRadius","Artificial Intelligence"," AI autonomous systems for B2B suppliers to automate accounts ","Texas","https://www.highradius.com/about/careers/",2000,2006,{"$f":"_xlfn.CONCAT(Table3[[#This Row],[Company]:[Year Founded]]&\" \")","v":"HighRadius Artificial Intelligence  AI autonomous systems for B2B suppliers to automate accounts  Texas https://www.highradius.com/about/careers/ 2000 2006 "},"Customer Value Manager","Customer Value Manager","HighRadius","Y","Y","https://www.indeed.com/jobs?q=HighRadius&l=United%20States&vjk=e6bfd6e69da3ea64"]
[null,"HireVue","Artificial Intelligence","AI-based platform that offers talent assessment and video interviewing","Utah; Colorado; New York; Virginia; Oregon; Michigan","https://www.hirevue.com/careers",300,2004,{"$f":"_xlfn.CONCAT(Table3[[#This Row],[Company]:[Year Founded]]&\" \")","v":"HireVue Artificial Intelligence AI-based platform that offers talent assessment and video interviewing Utah; Colorado; New York; Virginia; Oregon; Michigan https://www.hirevue.com/careers 300 2004 "},{"$f":"Table3[[#This Row],[Column26]]","v":"Sr. Manager, Sales Development Team"},"Sr. Manager, Sales Development Team","HireVue","Y","N"]
[null,"Jobot","Artificial Intelligence","AI platform for job recruiting","California","https://jobot.com/search/?q=Marketing",100,2018,{"$f":"_xlfn.CONCAT(Table3[[#This Row],[Company]:[Year Founded]]&\" \")","v":"Jobot Artificial Intelligence AI platform for job recruiting California https://jobot.com/search/?q=Marketing 100 2018 "},"Marketing Automation Manager","Marketing Automation Manager","Jobot","Y","N"]
[null,"Lemonade, Inc","Artificial Intelligence","Lemonade, Inc. operates as an insurance company. The Company offers artificial intelligence (AI) based technology for fire, property, liability, and other related insurance policy issuing and claim settlements. Lemonade serves customers in the United States.","New York","https://makers.lemonade.com/",500,2015,{"$f":"_xlfn.CONCAT(Table3[[#This Row],[Company]:[Year Founded]]&\" \")","v":"Lemonade, Inc Artificial Intelligence Lemonade, Inc. operates as an insurance company. The Company offers artificial intelligence (AI) based technology for fire, property, liability, and other related insurance policy issuing and claim settlements. Lemonade serves customers in the United States. New York https://makers.lemonade.com/ 500 2015 "},{"$f":"Table3[[#This Row],[Column26]]","v":"Treasury Manager"},"Treasury Manager","Lemonade","Y","Y","https://www.indeed.com/jobs?q=Lemonade&l=United%20States&rbc=Lemonade&jcid=af1de1260ac536a8&vjk=f8bae57e3102bcd1"]
[null,"Noodle.ai","Artificial Intelligence","AI-based supply chain execution and analytics  for the manufacturing sector.","California","https://noodle.ai/current-openings",205,2016,{"$f":"_xlfn.CONCAT(Table3[[#This Row],[Company]:[Year Founded]]&\" \")","v":"Noodle.ai Artificial Intelligence AI-based supply chain execution and analytics  for the manufacturing sector. California https://noodle.ai/current-openings 205 2016 "},"Senior Content Marketer","Senior Content Marketer","Noodle.ai","Y","Y","https://www.indeed.com/jobs?q=Noodle.ai&l=United%20States&vjk=9b125dad7ac117ae"]
[null,"o9 Solutions, Inc","Artificial Intelligence","AI-based platform that provides financial planning, revenue management and supply chain analytics solutions for businesses.","Texas","https://o9solutions.com/careers/",500,2009,{"$f":"_xlfn.CONCAT(Table3[[#This Row],[Company]:[Year Founded]]&\" \")","v":"o9 Solutions, Inc Artificial Intelligence AI-based platform that provides financial planning, revenue management and supply chain analytics solutions for businesses. Texas https://o9solutions.com/careers/ 500 2009 "},{"$f":"Table3[[#This Row],[Column26]]","v":"Delivery Manager"},"Delivery Manager","o9Solutions","NA","N"]
[null,"Onfido","Artificial Intelligence","AI-based identity verification platform, using facial biometrics ","Virginia; New York; California","https://onfido.com/jobs/",400,2012,{"$f":"_xlfn.CONCAT(Table3[[#This Row],[Company]:[Year Founded]]&\" \")","v":"Onfido Artificial Intelligence AI-based identity verification platform, using facial biometrics  Virginia; New York; California https://onfido.com/jobs/ 400 2012 "},{"$f":"Table3[[#This Row],[Column26]]","v":"Senior Customer Success Manager"},"Senior Customer Success Manager","Onfido","NA","N"]
[null,"OpenAI","Artificial Intelligence","Non-profit artificial intelligence research to develop supercomputing AI technology. Founded by Tesla CEO Elon Musk and Y Combinator chairman Sam Altman","California, Illinois","https://openai.com/jobs/",120,2015,{"$f":"_xlfn.CONCAT(Table3[[#This Row],[Company]:[Year Founded]]&\" \")","v":"OpenAI Artificial Intelligence Non-profit artificial intelligence research to develop supercomputing AI technology. Founded by Tesla CEO Elon Musk and Y Combinator chairman Sam Altman California, Illinois https://openai.com/jobs/ 120 2015 "},{"$f":"Table3[[#This Row],[Column26]]","v":"Technical Program Manager, Strategic Partnership"},"Technical Program Manager, Strategic Partnership","OpenAI","NA","Y","https://www.indeed.com/jobs?q=OpenAI&l&vjk=e08ef6fdfa92b6ce"]
[null,"Path Robotics","Artificial Intelligence","Autonomous welding robots based on proprietary artificial intelligence and computer vision algorithms.","Ohio","https://path-robotics.com/careers",35,2014,{"$f":"_xlfn.CONCAT(Table3[[#This Row],[Company]:[Year Founded]]&\" \")","v":"Path Robotics Artificial Intelligence Autonomous welding robots based on proprietary artificial intelligence and computer vision algorithms. Ohio https://path-robotics.com/careers 35 2014 "},{"$f":"Table3[[#This Row],[Column26]]","v":"NA"},"NA","Path Robotics","NA","N"]
[null,"Phenom People","Artificial Intelligence","AI platform to hire and manage employees","Pennsylvania","https://www.phenom.com/career-site",500,2011,{"$f":"_xlfn.CONCAT(Table3[[#This Row],[Company]:[Year Founded]]&\" \")","v":"Phenom People Artificial Intelligence AI platform to hire and manage employees Pennsylvania https://www.phenom.com/career-site 500 2011 "},{"$f":"Table3[[#This Row],[Column26]]","v":"Marketing Operations Manager"},"Marketing Operations Manager","Phenom People","NA","N"]
[null,"Quartic.ai","Artificial Intelligence"," AI and IIoT software provider for smart manufacturing and predictive maintenance.","Oakville","https://www.netimpactstrategies.com/careers.html",35,2017,{"$f":"_xlfn.CONCAT(Table3[[#This Row],[Company]:[Year Founded]]&\" \")","v":"Quartic.ai Artificial Intelligence  AI and IIoT software provider for smart manufacturing and predictive maintenance. Oakville https://www.netimpactstrategies.com/careers.html 35 2017 "},{"$f":"Table3[[#This Row],[Column26]]","v":"Business Development Account Executive"},"Business Development Account Executive","Quartic.ai","NA","N"]
[null,"RingDNA","Artificial Intelligence","AI digital sales platform that provides performance analytics, data-driven insights, and task automation ","California","https://www.ringdna.com/careers#open-positions",105,2012,{"$f":"_xlfn.CONCAT(Table3[[#This Row],[Company]:[Year Founded]]&\" \")","v":"RingDNA Artificial Intelligence AI digital sales platform that provides performance analytics, data-driven insights, and task automation  California https://www.ringdna.com/careers#open-positions 105 2012 "},{"$f":"Table3[[#This Row],[Column26]]","v":"NA"},"NA","RingDNA","NA","Y","https://www.indeed.com/jobs?q=RingDNA&l=United%20States&vjk=21ea9f9bf3ee4a0e"]
[null,"Scale AI","Artificial Intelligence","Training and validation data for AI-based applications.","California","https://scale.com/careers?location=All&team=All",120,2016,{"$f":"_xlfn.CONCAT(Table3[[#This Row],[Company]:[Year Founded]]&\" \")","v":"Scale AI Artificial Intelligence Training and validation data for AI-based applications. California https://scale.com/careers?location=All&team=All 120 2016 "},{"$f":"Table3[[#This Row],[Column26]]","v":"Business Operations & Strategy"},"Business Operations & Strategy","Scale","NA","N"]
[null,"Shield AI","Artificial Intelligence","AI-based aerial robots that provide outdoor and autonomous indoor ISR operations.","California","https://www.shield.ai/careers/jobs",92,2015,{"$f":"_xlfn.CONCAT(Table3[[#This Row],[Company]:[Year Founded]]&\" \")","v":"Shield AI Artificial Intelligence AI-based aerial robots that provide outdoor and autonomous indoor ISR operations. California https://www.shield.ai/careers/jobs 92 2015 "},{"$f":"Table3[[#This Row],[Column26]]","v":"Senior Business Development Account Executive"},"Senior Business Development Account Executive","SheildAI","NA","Y","https://www.indeed.com/jobs?q=Shield%20AI&l=United%20States&vjk=b09d6ed2c53afa17"]
[null,"SwanLeap","Artificial Intelligence","AI that automates supply chain and shipping.","Madison, Wisconsin","https://swanleap.com/careers/job-postings",38,2013,{"$f":"_xlfn.CONCAT(Table3[[#This Row],[Company]:[Year Founded]]&\" \")","v":"SwanLeap Artificial Intelligence AI that automates supply chain and shipping. Madison, Wisconsin https://swanleap.com/careers/job-postings 38 2013 "},{"$f":"Table3[[#This Row],[Column26]]","v":"NA"},"NA","Swanleap","NA","N"]
[null,"Thought Spot","Artificial Intelligence","Search and AI-driven analytics","California; Texas; Washington;","https://www.thoughtspot.com/careers-listing",577,2012,{"$f":"_xlfn.CONCAT(Table3[[#This Row],[Company]:[Year Founded]]&\" \")","v":"Thought Spot Artificial Intelligence Search and AI-driven analytics California; Texas; Washington; https://www.thoughtspot.com/careers-listing 577 2012 "},"Sr Growth Marketing Manager","Sr Growth Marketing Manager","Thought Spot","Y","N"]
[null,"Tiger Analytics","Artificial Intelligence","Advanced analytics and AI for businesses","California; New Jersey ; Illinois;\nVirginia; Ohio; Texas; Georgia, Alabama; Colorado; ","https://www.tigeranalytics.com/current-openings/",250,2011,{"$f":"_xlfn.CONCAT(Table3[[#This Row],[Company]:[Year Founded]]&\" \")","v":"Tiger Analytics Artificial Intelligence Advanced analytics and AI for businesses California; New Jersey ; Illinois;\nVirginia; Ohio; Texas; Georgia, Alabama; Colorado;  https://www.tigeranalytics.com/current-openings/ 250 2011 "},"Field Marketing Manager","Finance Manager","Tiger Analytics","Y","Y","https://www.indeed.com/jobs?q=Tiger%20Analytics&explvl=senior_level&vjk=439f7f1176aded79"]
[null,"Turbonomic","Artificial Intelligence","AI resource management platform to match application demand to infrastructure supply","Massachusetts; New York","https://www.turbonomic.com/company/careers/open-roles/",551,2009,{"$f":"_xlfn.CONCAT(Table3[[#This Row],[Company]:[Year Founded]]&\" \")","v":"Turbonomic Artificial Intelligence AI resource management platform to match application demand to infrastructure supply Massachusetts; New York https://www.turbonomic.com/company/careers/open-roles/ 551 2009 "},{"$f":"Table3[[#This Row],[Column26]]","v":"Project Manager"},"Project Manager","Turbonomic","NA","N"]
[null,"Visionx","Artificial Intelligence"," AI-based machine vision systems","California; New York","https://visionx.io/careers/corporate/digital-marketing-manager",160,2017,{"$f":"_xlfn.CONCAT(Table3[[#This Row],[Company]:[Year Founded]]&\" \")","v":"Visionx Artificial Intelligence  AI-based machine vision systems California; New York https://visionx.io/careers/corporate/digital-marketing-manager 160 2017 "},{"$f":"Table3[[#This Row],[Column26]]","v":"NA"},"NA","VisionX","NA","N"]
[null,"Warby Parker","Artificial Intelligence","AI platform for 3D sizing and fitting of eyeglasses","New York","https://www.warbyparker.com/",396,2010,{"$f":"_xlfn.CONCAT(Table3[[#This Row],[Company]:[Year Founded]]&\" \")","v":"Warby Parker Artificial Intelligence AI platform for 3D sizing and fitting of eyeglasses New York https://www.warbyparker.com/ 396 2010 "},"Director, Growth Marketing","Director, Growth Marketing","Warby Parker","Y","Y","https://www.indeed.com/jobs?q=Warby%20Parker&l=United%20States&vjk=1854c1162f971eb5"]
[null,"Workforce Logic","Artificial Intelligence"," AI-powered workforce intelligence, technology, and services; optimizes remote work force","Florida; Kansas; Washington","https://www.workforcelogiq.com/about/join-our-team/",1000,1999,{"$f":"_xlfn.CONCAT(Table3[[#This Row],[Company]:[Year Founded]]&\" \")","v":"Workforce Logic Artificial Intelligence  AI-powered workforce intelligence, technology, and services; optimizes remote work force Florida; Kansas; Washington https://www.workforcelogiq.com/about/join-our-team/ 1000 1999 "},{"$f":"Table3[[#This Row],[Column26]]","v":"Manager, Business Operations"},"Manager, Business Operations","Workforce Logic","NA","N"]
[null," Brooks ","Biotechnology","Automation, vacuum, and instrumentation solutions for semiconductor manufacturing, life sciences, and other industries","Massachusetts; Texas; California","https://careers.brooks.com/job-search",3000,1978,{"$f":"_xlfn.CONCAT(Table3[[#This Row],[Company]:[Year Founded]]&\" \")","v":" Brooks  Biotechnology Automation, vacuum, and instrumentation solutions for semiconductor manufacturing, life sciences, and other industries Massachusetts; Texas; California https://careers.brooks.com/job-search 3000 1978 "},{"$f":"Table3[[#This Row],[Column26]]","v":"Senior Director Sales Operations"},"Senior Director Sales Operations","Brooks","NA","Y","https://www.indeed.com/jobs?q=%C2%A0Brooks&explvl=senior_level&vjk=076f5853000f6a7a"]
[null,"10x Genomics, Inc","Biotechnology","Genome sequencing software and hardware ","California","https://www.10xgenomics.com/careers#openings",713,2012,{"$f":"_xlfn.CONCAT(Table3[[#This Row],[Company]:[Year Founded]]&\" \")","v":"10x Genomics, Inc Biotechnology Genome sequencing software and hardware  California https://www.10xgenomics.com/careers#openings 713 2012 "},{"$f":"Table3[[#This Row],[Column26]]","v":"Senior Manager , Planning"},"Senior Manager , Planning","10x Genomics, Inc","NA","N"]
[null,"Abbvie","Biotechnology","Biopharmaceuticals and small molecule drugs. Its products include Humira, Imbruvica, and Lupron.","Illinois; Massachusetts; California; DC; Peterborough","https://www.abbvie.com/careers.html?utm_campaign=cc_herenow_2020_rep&utm_medium=psearch&utm_source=google&utm_content=sitelink&utm_term=Career",30000,2013,{"$f":"_xlfn.CONCAT(Table3[[#This Row],[Company]:[Year Founded]]&\" \")","v":"Abbvie Biotechnology Biopharmaceuticals and small molecule drugs. Its products include Humira, Imbruvica, and Lupron. Illinois; Massachusetts; California; DC; Peterborough https://www.abbvie.com/careers.html?utm_campaign=cc_herenow_2020_rep&utm_medium=psearch&utm_source=google&utm_content=sitelink&utm_term=Career 30000 2013 "},"Associate Director, Global Risk Management - Finance","Associate Director, Global Risk Management - Finance","Abbvie","Y","Y","https://www.indeed.com/jobs?q=Abbvie&l=United%20States&vjk=fefd39698eae3475"]
[null,"Adicet Bio","Biotechnology","Adicet Bio researches, develops and commercializes novel immunotherapies for the treatment of cancer.","California; New York","https://www.adicetbio.com/careers/overview/",63,2014,{"$f":"_xlfn.CONCAT(Table3[[#This Row],[Company]:[Year Founded]]&\" \")","v":"Adicet Bio Biotechnology Adicet Bio researches, develops and commercializes novel immunotherapies for the treatment of cancer. California; New York https://www.adicetbio.com/careers/overview/ 63 2014 "},{"$f":"Table3[[#This Row],[Column26]]","v":"Senior Program Manager / Associate Director, Program Management"},"Senior Program Manager / Associate Director, Program Management","Adicet Bio","NA","Y","https://www.indeed.com/jobs?q=Adicet%20Bio&explvl=senior_level&vjk=050fbe48e4570d89"]
[null,"Algernon Pharmeceuticals","Biotechnology","Clinical-stage pharmaceutical development company focused on the areas of non–alcoholic steatohepatitis, chronic kidney disease, inflammatory bowel disease, and idiopathic pulmonary fibrosis","Vancouver","https://algernonpharmaceuticals.com/",3,2015,{"$f":"_xlfn.CONCAT(Table3[[#This Row],[Company]:[Year Founded]]&\" \")","v":"Algernon Pharmeceuticals Biotechnology Clinical-stage pharmaceutical development company focused on the areas of non–alcoholic steatohepatitis, chronic kidney disease, inflammatory bowel disease, and idiopathic pulmonary fibrosis Vancouver https://algernonpharmaceuticals.com/ 3 2015 "},{"$f":"Table3[[#This Row],[Column26]]","v":"NA"},"NA","Algernon Pharmeceuticals","NA","N"]
[null,"AOBiome Therapeutics","Biotechnology","Therapeutics for inflammatory conditions, central nervous system disorders and other systemic diseases. Proprietary product includes a type of Ammonia Oxidizing Bacteria","Massachusetts","https://www.aobiome.com/about/careers-at-aobiome/",141,2013,{"$f":"_xlfn.CONCAT(Table3[[#This Row],[Company]:[Year Founded]]&\" \")","v":"AOBiome Therapeutics Biotechnology Therapeutics for inflammatory conditions, central nervous system disorders and other systemic diseases. Proprietary product includes a type of Ammonia Oxidizing Bacteria Massachusetts https://www.aobiome.com/about/careers-at-aobiome/ 141 2013 "},{"$f":"Table3[[#This Row],[Column26]]","v":"NA"},"NA","AOBiome Therapeutics","NA","N"]
[null,"Arrowhead Pharmaceuticals Inc","Biotechnology","RNA-interference mechanisms to treat intractable diseases ","California; Wisconsin","https://arrowheadpharma.com/careers/",134,1989,{"$f":"_xlfn.CONCAT(Table3[[#This Row],[Company]:[Year Founded]]&\" \")","v":"Arrowhead Pharmaceuticals Inc Biotechnology RNA-interference mechanisms to treat intractable diseases  California; Wisconsin https://arrowheadpharma.com/careers/ 134 1989 "},{"$f":"Table3[[#This Row],[Column26]]","v":"Sr. Program Manager/Associate Director, Program Management"},"Sr. Program Manager/Associate Director, Program Management","Arrowhead Pharmaceuticals Inc","NA","N"]
[null,"Astarte Medical","Biotechnology","SaaS-based predictive analytics platform that offers clinical data to assess preterm infants' health.","Pennsylvania","http://astartemedical.com/careers-2/",26,2016,{"$f":"_xlfn.CONCAT(Table3[[#This Row],[Company]:[Year Founded]]&\" \")","v":"Astarte Medical Biotechnology SaaS-based predictive analytics platform that offers clinical data to assess preterm infants' health. Pennsylvania http://astartemedical.com/careers-2/ 26 2016 "},{"$f":"Table3[[#This Row],[Column26]]","v":"NA"},"NA","Astarte Medical","NA","N"]
[null,"Axial Biotherapeutics","Biotechnology","Novel therapeutics for the treatment of central nervous system disorders.","Massachusetts","https://www.axialbiotherapeutics.com/careers/",45,2013,{"$f":"_xlfn.CONCAT(Table3[[#This Row],[Company]:[Year Founded]]&\" \")","v":"Axial Biotherapeutics Biotechnology Novel therapeutics for the treatment of central nervous system disorders. Massachusetts https://www.axialbiotherapeutics.com/careers/ 45 2013 "},{"$f":"Table3[[#This Row],[Column26]]","v":"NA"},"NA","Axial Biotherapeutics","NA","N"]
[null,"Azitra","Biotechnology","Microbiome-based novel therapeutics for the treatment of skin diseases.","Connecticut","https://azitrainc.com/contact/",50,2014,{"$f":"_xlfn.CONCAT(Table3[[#This Row],[Company]:[Year Founded]]&\" \")","v":"Azitra Biotechnology Microbiome-based novel therapeutics for the treatment of skin diseases. Connecticut https://azitrainc.com/contact/ 50 2014 "},{"$f":"Table3[[#This Row],[Column26]]","v":"NA"},"NA","Azitra","NA","N"]
[null,"BennuBio, Inc. ","Biotechnology","Flow cytometers using parallel acoustic cellular positioning analysis","New Mexico","https://www.bennubio.com/",12,2018,{"$f":"_xlfn.CONCAT(Table3[[#This Row],[Company]:[Year Founded]]&\" \")","v":"BennuBio, Inc.  Biotechnology Flow cytometers using parallel acoustic cellular positioning analysis New Mexico https://www.bennubio.com/ 12 2018 "},"National Account Manager","National Account Manager","BennuBio","Y","Y","https://www.indeed.com/jobs?q=BennuBio%2C%20Inc.%20&l=United%20States&vjk=6c2a1f3f8887d4eb"]
[null,"BioNTech","Biotechnology","Cancer and Covid-19 therapeutics","Massachusetts; Germany","https://jobs.biontech.de/?sel_language=eng",1000,2008,{"$f":"_xlfn.CONCAT(Table3[[#This Row],[Company]:[Year Founded]]&\" \")","v":"BioNTech Biotechnology Cancer and Covid-19 therapeutics Massachusetts; Germany https://jobs.biontech.de/?sel_language=eng 1000 2008 "},{"$f":"Table3[[#This Row],[Column26]]","v":"Director, Strategy and Portfolio Management"},"Director, Strategy and Portfolio Management","BioNTech","NA","N"]
[null,"CalciMedica","Biotechnology","development of novel calcium release-activated calcium (CRAC) channel inhibitors for the treatment of inflammatory and autoimmune disorders and organ transplant rejection. Also, therapeutics targeting Covid-19","California","https://www.calcimedica.com/company",35,2006,{"$f":"_xlfn.CONCAT(Table3[[#This Row],[Company]:[Year Founded]]&\" \")","v":"CalciMedica Biotechnology development of novel calcium release-activated calcium (CRAC) channel inhibitors for the treatment of inflammatory and autoimmune disorders and organ transplant rejection. Also, therapeutics targeting Covid-19 California https://www.calcimedica.com/company 35 2006 "},{"$f":"Table3[[#This Row],[Column26]]","v":"NA"},"NA","CalciMedica","NA","N"]
[null,"Cellero","Biotechnology","Biomaterials and characterized immune cells for cell therapy developers.","Massachusetts; Tennessee; Washington","https://cellero.com/about/careers/",21,2018,{"$f":"_xlfn.CONCAT(Table3[[#This Row],[Company]:[Year Founded]]&\" \")","v":"Cellero Biotechnology Biomaterials and characterized immune cells for cell therapy developers. Massachusetts; Tennessee; Washington https://cellero.com/about/careers/ 21 2018 "},{"$f":"Table3[[#This Row],[Column26]]","v":"Sr. Client Manager"},"Sr. Client Manager","Cellero","NA","N"]
[null,"Cogstate","Biotechnology","Cognitive science software and services","Connecticut","https://www.cogstate.com/careers/",153,1999,{"$f":"_xlfn.CONCAT(Table3[[#This Row],[Company]:[Year Founded]]&\" \")","v":"Cogstate Biotechnology Cognitive science software and services Connecticut https://www.cogstate.com/careers/ 153 1999 "},{"$f":"Table3[[#This Row],[Column26]]","v":"NA"},"NA","Cogstate","NA","N"]
[null,"Coherus Biosciences","Biotechnology","Biologic therapeutics for the treatment of oncology and inflammatory diseases.","California","https://www.coherus.com/join-our-team/openings/",232,2010,{"$f":"_xlfn.CONCAT(Table3[[#This Row],[Company]:[Year Founded]]&\" \")","v":"Coherus Biosciences Biotechnology Biologic therapeutics for the treatment of oncology and inflammatory diseases. California https://www.coherus.com/join-our-team/openings/ 232 2010 "},{"$f":"Table3[[#This Row],[Column26]]","v":"Vice President, Marketing"},"Vice President, Marketing",{"$f":"Table3[[#This Row],[Company]]","v":"Coherus Biosciences"},"NA","Y","https://www.indeed.com/jobs?q=Coherus%20Biosciences&l&vjk=1f2517b2523ff949"]
[null,"CSL Behring","Biotechnology","Protein-based therapies for the treatment of bleeding disorders and pulmonary diseases.","Pennsylvania; Ottawa","https://www.cslbehring.com/careers",25000,1904,{"$f":"_xlfn.CONCAT(Table3[[#This Row],[Company]:[Year Founded]]&\" \")","v":"CSL Behring Biotechnology Protein-based therapies for the treatment of bleeding disorders and pulmonary diseases. Pennsylvania; Ottawa https://www.cslbehring.com/careers 25000 1904 "},{"$f":"Table3[[#This Row],[Column26]]","v":"Senior Manager Finance Business Partner"},"Senior Manager Finance Business Partner","CSL Behring","NA","Y","https://www.indeed.com/jobs?q=CSL%20Behring&l&vjk=2d70904657bb5cf7"]
[null,"Cytokinetics","Biotechnology","Novel small molecule therapeutics","California","https://cytokinetics.com/company/careers/job-opportunities/?gh_jid=4764434002&gh_src=7fc824972us",130,1998,{"$f":"_xlfn.CONCAT(Table3[[#This Row],[Company]:[Year Founded]]&\" \")","v":"Cytokinetics Biotechnology Novel small molecule therapeutics California https://cytokinetics.com/company/careers/job-opportunities/?gh_jid=4764434002&gh_src=7fc824972us 130 1998 "},{"$f":"Table3[[#This Row],[Column26]]","v":"Director, Financial Planning and Analysis"},"Director, Financial Planning and Analysis",{"$f":"Table3[[#This Row],[Company]]","v":"Cytokinetics"},"NA","Y","https://www.indeed.com/jobs?q=Cytokinetics&explvl=senior_level&vjk=99a373ff756b2c42"]
[null,"DayTwo","Biotechnology","Online personalized nutrition and insights for diabetes patients.","California; Int'l HQ: Tel Aviv, Israel","https://www.daytwo.com/careers/",75,2015,{"$f":"_xlfn.CONCAT(Table3[[#This Row],[Company]:[Year Founded]]&\" \")","v":"DayTwo Biotechnology Online personalized nutrition and insights for diabetes patients. California; Int'l HQ: Tel Aviv, Israel https://www.daytwo.com/careers/ 75 2015 "},{"$f":"Table3[[#This Row],[Column26]]","v":"Product Manager"},"Product Manager","DayTwo","NA","N"]
[null,"Evelo Biosciences","Biotechnology","Oral biological therapeutics for the treatment of cancer and immuno-inflammatory diseases.","Massachusetts","https://evelobio.com/careers/",75,2014,{"$f":"_xlfn.CONCAT(Table3[[#This Row],[Company]:[Year Founded]]&\" \")","v":"Evelo Biosciences Biotechnology Oral biological therapeutics for the treatment of cancer and immuno-inflammatory diseases. Massachusetts https://evelobio.com/careers/ 75 2014 "},{"$f":"Table3[[#This Row],[Column26]]","v":"Director of Operations"},"Director of Operations","Evelo Biosciences","NA","N"]
[null,"Exelixis, Inc","Biotechnology","Small molecule therapies for the treatment of cancer.","California","https://careers.peopleclick.com/careerscp/client_exelixis/external/results/searchResult.html",484,1994,{"$f":"_xlfn.CONCAT(Table3[[#This Row],[Company]:[Year Founded]]&\" \")","v":"Exelixis, Inc Biotechnology Small molecule therapies for the treatment of cancer. California https://careers.peopleclick.com/careerscp/client_exelixis/external/results/searchResult.html 484 1994 "},{"$f":"Table3[[#This Row],[Column26]]","v":"Senior Market Planning Manager"},"Senior Market Planning Manager","Exelixis, Inc.","NA","N"]
[null,"Finch Therapeutics","Biotechnology","Novel microbiome therapies for the treatment of autism spectrum disorder.","Massachusetts","http://finchtherapeutics.com/join-finch",112,2016,{"$f":"_xlfn.CONCAT(Table3[[#This Row],[Company]:[Year Founded]]&\" \")","v":"Finch Therapeutics Biotechnology Novel microbiome therapies for the treatment of autism spectrum disorder. Massachusetts http://finchtherapeutics.com/join-finch 112 2016 "},{"$f":"Table3[[#This Row],[Column26]]","v":"NA"},"NA","Finch Therapeutics","NA","N"]
[null,"Fortress Biotech Inc","Biotechnology","Novel immunotherapy biologic agents for the treatment of autoimmune diseases and cancer.","New York; Massachusetts","https://www.fortressbiotech.com/careers",88,2006,{"$f":"_xlfn.CONCAT(Table3[[#This Row],[Company]:[Year Founded]]&\" \")","v":"Fortress Biotech Inc Biotechnology Novel immunotherapy biologic agents for the treatment of autoimmune diseases and cancer. New York; Massachusetts https://www.fortressbiotech.com/careers 88 2006 "},{"$f":"Table3[[#This Row],[Column26]]","v":"Director, New Business Development"},"Director, New Business Development","Fortress Biotech Inc","NA","N"]
[null,"Genentech","Biotechnology","Therapeutics. Products include Tamiflu and Valium ","California; Oregon","https://www.gene.com/careers",13000,1976,{"$f":"_xlfn.CONCAT(Table3[[#This Row],[Company]:[Year Founded]]&\" \")","v":"Genentech Biotechnology Therapeutics. Products include Tamiflu and Valium  California; Oregon https://www.gene.com/careers 13000 1976 "},"R&D FINANCE ENTERPRISE PARTNER","R&D FINANCE ENTERPRISE PARTNER","Genentech","Y","Y","https://www.indeed.com/jobs?q=Genentech&l=United%20States&vjk=c6cf31fffd667e33"]
[null,"Ginkgo Bioworks","Biotechnology","Custom microbes for agriculture, cosmetics and food sectors.","Massachusetts","https://www.ginkgobioworks.com/careers/",350,2008,{"$f":"_xlfn.CONCAT(Table3[[#This Row],[Company]:[Year Founded]]&\" \")","v":"Ginkgo Bioworks Biotechnology Custom microbes for agriculture, cosmetics and food sectors. Massachusetts https://www.ginkgobioworks.com/careers/ 350 2008 "},{"$f":"Table3[[#This Row],[Column26]]","v":"Manager, Business Operations -FINANCE"},"Manager, Business Operations -FINANCE","Ginkgo Bioworks","NA","Y","https://www.indeed.com/jobs?q=Ginkgo%20Bioworks&l&vjk=2e1251a983a918cb"]
[null,"Helix","Biotechnology","Personal genomics, comprehensive DNA sequencing, and bioinformatics.","California","https://www.helix.com/pages/careers",149,2015,{"$f":"_xlfn.CONCAT(Table3[[#This Row],[Company]:[Year Founded]]&\" \")","v":"Helix Biotechnology Personal genomics, comprehensive DNA sequencing, and bioinformatics. California https://www.helix.com/pages/careers 149 2015 "},"\nAssociate Director, Market Access\n","Senior Manager, Life Sciences Product Marketing",null,"Y","Y","https://www.indeed.com/jobs?q=Helix&explvl=senior_level&vjk=fc925d47eb74fb5b"]
[null,"Illumina","Biotechnology","Integrated systems for  analysis of genetic variation and biological function.","California; Wisconsin; Vancouver","https://www.illumina.com/company/careers.html",7300,1998,{"$f":"_xlfn.CONCAT(Table3[[#This Row],[Company]:[Year Founded]]&\" \")","v":"Illumina Biotechnology Integrated systems for  analysis of genetic variation and biological function. California; Wisconsin; Vancouver https://www.illumina.com/company/careers.html 7300 1998 "},"Associate Director, Strategic/M&A Finance","Associate Director, Strategic/M&A Finance",null,"Y","Y","https://www.indeed.com/jobs?q=Illumina&l=United%20States&vjk=851b3956635afd51"]
[null,"Molecular Templates, Inc.","Biotechnology","Immunotoxins for the treatment of cancer.","Texas","https://mtem.com/careers/",68,2009,{"$f":"_xlfn.CONCAT(Table3[[#This Row],[Company]:[Year Founded]]&\" \")","v":"Molecular Templates, Inc. Biotechnology Immunotoxins for the treatment of cancer. Texas https://mtem.com/careers/ 68 2009 "},{"$f":"Table3[[#This Row],[Column26]]","v":"MANAGER, FINANCIAL REPORTING & CONTROLS"},"MANAGER, FINANCIAL REPORTING & CONTROLS","Molecular Templates, Inc.","NA","N"]
[null,"NanoString","Biotechnology","Cancer diagnostics tools.","Washington; California; Massachusetts","https://www.nanostring.com/company/careers",476,2003,{"$f":"_xlfn.CONCAT(Table3[[#This Row],[Company]:[Year Founded]]&\" \")","v":"NanoString Biotechnology Cancer diagnostics tools. Washington; California; Massachusetts https://www.nanostring.com/company/careers 476 2003 "},{"$f":"Table3[[#This Row],[Column26]]","v":"Regional Account Manager"},"Regional Account Manager","NanoString"]
[null,"Precision BioSciences","Biotechnology","Precision develops a genome editing platform that provides immuno-oncology therapeutics for the treatment of cancer.","North Carolina","https://precisionbiosciences.com/careers/",220,2006,{"$f":"_xlfn.CONCAT(Table3[[#This Row],[Company]:[Year Founded]]&\" \")","v":"Precision BioSciences Biotechnology Precision develops a genome editing platform that provides immuno-oncology therapeutics for the treatment of cancer. North Carolina https://precisionbiosciences.com/careers/ 220 2006 "},{"$f":"Table3[[#This Row],[Column26]]","v":"NA"},"NA","Precision BioSciences","NA","Y","https://www.indeed.com/jobs?q=Precision%20BioSciences&explvl=senior_level&vjk=19a079d4cbe0614d"]
[null,"Principia Biopharma","Biotechnology","Small molecule drugs to treat immune-mediated diseases.","California","https://www.principiabio.com/culture/careers/",69,2008,{"$f":"_xlfn.CONCAT(Table3[[#This Row],[Company]:[Year Founded]]&\" \")","v":"Principia Biopharma Biotechnology Small molecule drugs to treat immune-mediated diseases. California https://www.principiabio.com/culture/careers/ 69 2008 "},{"$f":"Table3[[#This Row],[Column26]]","v":"Senior Manager, Market Development"},"Senior Manager, Market Development","Principia Biopharma","NA","N"]
[null,"Qualigen","Biotechnology","Novel therapeutics for the treatment of cancer and infectious diseases.","California","https://www.qualigeninc.com/about-us/careers/",5,1996,{"$f":"_xlfn.CONCAT(Table3[[#This Row],[Company]:[Year Founded]]&\" \")","v":"Qualigen Biotechnology Novel therapeutics for the treatment of cancer and infectious diseases. California https://www.qualigeninc.com/about-us/careers/ 5 1996 "},{"$f":"Table3[[#This Row],[Column26]]","v":"NA"},"NA","Qualigen","NA","N"]
[null,"Regenxbio, Inc","Biotechnology","Adeno-associated viral gene therapies for treatment of lysosomal storage disorders and ocular diseases.","Maryland","https://recruiting.ultipro.com/REG1004RGXI/JobBoard/c3499c89-5822-404b-8c79-23508f53953f/?q=&o=postedDateDesc",192,2009,{"$f":"_xlfn.CONCAT(Table3[[#This Row],[Company]:[Year Founded]]&\" \")","v":"Regenxbio, Inc Biotechnology Adeno-associated viral gene therapies for treatment of lysosomal storage disorders and ocular diseases. Maryland https://recruiting.ultipro.com/REG1004RGXI/JobBoard/c3499c89-5822-404b-8c79-23508f53953f/?q=&o=postedDateDesc 192 2009 "},{"$f":"Table3[[#This Row],[Column26]]","v":"Senior Manager, Statistical Programming"},"Senior Manager, Statistical Programming","Regenxbio, Inc","NA","N"]
[null,"Sage Therapeutics","Biotechnology","Novel therapeutics for central nervous system disorders.","Massachusetts; North Carolina","https://careers.sagerx.com/c/general-administrative-jobs",637,2010,{"$f":"_xlfn.CONCAT(Table3[[#This Row],[Company]:[Year Founded]]&\" \")","v":"Sage Therapeutics Biotechnology Novel therapeutics for central nervous system disorders. Massachusetts; North Carolina https://careers.sagerx.com/c/general-administrative-jobs 637 2010 "},{"$f":"Table3[[#This Row],[Column26]]","v":"Director, Sales Effectiveness and Analytics"},"Director, Sales Effectiveness and Analytics","Sage Therapeutics","NA","Y","https://www.indeed.com/jobs?q=Sage%20Therapeutics&l=United%20States&start=20&vjk=d8142405fdb730c0"]
[null,"Sarepta Therapeutics, Inc","Biotechnology","RNA therapeutics for the treatment of neuromuscular diseases.","Massachusetts; Rhode Island","https://www.sarepta.com/join-us",499,1980,{"$f":"_xlfn.CONCAT(Table3[[#This Row],[Company]:[Year Founded]]&\" \")","v":"Sarepta Therapeutics, Inc Biotechnology RNA therapeutics for the treatment of neuromuscular diseases. Massachusetts; Rhode Island https://www.sarepta.com/join-us 499 1980 "},{"$f":"Table3[[#This Row],[Column26]]","v":"Associate Director, Global Program Management"},"Associate Director, Global Program Management","Sarepta Therapeutics, Inc","NA","N"]
[null,"Scioto Biosciences","Biotechnology","Microbiome-based therapeutics to treat brain and bowel diseases.","Indiana","https://careers.iuhealth.org/career-information/professional-and-business-support-careers",20,2017,{"$f":"_xlfn.CONCAT(Table3[[#This Row],[Company]:[Year Founded]]&\" \")","v":"Scioto Biosciences Biotechnology Microbiome-based therapeutics to treat brain and bowel diseases. Indiana https://careers.iuhealth.org/career-information/professional-and-business-support-careers 20 2017 "},{"$f":"Table3[[#This Row],[Column26]]","v":"NA"},"NA","Scioto Biosciences","NA","N"]
[null,"Seres Therapeutics","Biotechnology","Ecobiotic therapeutic products.","Massachusetts","https://www.serestherapeutics.com/",145,2010,{"$f":"_xlfn.CONCAT(Table3[[#This Row],[Company]:[Year Founded]]&\" \")","v":"Seres Therapeutics Biotechnology Ecobiotic therapeutic products. Massachusetts https://www.serestherapeutics.com/ 145 2010 "},{"$f":"Table3[[#This Row],[Column26]]","v":"Director, Head of Internal Operations & Manufacturing "},"Director, Head of Internal Operations & Manufacturing ","Seres Therapeutics","NA","N"]
[null,"SiteOne Therapeutics","Biotechnology","Novel therapeutics for pain management","Montana","https://www.siteonetherapeutics.com/",15,2010,{"$f":"_xlfn.CONCAT(Table3[[#This Row],[Company]:[Year Founded]]&\" \")","v":"SiteOne Therapeutics Biotechnology Novel therapeutics for pain management Montana https://www.siteonetherapeutics.com/ 15 2010 "},{"$f":"Table3[[#This Row],[Column26]]","v":"NA"},"NA","SiteOne Therapeutics","NA","N"]
[null,"Spark Therapeutics, Inc","Biotechnology","Therapeutics to treat hemophilia and neurodegenerative diseases.","Pennsylvania","https://careers.sparktx.com/search/?createNewAlert=false&q=&locationsearch=United+states",450,2011,{"$f":"_xlfn.CONCAT(Table3[[#This Row],[Company]:[Year Founded]]&\" \")","v":"Spark Therapeutics, Inc Biotechnology Therapeutics to treat hemophilia and neurodegenerative diseases. Pennsylvania https://careers.sparktx.com/search/?createNewAlert=false&q=&locationsearch=United+states 450 2011 "},{"$f":"Table3[[#This Row],[Column26]]","v":"Lead Finance Business Partner, Business Development and Analytics"},"Lead Finance Business Partner, Business Development and Analytics","Spark Therapeutics, Inc","NA","N"]
[null,"Statistics & Data Corporation (SDC)","Biotechnology","Clinical trial services for pharmaceutical, biologic, and medical device/diagnostic companies.","Arizona, Massachusetts","https://www.sdcclinical.com/careers/open-positions/",124,2005,{"$f":"_xlfn.CONCAT(Table3[[#This Row],[Company]:[Year Founded]]&\" \")","v":"Statistics & Data Corporation (SDC) Biotechnology Clinical trial services for pharmaceutical, biologic, and medical device/diagnostic companies. Arizona, Massachusetts https://www.sdcclinical.com/careers/open-positions/ 124 2005 "},"Director Business Development",null,null,"Y","Y","https://www.indeed.com/jobs?q=Statistics%20%26%20Data%20Corporation%20(SDC)&l&vjk=ef6c0e5177c7f9a8"]
[null,"Synthego","Biotechnology","Engineered cells, CRISPR genome engineering, and bioinformatics","California","https://www.synthego.com/careers",250,2012,{"$f":"_xlfn.CONCAT(Table3[[#This Row],[Company]:[Year Founded]]&\" \")","v":"Synthego Biotechnology Engineered cells, CRISPR genome engineering, and bioinformatics California https://www.synthego.com/careers 250 2012 "},{"$f":"Table3[[#This Row],[Column26]]","v":"NA"},"NA","Synthego","NA","N"]
[null,"Vedanta Biosciences","Biotechnology","Novel therapies for the treatment of immune-mediated diseases.","Massachusetts","https://www.vedantabio.com/careers",85,2010,{"$f":"_xlfn.CONCAT(Table3[[#This Row],[Company]:[Year Founded]]&\" \")","v":"Vedanta Biosciences Biotechnology Novel therapies for the treatment of immune-mediated diseases. Massachusetts https://www.vedantabio.com/careers 85 2010 "},{"$f":"Table3[[#This Row],[Column26]]","v":"Senior Manager/Associate Director, Manufacturing"},"Senior Manager/Associate Director, Manufacturing","Vedanta Biosciences","Y","Y","https://www.indeed.com/jobs?q=Vedanta%20Biosciences&l&vjk=a0a36818faeeeb49"]
[null,"Viome","Biotechnology","AI-based platform for personalized diet and nutritional regimens","California; New Mexico; New York; Washington","https://www.viome.com/careers",111,2016,{"$f":"_xlfn.CONCAT(Table3[[#This Row],[Company]:[Year Founded]]&\" \")","v":"Viome Biotechnology AI-based platform for personalized diet and nutritional regimens California; New Mexico; New York; Washington https://www.viome.com/careers 111 2016 "},"Marketing Director, Diagnostics",null,null,"Y","Y","https://www.indeed.com/jobs?q=Viome&l=United%20States&vjk=8b858b53f813b00c"]
[null,"Xphyto Therapeutics","Biotechnology","Science-focused cannabis company developing analytical testing, processing, and formulation capability through strategic alliances in Canada.","Vancouver","https://www.xphyto.com/",7,2018,{"$f":"_xlfn.CONCAT(Table3[[#This Row],[Company]:[Year Founded]]&\" \")","v":"Xphyto Therapeutics Biotechnology Science-focused cannabis company developing analytical testing, processing, and formulation capability through strategic alliances in Canada. Vancouver https://www.xphyto.com/ 7 2018 "},{"$f":"Table3[[#This Row],[Column26]]","v":"NA"},"NA","Xphyto Therapeutics","NA","N"]
[null,"Zymergen","Biotechnology","Molecular products for industrial fermentation applications","California; Idaho; Massachusetts; Washington","https://www.zymergen.com/careers/",600,2013,{"$f":"_xlfn.CONCAT(Table3[[#This Row],[Company]:[Year Founded]]&\" \")","v":"Zymergen Biotechnology Molecular products for industrial fermentation applications California; Idaho; Massachusetts; Washington https://www.zymergen.com/careers/ 600 2013 "},"Financial Planning and Analysis Manager",null,null,"Y","Y","https://www.indeed.com/jobs?q=Zymergen&l=United%20States&vjk=baef98d21e4de6b0"]
[null,"AbsenceSoft","Cloud Technology","Cloud-based platform for employee absence management.","Colorado","https://www.absencesoft.com/careers/",47,2013,{"$f":"_xlfn.CONCAT(Table3[[#This Row],[Company]:[Year Founded]]&\" \")","v":"AbsenceSoft Cloud Technology Cloud-based platform for employee absence management. Colorado https://www.absencesoft.com/careers/ 47 2013 "},"Content Marketing Manager",null,null,"NA","N"]
[null,"Acumen Solutions","Cloud Technology","Enterprise cloud and digital solutions for various sectors, including manufacturing, media and health/life sciences.","Virginia, US","https://www.acumensolutions.com/careers",1100,1999,{"$f":"_xlfn.CONCAT(Table3[[#This Row],[Company]:[Year Founded]]&\" \")","v":"Acumen Solutions Cloud Technology Enterprise cloud and digital solutions for various sectors, including manufacturing, media and health/life sciences. Virginia, US https://www.acumensolutions.com/careers 1100 1999 "},"Project Manager",null,null,"Y","N"]
[null,"Akamai Technologies, Inc. ","Cloud Technology","Commerical cloud services.","Massachusetts; Georgia; Washington; Illinois; Colorado; Florida; New York; California; Oregon; Virginia; Ontario","https://akamaicareers.inflightcloud.com/search?searchable=%5B%5D",7600,1998,{"$f":"_xlfn.CONCAT(Table3[[#This Row],[Company]:[Year Founded]]&\" \")","v":"Akamai Technologies, Inc.  Cloud Technology Commerical cloud services. Massachusetts; Georgia; Washington; Illinois; Colorado; Florida; New York; California; Oregon; Virginia; Ontario https://akamaicareers.inflightcloud.com/search?searchable=%5B%5D 7600 1998 "},"Program Manager, Customer Success (Customer Voice)",null,null,"Y","Y","https://www.indeed.com/jobs?q=Akamai%20Technologies%2C%20Inc.&explvl=senior_level&vjk=f9e1a7d8363a1277"]
[null,"Amazon Web Services","Cloud Technology","Infrastructure platform that offers cloud computing services to businesses, governments and consumers. Amazon subsidiary.","Washington","https://aws.amazon.com/careers/",25000,2006,{"$f":"_xlfn.CONCAT(Table3[[#This Row],[Company]:[Year Founded]]&\" \")","v":"Amazon Web Services Cloud Technology Infrastructure platform that offers cloud computing services to businesses, governments and consumers. Amazon subsidiary. Washington https://aws.amazon.com/careers/ 25000 2006 "},"Business Operations Manager (Multiple locations), AWS Commerce Platform- Global Business Operations",null,null,"Y","Y","https://www.indeed.com/jobs?q=Amazon%20Web%20Services&explvl=senior_level&vjk=f7500835d1b6dd7e"]
[null,"Appfolio","Cloud Technology","Cloud-based property management software for student housing, commercial and residential markets.","California","https://www.appfolioinc.com/jobs-openings",916,2006,{"$f":"_xlfn.CONCAT(Table3[[#This Row],[Company]:[Year Founded]]&\" \")","v":"Appfolio Cloud Technology Cloud-based property management software for student housing, commercial and residential markets. California https://www.appfolioinc.com/jobs-openings 916 2006 "},"Sr. Director, Business Operations",null,null,"Y","Y","https://www.indeed.com/jobs?q=Appfolio&explvl=senior_level&vjk=bdf307838d39d58c"]
[null,"Asure Software, Inc","Cloud Technology","Cloud-based workforce and workspace management ","Texas; Washington; Vermont; California; Florida; North Carolina; Georgia; Oregon; Nevada; Tennessee; New York; Arizona","https://www.asuresoftware.com/contact/careers",550,1985,{"$f":"_xlfn.CONCAT(Table3[[#This Row],[Company]:[Year Founded]]&\" \")","v":"Asure Software, Inc Cloud Technology Cloud-based workforce and workspace management  Texas; Washington; Vermont; California; Florida; North Carolina; Georgia; Oregon; Nevada; Tennessee; New York; Arizona https://www.asuresoftware.com/contact/careers 550 1985 "},{"$f":"Table3[[#This Row],[Column26]]","v":"Account Manager"},"Account Manager","Asure Software, Inc","Y","Y","https://www.indeed.com/jobs?q=Asure%20Software%2C%20Inc&l=United%20States&vjk=aba08e49623b3999"]
[null,"Atscale","Cloud Technology","Cloud-based data platform for business intelligence and data virtualization ","California; Massachusetts; Illinois; New York","https://www.atscale.com/careers/",95,2013,{"$f":"_xlfn.CONCAT(Table3[[#This Row],[Company]:[Year Founded]]&\" \")","v":"Atscale Cloud Technology Cloud-based data platform for business intelligence and data virtualization  California; Massachusetts; Illinois; New York https://www.atscale.com/careers/ 95 2013 "},{"$f":"Table3[[#This Row],[Column26]]","v":"Customer Success Manager"},"Customer Success Manager","Atscale","NA","N"]
[null,"Avalara","Cloud Technology","Cloud-based software platform that delivers sales tax automation and compliance solutions.","Washington; North Carolina; Wisconsin; Colorado; Texas; California; Kansas; Toronto","https://www.avalara.com/us/en/about/jobs/job-openings.html",2000,2004,{"$f":"_xlfn.CONCAT(Table3[[#This Row],[Company]:[Year Founded]]&\" \")","v":"Avalara Cloud Technology Cloud-based software platform that delivers sales tax automation and compliance solutions. Washington; North Carolina; Wisconsin; Colorado; Texas; California; Kansas; Toronto https://www.avalara.com/us/en/about/jobs/job-openings.html 2000 2004 "},"Customer Excellence Manager",null,null,"Y","Y","https://www.indeed.com/jobs?q=Avalara&explvl=senior_level&vjk=b5782c8966c6c073"]
[null,"Axcient","Cloud Technology","Cloud-based data backup, disaster recovery, business continuity, data warehousing and analytics ","Colorado","https://axcient.com/careers/",255,2006,{"$f":"_xlfn.CONCAT(Table3[[#This Row],[Company]:[Year Founded]]&\" \")","v":"Axcient Cloud Technology Cloud-based data backup, disaster recovery, business continuity, data warehousing and analytics  Colorado https://axcient.com/careers/ 255 2006 "},{"$f":"Table3[[#This Row],[Column26]]","v":"Partner Success Marketing Manager"},"Partner Success Marketing Manager","Axcient","Y","Y","https://www.indeed.com/jobs?q=Axcient&l=United%20States&vjk=e0e6be37713ed41d"]
[null,"BOX, Inc","Cloud Technology","Cloud content management solutions.","California; Texas; New York; Toronto","https://careers.box.com/",2000,2005,{"$f":"_xlfn.CONCAT(Table3[[#This Row],[Company]:[Year Founded]]&\" \")","v":"BOX, Inc Cloud Technology Cloud content management solutions. California; Texas; New York; Toronto https://careers.box.com/ 2000 2005 "},"Events & Channel Marketing Manager",null,null,"NA","Y","https://www.indeed.com/jobs?q=BOX%2C%20Inc&l&vjk=4d0b127b9a36a866"]
[null,"CallRail","Cloud Technology","Cloud-based, data-driven platform for call tracking and market analytics","Georgia","https://www.callrail.com/about/careers/",184,2011,{"$f":"_xlfn.CONCAT(Table3[[#This Row],[Company]:[Year Founded]]&\" \")","v":"CallRail Cloud Technology Cloud-based, data-driven platform for call tracking and market analytics Georgia https://www.callrail.com/about/careers/ 184 2011 "},{"$f":"Table3[[#This Row],[Column26]]","v":"Performance Marketing Manager"},"Performance Marketing Manager","CallRail","NA","Y","https://www.indeed.com/jobs?q=CallRail&l=United%20States&vjk=43f2786de8791e05"]
[null,"CampusLogic","Cloud Technology","Cloud-based student engagement platform that enables colleges and universities to provide personalized financial aid.","Arizona","https://campuslogic.com/company/careers/career-opportunities/",170,2011,{"$f":"_xlfn.CONCAT(Table3[[#This Row],[Company]:[Year Founded]]&\" \")","v":"CampusLogic Cloud Technology Cloud-based student engagement platform that enables colleges and universities to provide personalized financial aid. Arizona https://campuslogic.com/company/careers/career-opportunities/ 170 2011 "},{"$f":"Table3[[#This Row],[Column26]]","v":"NA"},"NA","CampusLogic","NA","N"]
[null,"Carbonite","Cloud Technology","Cloud-based platform for backup, data protection and recovery ","Massachusetts; Illinois; California; Indiana; Maine; Utah; Washington; Mississauga","https://www.carbonite.com/",959,2005,{"$f":"_xlfn.CONCAT(Table3[[#This Row],[Company]:[Year Founded]]&\" \")","v":"Carbonite Cloud Technology Cloud-based platform for backup, data protection and recovery  Massachusetts; Illinois; California; Indiana; Maine; Utah; Washington; Mississauga https://www.carbonite.com/ 959 2005 "},{"$f":"Table3[[#This Row],[Column26]]","v":"NA"},"NA","Carbonite","NA","N"]
[null,"CDW","Cloud Technology","Cloud computing IT solutions and hardware products for education and healthcare organizations.","Illinois","https://www.cdwjobs.com/",8500,1984,{"$f":"_xlfn.CONCAT(Table3[[#This Row],[Company]:[Year Founded]]&\" \")","v":"CDW Cloud Technology Cloud computing IT solutions and hardware products for education and healthcare organizations. Illinois https://www.cdwjobs.com/ 8500 1984 "},"Services Brand Manager",null,null,"Y","Y","https://www.indeed.com/jobs?q=CDW&explvl=senior_level&vjk=b79e03cd5aa30201"]
[null,"Century Link","Cloud Technology","Hybrid networking, cloud connectivity, and security for consumer and commercial sectors.","Louisiana; Georgia; Missouri; Illinois; Colorado; California; Texas; Virginia; Florida; Washington; Massachusetts; New Jersey; Mississauga","https://jobs.centurylink.com/search/?createNewAlert=false&q=",42500,1930,{"$f":"_xlfn.CONCAT(Table3[[#This Row],[Company]:[Year Founded]]&\" \")","v":"Century Link Cloud Technology Hybrid networking, cloud connectivity, and security for consumer and commercial sectors. Louisiana; Georgia; Missouri; Illinois; Colorado; California; Texas; Virginia; Florida; Washington; Massachusetts; New Jersey; Mississauga https://jobs.centurylink.com/search/?createNewAlert=false&q= 42500 1930 "},"Senior Operations Service Manager ",null,null,"NA","Y"]
[null,"Civitas Learning","Cloud Technology","Cloud-based platform that offers academic planning, class scheduling and career guidance for students.","Texas","https://www.civitaslearning.com/about/careers/#open",170,2011,{"$f":"_xlfn.CONCAT(Table3[[#This Row],[Company]:[Year Founded]]&\" \")","v":"Civitas Learning Cloud Technology Cloud-based platform that offers academic planning, class scheduling and career guidance for students. Texas https://www.civitaslearning.com/about/careers/#open 170 2011 "},"Director of Customer Development",null,null,"NA","N"]
[null,"Cloudian","Cloud Technology","A software company specializing in cloud storage.","California","https://cloudian.com/company/careers/",250,2011,{"$f":"_xlfn.CONCAT(Table3[[#This Row],[Company]:[Year Founded]]&\" \")","v":"Cloudian Cloud Technology A software company specializing in cloud storage. California https://cloudian.com/company/careers/ 250 2011 "},{"$f":"Table3[[#This Row],[Column26]]","v":"Channel Marketing Mgr - West Coast"},"Channel Marketing Mgr - West Coast","Cloudian","NA","N"]
[null,"Cloudminds","Cloud Technology","Applications to support cloud connected smart machines","California","https://www.en.cloudminds.com/",716,2015,{"$f":"_xlfn.CONCAT(Table3[[#This Row],[Company]:[Year Founded]]&\" \")","v":"Cloudminds Cloud Technology Applications to support cloud connected smart machines California https://www.en.cloudminds.com/ 716 2015 "},{"$f":"Table3[[#This Row],[Column26]]","v":"NA"},"NA","Cloudminds","NA","N"]
[null,"Coconut Software","Cloud Technology","Cloud-based appointment scheduling software for enterprise financial services ","Saskatoon; Toronto","https://www.coconutsoftware.com/careers/",50,2007,{"$f":"_xlfn.CONCAT(Table3[[#This Row],[Company]:[Year Founded]]&\" \")","v":"Coconut Software Cloud Technology Cloud-based appointment scheduling software for enterprise financial services  Saskatoon; Toronto https://www.coconutsoftware.com/careers/ 50 2007 "},{"$f":"Table3[[#This Row],[Column26]]","v":"Events Manager, Marketing"},"Events Manager, Marketing","Coconut Software","NA","N"]
[null,"Coda","Cloud Technology","Cloud-based document editor ","California","https://coda.io/jobs",60,2014,{"$f":"_xlfn.CONCAT(Table3[[#This Row],[Company]:[Year Founded]]&\" \")","v":"Coda Cloud Technology Cloud-based document editor  California https://coda.io/jobs 60 2014 "},"Product Manager - Growth",null,null,"NA","N"]
[null,"Cohesity","Cloud Technology","Cloud-based platform that offers data fragmentation, backup and disaster recovery solutions for government and healthcare sectors.","California; New York","https://www.cohesity.com/company/careers/open-positions/",1200,2013,{"$f":"_xlfn.CONCAT(Table3[[#This Row],[Company]:[Year Founded]]&\" \")","v":"Cohesity Cloud Technology Cloud-based platform that offers data fragmentation, backup and disaster recovery solutions for government and healthcare sectors. California; New York https://www.cohesity.com/company/careers/open-positions/ 1200 2013 "},{"$f":"Table3[[#This Row],[Column26]]","v":"Sr. Manager, Alliances Marketing"},"Sr. Manager, Alliances Marketing","Cohesity","Y","Y","https://www.indeed.com/jobs?q=Cohesity&l=United%20States&vjk=7e4af757f330f801"]
[null,"Coupa Software","Cloud Technology","Cloud-based platform that offers commerical spend management and analysis solutions.","California; Florida; Massachusetts; Ohio; New York; Pennsylvania; Nevada; Washington; New Jersey","https://www.coupa.com/job-openings/",1200,2006,{"$f":"_xlfn.CONCAT(Table3[[#This Row],[Company]:[Year Founded]]&\" \")","v":"Coupa Software Cloud Technology Cloud-based platform that offers commerical spend management and analysis solutions. California; Florida; Massachusetts; Ohio; New York; Pennsylvania; Nevada; Washington; New Jersey https://www.coupa.com/job-openings/ 1200 2006 "},"Director, Customer Value Management - West Coast",null,null,"Y","Y","https://www.indeed.com/jobs?q=Coupa%20Software&explvl=senior_level&start=10&vjk=c9b3d5095b63e29f"]
[null,"Coveo","Cloud Technology","Scalable cloud platform ","Quebec","https://www.coveo.com/en/company/careers/open-positions#t=career-search&numberOfResults=9",500,2005,{"$f":"_xlfn.CONCAT(Table3[[#This Row],[Company]:[Year Founded]]&\" \")","v":"Coveo Cloud Technology Scalable cloud platform  Quebec https://www.coveo.com/en/company/careers/open-positions#t=career-search&numberOfResults=9 500 2005 "},{"$f":"Table3[[#This Row],[Column26]]","v":"Customer Success Manager"},"Customer Success Manager","Coveo","Y","Y","https://www.indeed.com/jobs?q=Coveo&l=United%20States&vjk=b85d8a2c0926405c"]
[null,"Cumulus Networks","Cloud Technology","Cloud-based web-scaling, switching and operating system for data center operators.","California; North Carolina","https://cumulusnetworks.com/about/careers/",220,2010,{"$f":"_xlfn.CONCAT(Table3[[#This Row],[Company]:[Year Founded]]&\" \")","v":"Cumulus Networks Cloud Technology Cloud-based web-scaling, switching and operating system for data center operators. California; North Carolina https://cumulusnetworks.com/about/careers/ 220 2010 "},{"$f":"Table3[[#This Row],[Column26]]","v":"Product Marketing Manager, Enterprise Edge"},"Product Marketing Manager, Enterprise Edge","Cumulus Networks","Y","N"]
[null,"Datameer","Cloud Technology","Cloud-based Big Data analytics platform ","California; New York","https://www.datameer.com/careers/",230,2009,{"$f":"_xlfn.CONCAT(Table3[[#This Row],[Company]:[Year Founded]]&\" \")","v":"Datameer Cloud Technology Cloud-based Big Data analytics platform  California; New York https://www.datameer.com/careers/ 230 2009 "},{"$f":"Table3[[#This Row],[Column26]]","v":"Account Executive"},"Account Executive","Datameer","NA","N"]
[null,"Datto","Cloud Technology","\nThe world’s leading provider of cloud-based software and security solutions purpose-built for delivery by managed service providers (MSPs).","Connecticut; Massachusetts; New York; Markham","https://www.datto.com/careers/job-board",1700,2007,{"$f":"_xlfn.CONCAT(Table3[[#This Row],[Company]:[Year Founded]]&\" \")","v":"Datto Cloud Technology \nThe world’s leading provider of cloud-based software and security solutions purpose-built for delivery by managed service providers (MSPs). Connecticut; Massachusetts; New York; Markham https://www.datto.com/careers/job-board 1700 2007 "},{"$f":"Table3[[#This Row],[Column26]]","v":"Product Marketing Manager, End User Content"},"Product Marketing Manager, End User Content","Datto","Y","Y","https://www.indeed.com/jobs?q=Datto&l=United%20States&vjk=1833cddf09669005"]
[null,"Dialpad, Inc","Cloud Technology","Enterprise cloud phone system ","California; Texas; New York; North Carolina; California; Kitchener","https://www.dialpad.com/careers/filter/All/Anywhere-_US/",450,2011,{"$f":"_xlfn.CONCAT(Table3[[#This Row],[Company]:[Year Founded]]&\" \")","v":"Dialpad, Inc Cloud Technology Enterprise cloud phone system  California; Texas; New York; North Carolina; California; Kitchener https://www.dialpad.com/careers/filter/All/Anywhere-_US/ 450 2011 "},{"$f":"Table3[[#This Row],[Column26]]","v":"Customer Success Manager"},"Customer Success Manager","Dialpad, Inc","NA","Y","https://www.indeed.com/jobs?q=Dialpad&l=United%20States&vjk=81c3c049c58cb540"]
[null,"DISCO","Cloud Technology","AI-powered cloud-based eDiscovery and other software for lawyers in private, corporate and government practice","Texas","https://www.csdisco.com/careers",250,2013,{"$f":"_xlfn.CONCAT(Table3[[#This Row],[Company]:[Year Founded]]&\" \")","v":"DISCO Cloud Technology AI-powered cloud-based eDiscovery and other software for lawyers in private, corporate and government practice Texas https://www.csdisco.com/careers 250 2013 "},{"$f":"Table3[[#This Row],[Column26]]","v":"Client Success Manager"},"Client Success Manager","DISCO","NA","N"]
[null,"Domo, Inc","Cloud Technology","Cloud-based platform for business intelligence, data visualization, reporting and analytics","Utah; Georgia; Nevada","https://www.domo.com/company/careers",761,2010,{"$f":"_xlfn.CONCAT(Table3[[#This Row],[Company]:[Year Founded]]&\" \")","v":"Domo, Inc Cloud Technology Cloud-based platform for business intelligence, data visualization, reporting and analytics Utah; Georgia; Nevada https://www.domo.com/company/careers 761 2010 "},{"$f":"Table3[[#This Row],[Column26]]","v":"Product Marketing Manager"},"Product Marketing Manager","Domo, Inc","NA","N"]
[null,"Dropbox","Cloud Technology","Cloud-based platform that enables businesses, governments, and individuals to store and share digital content.","California","https://www.dropbox.com/jobs/all-jobs",2300,2007,{"$f":"_xlfn.CONCAT(Table3[[#This Row],[Company]:[Year Founded]]&\" \")","v":"Dropbox Cloud Technology Cloud-based platform that enables businesses, governments, and individuals to store and share digital content. California https://www.dropbox.com/jobs/all-jobs 2300 2007 "},"Vice President, Product Strategy",null,null,"Y","N"]
[null,"Eagle Eye Networks","Cloud Technology","Cloud based security and video management systems.","Texas","https://www.een.com/company/careers/",116,2012,{"$f":"_xlfn.CONCAT(Table3[[#This Row],[Company]:[Year Founded]]&\" \")","v":"Eagle Eye Networks Cloud Technology Cloud based security and video management systems. Texas https://www.een.com/company/careers/ 116 2012 "},{"$f":"Table3[[#This Row],[Column26]]","v":"Vice President, Global Marketing"},"Vice President, Global Marketing","Eagle Eye Networks","NA","N"]
[null,"Ellucian","Cloud Technology","Cloud-based software and services provider for colleges and universities through their student information systems, finance, human resourcing, retention, analytics and advancemenet software ","Virginia; Texas; Florida; Pennsylvania; New York","https://careers.ellucian.com/us/en",3300,1968,{"$f":"_xlfn.CONCAT(Table3[[#This Row],[Company]:[Year Founded]]&\" \")","v":"Ellucian Cloud Technology Cloud-based software and services provider for colleges and universities through their student information systems, finance, human resourcing, retention, analytics and advancemenet software  Virginia; Texas; Florida; Pennsylvania; New York https://careers.ellucian.com/us/en 3300 1968 "},{"$f":"Table3[[#This Row],[Column26]]","v":"VP, Customer Success"},"VP, Customer Success","Ellucian","Y","Y","https://www.indeed.com/jobs?q=Ellucian&l=United%20States&vjk=df5a600cf2d3e3fe"]
[null,"Equinix","Cloud Technology","Digital business platform that facilitates interconnection between networks, clouds, data, people, and businesses through a global network of colocation data centers.","California; Virginia; Georgia; Massachusetts; Florida; New Jersey; Illinois; Texas; Colorado; New York; Washington; Pennsylvania; Massachusetts; Toronto","https://www.equinix.com/company/careers/",7273,1998,{"$f":"_xlfn.CONCAT(Table3[[#This Row],[Company]:[Year Founded]]&\" \")","v":"Equinix Cloud Technology Digital business platform that facilitates interconnection between networks, clouds, data, people, and businesses through a global network of colocation data centers. California; Virginia; Georgia; Massachusetts; Florida; New Jersey; Illinois; Texas; Colorado; New York; Washington; Pennsylvania; Massachusetts; Toronto https://www.equinix.com/company/careers/ 7273 1998 "},"Corporate Development Sr. Director, Strategy – Tech/Product",null,null,"NA","Y","https://www.indeed.com/jobs?q=Equinix&l&vjk=98f257c9e90f941f"]
[null,"Fastly, Inc","Cloud Technology","Edge cloud platform for content delivery, image optimization, cloud security and load balancing","California; Colorado; New York; Oregon","https://www.fastly.com/about/jobs/apply?gh_jid=2077693",630,2011,{"$f":"_xlfn.CONCAT(Table3[[#This Row],[Company]:[Year Founded]]&\" \")","v":"Fastly, Inc Cloud Technology Edge cloud platform for content delivery, image optimization, cloud security and load balancing California; Colorado; New York; Oregon https://www.fastly.com/about/jobs/apply?gh_jid=2077693 630 2011 "},{"$f":"Table3[[#This Row],[Column26]]","v":"VP, Corporate Marketing"},"VP, Corporate Marketing","Fastly, Inc","NA","Y","https://www.indeed.com/jobs?q=Fastly&l=United%20States&vjk=880f375fc5b7f4c4"]
[null,"FinancialForce","Cloud Technology","Cloud-based enterprise resource planning system developed for sales and service-oriented businesses.","California; Washington; Illinois; New York; Oregon","https://www.financialforce.com/about/careers/",800,2009,{"$f":"_xlfn.CONCAT(Table3[[#This Row],[Company]:[Year Founded]]&\" \")","v":"FinancialForce Cloud Technology Cloud-based enterprise resource planning system developed for sales and service-oriented businesses. California; Washington; Illinois; New York; Oregon https://www.financialforce.com/about/careers/ 800 2009 "},{"$f":"Table3[[#This Row],[Column26]]","v":"Customer Success Manager, Commercial"},"Customer Success Manager, Commercial","FinancialForce","NA","N"]
[null,"Five9","Cloud Technology","Cloud-based contact center platform for businesses  to communicate with customers.","California; Toronto","https://www.five9.com/about/careers",1000,2001,{"$f":"_xlfn.CONCAT(Table3[[#This Row],[Company]:[Year Founded]]&\" \")","v":"Five9 Cloud Technology Cloud-based contact center platform for businesses  to communicate with customers. California; Toronto https://www.five9.com/about/careers 1000 2001 "},"Client Engagement Manager",null,null,"NA","N"]
[null,"Flexential","Cloud Technology","IT infrastructure, colocation, cloud and connectivity services","Colorado; North Carolina; Oregon","https://www.flexential.com/careers",1000,1999,{"$f":"_xlfn.CONCAT(Table3[[#This Row],[Company]:[Year Founded]]&\" \")","v":"Flexential Cloud Technology IT infrastructure, colocation, cloud and connectivity services Colorado; North Carolina; Oregon https://www.flexential.com/careers 1000 1999 "},"Web Marketing Manager",null,null,"NA","Y","https://www.indeed.com/jobs?q=Flexential&l&vjk=dbe36bdd30bf20bc"]
[null,"Flexport","Cloud Technology","Cloud-based logistics platform for supply chain","California; Georgia; Illinois; New Jersey","https://www.flexport.com/careers/jobs/",1800,2013,{"$f":"_xlfn.CONCAT(Table3[[#This Row],[Company]:[Year Founded]]&\" \")","v":"Flexport Cloud Technology Cloud-based logistics platform for supply chain California; Georgia; Illinois; New Jersey https://www.flexport.com/careers/jobs/ 1800 2013 "},{"$f":"Table3[[#This Row],[Column26]]","v":"Content Marketing Manager"},"Content Marketing Manager","Flexport","Y","Y","https://www.indeed.com/jobs?q=Flexport&l=United%20States&vjk=80ac5489793e7cb6"]
[null,"Flybits","Cloud Technology","Digital experience platform for device management, real-time mobile analytics and cloud synchronization","Toronto; New York; California","https://www.flybits.com/careers/",100,2013,{"$f":"_xlfn.CONCAT(Table3[[#This Row],[Company]:[Year Founded]]&\" \")","v":"Flybits Cloud Technology Digital experience platform for device management, real-time mobile analytics and cloud synchronization Toronto; New York; California https://www.flybits.com/careers/ 100 2013 "},{"$f":"Table3[[#This Row],[Column26]]","v":"NA"},"NA","Flybits","NA","Y","https://www.indeed.com/jobs?q=Flybits&l&vjk=ee340357c271386a"]
[null,"Flywire","Cloud Technology","Cloud-based platform that provides invoicing and payment reconciliation solutions for educational, healthcare and travel industries","Massachusetts; Illinois; Oregon; Vancouver","https://www.flywire.com/company/careers#careers-app",520,2011,{"$f":"_xlfn.CONCAT(Table3[[#This Row],[Company]:[Year Founded]]&\" \")","v":"Flywire Cloud Technology Cloud-based platform that provides invoicing and payment reconciliation solutions for educational, healthcare and travel industries Massachusetts; Illinois; Oregon; Vancouver https://www.flywire.com/company/careers#careers-app 520 2011 "},{"$f":"Table3[[#This Row],[Column26]]","v":"Demand Generation Marketing Manager"},"Demand Generation Marketing Manager","Flywire","Y","Y","https://www.indeed.com/jobs?q=Flywire&l=United%20States&vjk=36f1bbf9bb6f13e4"]
[null,"Icertis","Cloud Technology","Cloud-based platform that provides enterprise contract compliance, analytics, procurement and risk management solutions.","Washington; New Jersey; California","https://www.icertis.com/company/careers/",1300,2009,{"$f":"_xlfn.CONCAT(Table3[[#This Row],[Company]:[Year Founded]]&\" \")","v":"Icertis Cloud Technology Cloud-based platform that provides enterprise contract compliance, analytics, procurement and risk management solutions. Washington; New Jersey; California https://www.icertis.com/company/careers/ 1300 2009 "},{"$f":"Table3[[#This Row],[Column26]]","v":"Customer Engagement Manager"},"Customer Engagement Manager","Icertis","NA","N"]
[null,"ICIMS","Cloud Technology","Cloud-based platform for applicant tracking, offer management and employee onboarding","New Jersey; New York; DC","https://careers.icims.com/jobs?page=2",1000,2000,{"$f":"_xlfn.CONCAT(Table3[[#This Row],[Company]:[Year Founded]]&\" \")","v":"ICIMS Cloud Technology Cloud-based platform for applicant tracking, offer management and employee onboarding New Jersey; New York; DC https://careers.icims.com/jobs?page=2 1000 2000 "},"Sr. Customer Reference Manager",null,null,"Y","Y","https://www.indeed.com/jobs?q=ICIMS&l=United%20States&vjk=d1f4b1d68d1efc3d"]
[null,"Infinitum Electric","Cloud Technology","Printed circuit board (PCB) stator and cloud connected control electronics for industries that employ motors","Texas","https://www.infinitumelectric.com/about-us/careers",15,2016,{"$f":"_xlfn.CONCAT(Table3[[#This Row],[Company]:[Year Founded]]&\" \")","v":"Infinitum Electric Cloud Technology Printed circuit board (PCB) stator and cloud connected control electronics for industries that employ motors Texas https://www.infinitumelectric.com/about-us/careers 15 2016 "},"Senior Manager - Financial Planning and Analysis",null,null,"NA","Y","https://www.indeed.com/jobs?q=Infinitum%20Electric&l&vjk=f911f99829014da3"]
[null,"Infor","Cloud Technology","Cloud-based supply chain, ERP and financial management solutions for healthcare, chemical, defense and aerospace sectors.","New York","https://css-inforhcm-prd.inforcloudsuite.com/hcm/CandidateSelfService/controller.servlet?context.dataarea=inforhcm_prd_hcm&context.session.key.HROrganization=INFR&context.session.key.JobBoard=EXTERNAL#",17000,2002,{"$f":"_xlfn.CONCAT(Table3[[#This Row],[Company]:[Year Founded]]&\" \")","v":"Infor Cloud Technology Cloud-based supply chain, ERP and financial management solutions for healthcare, chemical, defense and aerospace sectors. New York https://css-inforhcm-prd.inforcloudsuite.com/hcm/CandidateSelfService/controller.servlet?context.dataarea=inforhcm_prd_hcm&context.session.key.HROrganization=INFR&context.session.key.JobBoard=EXTERNAL# 17000 2002 "},"Account Manager, Senior",null,null,"Y","Y","https://www.indeed.com/jobs?q=Infor&explvl=senior_level&vjk=7bf1411a64dfa9fe"]
[null,"Informatica","Cloud Technology","Cloud data management solutions ","California","https://informatica.gr8people.com/jobs?keyword=manager",4800,1993,{"$f":"_xlfn.CONCAT(Table3[[#This Row],[Company]:[Year Founded]]&\" \")","v":"Informatica Cloud Technology Cloud data management solutions  California https://informatica.gr8people.com/jobs?keyword=manager 4800 1993 "},{"$f":"Table3[[#This Row],[Column26]]","v":"Mobile Marketing Manager"},"Mobile Marketing Manager","Informatica","Y","Y","https://www.indeed.com/jobs?q=Informatica&l=United%20States&explvl=senior_level&start=20&vjk=6e635cc948159130"]
[null,"Inovalon","Cloud Technology","Cloud-based analytics and data-driven intervention platforms to the healthcare industry.","Maryland; Massachusetts; Pennsylvania; Virginia; Minnesota; Tennessee; Arizona; Georgia; Florida; DC","https://www.inovalon.com/careers/openings/",2100,1998,{"$f":"_xlfn.CONCAT(Table3[[#This Row],[Company]:[Year Founded]]&\" \")","v":"Inovalon Cloud Technology Cloud-based analytics and data-driven intervention platforms to the healthcare industry. Maryland; Massachusetts; Pennsylvania; Virginia; Minnesota; Tennessee; Arizona; Georgia; Florida; DC https://www.inovalon.com/careers/openings/ 2100 1998 "},"Senior Manager, Accounts Payable",null,null,"NA","N"]
[null,"Ivalua","Cloud Technology","Cloud-based, spend-management software.","California","https://www.ivalua.com/company/careers/",525,2000,{"$f":"_xlfn.CONCAT(Table3[[#This Row],[Company]:[Year Founded]]&\" \")","v":"Ivalua Cloud Technology Cloud-based, spend-management software. California https://www.ivalua.com/company/careers/ 525 2000 "},"Contract Lifecycle Management/Product Marketing Sr. Manager",null,null,"Y","N"]
[null,"Jaggaer","Cloud Technology","Cloud-based procurement, spend analysis, sourcing, inventory management and accounts payable solutions ","North Carolina; Illinois; Pennsylvania; New York","https://careers-jaggaer.icims.com/jobs/search?ss=1&searchRadius=5&mobile=false&width=1170&height=500&bga=true&needsRedirect=false&jan1offset=480&jun1offset=480",1100,1995,{"$f":"_xlfn.CONCAT(Table3[[#This Row],[Company]:[Year Founded]]&\" \")","v":"Jaggaer Cloud Technology Cloud-based procurement, spend analysis, sourcing, inventory management and accounts payable solutions  North Carolina; Illinois; Pennsylvania; New York https://careers-jaggaer.icims.com/jobs/search?ss=1&searchRadius=5&mobile=false&width=1170&height=500&bga=true&needsRedirect=false&jan1offset=480&jun1offset=480 1100 1995 "},{"$f":"Table3[[#This Row],[Column26]]","v":"Sr. Manager, Content Marketing"},"Sr. Manager, Content Marketing","Jaggaer","NA","N"]
[null,"Juniper Square","Cloud Technology","Cloud-based automated platform for real estate investment management","California; Texas","https://www.junipersquare.com/careers",146,2013,{"$f":"_xlfn.CONCAT(Table3[[#This Row],[Company]:[Year Founded]]&\" \")","v":"Juniper Square Cloud Technology Cloud-based automated platform for real estate investment management California; Texas https://www.junipersquare.com/careers 146 2013 "},{"$f":"Table3[[#This Row],[Column26]]","v":"Senior Content Strategy Manager"},"Senior Content Strategy Manager","Juniper Square","Y","Y","https://www.indeed.com/jobs?q=Juniper%20Square&l=United%20States&vjk=1d5af664e287e058"]
[null,"Kenna Security ","Cloud Technology","Cloud-based vulnerability management platform that helps organizations to measure risk and prioritize remediation.","California; Illinois","https://www.kennasecurity.com/careers/#section-open-positions",155,2011,{"$f":"_xlfn.CONCAT(Table3[[#This Row],[Company]:[Year Founded]]&\" \")","v":"Kenna Security  Cloud Technology Cloud-based vulnerability management platform that helps organizations to measure risk and prioritize remediation. California; Illinois https://www.kennasecurity.com/careers/#section-open-positions 155 2011 "},{"$f":"Table3[[#This Row],[Column26]]","v":"Project Manager"},"Project Manager","Kenna Security ","NA","N"]
[null,"Kronos Incorporated","Cloud Technology","Cloud-based workforce and human resources.","Massachusetts","https://careers.kronos.com/",6000,1977,{"$f":"_xlfn.CONCAT(Table3[[#This Row],[Company]:[Year Founded]]&\" \")","v":"Kronos Incorporated Cloud Technology Cloud-based workforce and human resources. Massachusetts https://careers.kronos.com/ 6000 1977 "},"Senior Manager, Corporate Strategy",null,null,"Y","N"]
[null,"LendingPoint","Cloud Technology","Cloud-based lending platform that offers short-term personal loans to borrowers with poor credit scores.","Georgia; Missouri","https://workforcenow.adp.com/mascsr/default/mdf/recruitment/recruitment.html?cid=c121f97c-433f-4a5f-ae64-81bd1e21d90c&ccId=19000101_000001&source=CC3&lang=en_US&selectedMenuKey=CareerCenter",190,2014,{"$f":"_xlfn.CONCAT(Table3[[#This Row],[Company]:[Year Founded]]&\" \")","v":"LendingPoint Cloud Technology Cloud-based lending platform that offers short-term personal loans to borrowers with poor credit scores. Georgia; Missouri https://workforcenow.adp.com/mascsr/default/mdf/recruitment/recruitment.html?cid=c121f97c-433f-4a5f-ae64-81bd1e21d90c&ccId=19000101_000001&source=CC3&lang=en_US&selectedMenuKey=CareerCenter 190 2014 "},{"$f":"Table3[[#This Row],[Column26]]","v":"VP, Credit Operations"},"VP, Credit Operations","LendingPoint","NA","N"]
[null,"LevelSet","Cloud Technology","Cloud-based platform that offers payments planning and processing solutions for construction contractors and material suppliers.","Los Angeles; Texas","https://www.levelset.com/about/careers/?location=New%20Orleans-LA",185,2007,{"$f":"_xlfn.CONCAT(Table3[[#This Row],[Company]:[Year Founded]]&\" \")","v":"LevelSet Cloud Technology Cloud-based platform that offers payments planning and processing solutions for construction contractors and material suppliers. Los Angeles; Texas https://www.levelset.com/about/careers/?location=New%20Orleans-LA 185 2007 "},{"$f":"Table3[[#This Row],[Column26]]","v":"Customer Success Manager,"},"Customer Success Manager,","LevelSet","NA","N"]
[null,"Limelight","Cloud Technology","Network that enables delivery of digital content on any device.","Arizona; Massachusetts; Vermont; Michigan; Kentucky; New York; California; Washington; Kitchener","https://chu.tbe.taleo.net/chu01/ats/careers/v2/searchResults?org=LIMENETW&cws=37#",563,2014,{"$f":"_xlfn.CONCAT(Table3[[#This Row],[Company]:[Year Founded]]&\" \")","v":"Limelight Cloud Technology Network that enables delivery of digital content on any device. Arizona; Massachusetts; Vermont; Michigan; Kentucky; New York; California; Washington; Kitchener https://chu.tbe.taleo.net/chu01/ats/careers/v2/searchResults?org=LIMENETW&cws=37# 563 2014 "},{"$f":"Table3[[#This Row],[Column26]]","v":"NA"},"NA","Limelight","NA","N"]
[null,"LogicMonitor","Cloud Technology","Cloud-based performance monitoring platform for IT infrastructures.","California; Texas; Massachusetts; New York","https://www.logicmonitor.com/careers#dept_selector",750,2008,{"$f":"_xlfn.CONCAT(Table3[[#This Row],[Company]:[Year Founded]]&\" \")","v":"LogicMonitor Cloud Technology Cloud-based performance monitoring platform for IT infrastructures. California; Texas; Massachusetts; New York https://www.logicmonitor.com/careers#dept_selector 750 2008 "},{"$f":"Table3[[#This Row],[Column26]]","v":"Senior Product Marketing Manager"},"Senior Product Marketing Manager","LogicMonitor","NA","Y","https://www.indeed.com/jobs?q=LogicMonitor&l=United%20States&vjk=636cf86dd84b30a7"]
[null,"M-Files","Cloud Technology","Enterprise content management system  to manage, secure and share information.","Texas; Fredericton","https://www.m-files.com/en/open-positions-recruiting",500,1989,{"$f":"_xlfn.CONCAT(Table3[[#This Row],[Company]:[Year Founded]]&\" \")","v":"M-Files Cloud Technology Enterprise content management system  to manage, secure and share information. Texas; Fredericton https://www.m-files.com/en/open-positions-recruiting 500 1989 "},{"$f":"Table3[[#This Row],[Column26]]","v":"Senior Director, North American Sales - Major/Enterprise Accounts "},"Senior Director, North American Sales - Major/Enterprise Accounts ","M-Files","Y","Y","https://www.indeed.com/jobs?q=M-Files&l=United%20States&start=20&vjk=08d0939fdbf12c63"]
[null,"Matillion","Cloud Technology","Cloud-based data integration ","Colorado; New York; Washington","https://www.matillion.com/about/careers/",170,2011,{"$f":"_xlfn.CONCAT(Table3[[#This Row],[Company]:[Year Founded]]&\" \")","v":"Matillion Cloud Technology Cloud-based data integration  Colorado; New York; Washington https://www.matillion.com/about/careers/ 170 2011 "},{"$f":"Table3[[#This Row],[Column26]]","v":"Customer Success Manager"},"Customer Success Manager","Matillion","Y","Y","https://www.indeed.com/jobs?q=Matillion&l=United%20States&vjk=218d01a49fef53bf"]
[null,"Meraki","Cloud Technology","cloud-managed hardware; software-defined access, WAN, and IOT","California; Illinois; New York; Alabama; Calgary","https://meraki.cisco.com/jobs",5000,2006,{"$f":"_xlfn.CONCAT(Table3[[#This Row],[Company]:[Year Founded]]&\" \")","v":"Meraki Cloud Technology cloud-managed hardware; software-defined access, WAN, and IOT California; Illinois; New York; Alabama; Calgary https://meraki.cisco.com/jobs 5000 2006 "},"Leader Customer Experience - Technology and Process Transformations",null,null,"Y","Y","https://www.indeed.com/jobs?q=Meraki&explvl=senior_level&vjk=ecb11588e5b3f773"]
[null,"MetricStream","Cloud Technology","Cloud-based platform for governance, risk, compliance and quality management ","California; New York","https://www.metricstream.com/",1300,1999,{"$f":"_xlfn.CONCAT(Table3[[#This Row],[Company]:[Year Founded]]&\" \")","v":"MetricStream Cloud Technology Cloud-based platform for governance, risk, compliance and quality management  California; New York https://www.metricstream.com/ 1300 1999 "},{"$f":"Table3[[#This Row],[Column26]]","v":"Manager, Revenue Recognition"},"Manager, Revenue Recognition","MetricStream","NA","N"]
[null,"MindBody","Cloud Technology","Cloud-based business management solutions for the health and wellness industry.","California; Georgia; Texas; Pennsylvania; New York; Arizona","https://company.mindbodyonline.com/careers/opportunities",1400,2001,{"$f":"_xlfn.CONCAT(Table3[[#This Row],[Company]:[Year Founded]]&\" \")","v":"MindBody Cloud Technology Cloud-based business management solutions for the health and wellness industry. California; Georgia; Texas; Pennsylvania; New York; Arizona https://company.mindbodyonline.com/careers/opportunities 1400 2001 "},{"$f":"Table3[[#This Row],[Column26]]","v":"Mobile Marketing Manager"},"Mobile Marketing Manager","MindBody","Y","Y","https://www.indeed.com/jobs?q=MindBody&l=United%20States&vjk=0d6c8100d9d20f39"]
[null,"Modernizing Medicine","Cloud Technology","Cloud-based electronic medical record systems for physicians.","Florida; California","https://www.modmed.com/company/careers/",750,2010,{"$f":"_xlfn.CONCAT(Table3[[#This Row],[Company]:[Year Founded]]&\" \")","v":"Modernizing Medicine Cloud Technology Cloud-based electronic medical record systems for physicians. Florida; California https://www.modmed.com/company/careers/ 750 2010 "},{"$f":"Table3[[#This Row],[Column26]]","v":"Senior Revenue Manager"},"Senior Revenue Manager","Modernizing Medicine","NA","N"]
[null,"Motus","Cloud Technology","Cloud-based platform for commercial fleet management.","Boston, Massachusetts","https://www.motus.com/careers/",230,2004,{"$f":"_xlfn.CONCAT(Table3[[#This Row],[Company]:[Year Founded]]&\" \")","v":"Motus Cloud Technology Cloud-based platform for commercial fleet management. Boston, Massachusetts https://www.motus.com/careers/ 230 2004 "},"Vice President, Data",null,null,"Y","N"]
[null,"Moveworks","Cloud Technology","Cloud-based AI platform that resolves employees' IT support issues","California","https://www.moveworks.com/careers#list-anchor",115,2016,{"$f":"_xlfn.CONCAT(Table3[[#This Row],[Company]:[Year Founded]]&\" \")","v":"Moveworks Cloud Technology Cloud-based AI platform that resolves employees' IT support issues California https://www.moveworks.com/careers#list-anchor 115 2016 "},"Business Value Services Senior Manager ",null,null,"Y","N"]
[null,"mParticle","Cloud Technology","Cloud-based platform to collect and analyze customer data in real time","New York; Washington; Florida; California","https://www.mparticle.com/careers",156,2013,{"$f":"_xlfn.CONCAT(Table3[[#This Row],[Company]:[Year Founded]]&\" \")","v":"mParticle Cloud Technology Cloud-based platform to collect and analyze customer data in real time New York; Washington; Florida; California https://www.mparticle.com/careers 156 2013 "},{"$f":"Table3[[#This Row],[Column26]]","v":"Head of Channel Partnerships and Alliances"},"Head of Channel Partnerships and Alliances","mParticle","NA","N"]
[null,"NetApp","Cloud Technology","Cloud-based software for commercial data management.","California; Colorado; Pennsylvania;  North Carolina; Oregon; Florida, Virginia; Massachusetts; Kansas; Mississauga; Vancouver","https://www.netapp.com/us/careers/index.aspx",10500,1992,{"$f":"_xlfn.CONCAT(Table3[[#This Row],[Company]:[Year Founded]]&\" \")","v":"NetApp Cloud Technology Cloud-based software for commercial data management. California; Colorado; Pennsylvania;  North Carolina; Oregon; Florida, Virginia; Massachusetts; Kansas; Mississauga; Vancouver https://www.netapp.com/us/careers/index.aspx 10500 1992 "},"Global Client Executive - Financial Services",null,null,"Y","Y","https://www.indeed.com/jobs?q=NetApp&explvl=senior_level&vjk=4e9b42850bb76724"]
[null,"New Relic","Cloud Technology","Cloud-based performance monitoring tool to optimize software performance.","California; Georgia; Arizona; Oregon","https://newrelic.com/about/careers",1200,2008,{"$f":"_xlfn.CONCAT(Table3[[#This Row],[Company]:[Year Founded]]&\" \")","v":"New Relic Cloud Technology Cloud-based performance monitoring tool to optimize software performance. California; Georgia; Arizona; Oregon https://newrelic.com/about/careers 1200 2008 "},"Associate Product Manager - Growth",null,null,"Y","N"]
[null,"New Relic, Inc","Cloud Technology","Cloud-based performance monitoring tool for developers that provides analytics and insights ","California; Georgia; Arizona; Oregon","https://newrelic.com/about/careers",1200,2008,{"$f":"_xlfn.CONCAT(Table3[[#This Row],[Company]:[Year Founded]]&\" \")","v":"New Relic, Inc Cloud Technology Cloud-based performance monitoring tool for developers that provides analytics and insights  California; Georgia; Arizona; Oregon https://newrelic.com/about/careers 1200 2008 "},{"$f":"Table3[[#This Row],[Column26]]","v":"Research Operations Program Manager"},"Research Operations Program Manager","New Relic, Inc","Y","Y","https://www.indeed.com/jobs?q=New%20Relic&l=United%20States&vjk=5f6e74d2cf847400"]
[null,"Nice inContact","Cloud Technology","Cloud contact center software ","Utah; Pennsylvania","https://www.niceincontact.com/call-center-software-company/careers",1000,1997,{"$f":"_xlfn.CONCAT(Table3[[#This Row],[Company]:[Year Founded]]&\" \")","v":"Nice inContact Cloud Technology Cloud contact center software  Utah; Pennsylvania https://www.niceincontact.com/call-center-software-company/careers 1000 1997 "},{"$f":"Table3[[#This Row],[Column26]]","v":"Senior Product Marketing Manager"},"Senior Product Marketing Manager","Nice inContact","NA","N"]
[null,"Ntirety","Cloud Technology","Cloud-based platform for remote database administration, assessment and data consulting.","Texas; Colorado; Delaware;Florida;Kentucky; Minnesota; Vancouver","https://apply.workable.com/ntirety/",600,2001,{"$f":"_xlfn.CONCAT(Table3[[#This Row],[Company]:[Year Founded]]&\" \")","v":"Ntirety Cloud Technology Cloud-based platform for remote database administration, assessment and data consulting. Texas; Colorado; Delaware;Florida;Kentucky; Minnesota; Vancouver https://apply.workable.com/ntirety/ 600 2001 "},{"$f":"Table3[[#This Row],[Column26]]","v":"Customer Success Manager"},"Customer Success Manager","Ntirety","NA","N"]
[null,"Nutanix","Cloud Technology","Enterprise cloud platform that offers server virtualization, unified communication and virtual datacenter infrastructure solutions.","California; Virginia; North Carolina; New Jersey; New York","https://nutanix.eightfold.ai/careers?location=94010%2CCalifornia%2CUnited%20States&domain=nutanix.com",5300,2009,{"$f":"_xlfn.CONCAT(Table3[[#This Row],[Company]:[Year Founded]]&\" \")","v":"Nutanix Cloud Technology Enterprise cloud platform that offers server virtualization, unified communication and virtual datacenter infrastructure solutions. California; Virginia; North Carolina; New Jersey; New York https://nutanix.eightfold.ai/careers?location=94010%2CCalifornia%2CUnited%20States&domain=nutanix.com 5300 2009 "},"Content Marketing Manager",null,null,"NA","Y","https://www.indeed.com/jobs?q=Nutanix&explvl=senior_level&vjk=f6d5e0bcfa7e4b76"]
[null,"On24","Cloud Technology","Cloud-based webcasting and virtual communications  for demand generation, partner enablement and virtual talent development.","New York; California; North Carolina","https://www.on24.com/about-us/careers/",400,1998,{"$f":"_xlfn.CONCAT(Table3[[#This Row],[Company]:[Year Founded]]&\" \")","v":"On24 Cloud Technology Cloud-based webcasting and virtual communications  for demand generation, partner enablement and virtual talent development. New York; California; North Carolina https://www.on24.com/about-us/careers/ 400 1998 "},{"$f":"Table3[[#This Row],[Column26]]","v":"Senior Product Marketing Manager"},"Senior Product Marketing Manager","On24","Y","Y","https://www.indeed.com/jobs?q=On24&l=United%20States&vjk=eb74f9d02527de03"]
[null,"OneSpan","Cloud Technology","Cloud-based platform that delivers authentication, transaction verification, e-signature and identity management solutions for insurance, government, healthcare and financial sectors.","Illinois; Montreal","https://www.onespan.com/about/careers/jobs?select_department=All&select_office=All",732,1991,{"$f":"_xlfn.CONCAT(Table3[[#This Row],[Company]:[Year Founded]]&\" \")","v":"OneSpan Cloud Technology Cloud-based platform that delivers authentication, transaction verification, e-signature and identity management solutions for insurance, government, healthcare and financial sectors. Illinois; Montreal https://www.onespan.com/about/careers/jobs?select_department=All&select_office=All 732 1991 "},{"$f":"Table3[[#This Row],[Column26]]","v":"Territory Account Manager"},"Territory Account Manager","OneSpan","Y","Y","https://www.indeed.com/jobs?q=OneSpan&l=United%20States&vjk=4f3f0c60db08b784"]
[null,"Outrider","Cloud Technology","Cloud-based software that manages and optimizes autonomous yards to dispatch and monitor freight operations.","Oregon; Colorado","https://www.outrider.ai/careers/",75,2017,{"$f":"_xlfn.CONCAT(Table3[[#This Row],[Company]:[Year Founded]]&\" \")","v":"Outrider Cloud Technology Cloud-based software that manages and optimizes autonomous yards to dispatch and monitor freight operations. Oregon; Colorado https://www.outrider.ai/careers/ 75 2017 "},{"$f":"Table3[[#This Row],[Column26]]","v":"Principal Product Manager"},"Principal Product Manager","Outrider","NA","N"]
[null,"Pagero Group","Cloud Technology","Cloud-based network platform that provides electronic invoice, order and payment services for media and healthcare industries.","Illinois","https://www.pagero.com/about-pagero/career/",330,2000,{"$f":"_xlfn.CONCAT(Table3[[#This Row],[Company]:[Year Founded]]&\" \")","v":"Pagero Group Cloud Technology Cloud-based network platform that provides electronic invoice, order and payment services for media and healthcare industries. Illinois https://www.pagero.com/about-pagero/career/ 330 2000 "},"Account Executive",null,null,"NA","N"]
[null,"Particle","Cloud Technology","Cloud-based integration platform to support IoT products.","California; Minnesota","https://www.particle.io/careers/",100,2012,{"$f":"_xlfn.CONCAT(Table3[[#This Row],[Company]:[Year Founded]]&\" \")","v":"Particle Cloud Technology Cloud-based integration platform to support IoT products. California; Minnesota https://www.particle.io/careers/ 100 2012 "},"Enterprise Account Executive",null,null,"Y","N"]
[null,"Paylocity","Cloud Technology","Cloud-based payroll and human resources.","Illinois","https://www.paylocity.com/careers/career-opportunities/",3000,1997,{"$f":"_xlfn.CONCAT(Table3[[#This Row],[Company]:[Year Founded]]&\" \")","v":"Paylocity Cloud Technology Cloud-based payroll and human resources. Illinois https://www.paylocity.com/careers/career-opportunities/ 3000 1997 "},"Operations Product Partner",null,null,"Y","Y","https://www.indeed.com/jobs?q=Paylocity&l&vjk=c854ba64ce4d86e0"]
[null,"Pitchly","Cloud Technology","Cloud-based content services platform that helps professionals to organize and manage their intellectual property.","Iowa","https://pitchly.com/careers",110,2018,{"$f":"_xlfn.CONCAT(Table3[[#This Row],[Company]:[Year Founded]]&\" \")","v":"Pitchly Cloud Technology Cloud-based content services platform that helps professionals to organize and manage their intellectual property. Iowa https://pitchly.com/careers 110 2018 "},"Account Executive",null,null,"NA","N"]
[null,"Plivo","Cloud Technology","Cloud-based API platform to build voice and Short Message Service-enabled applications.","California; Texas","https://www.plivo.com/careers/#open-positions",180,2011,{"$f":"_xlfn.CONCAT(Table3[[#This Row],[Company]:[Year Founded]]&\" \")","v":"Plivo Cloud Technology Cloud-based API platform to build voice and Short Message Service-enabled applications. California; Texas https://www.plivo.com/careers/#open-positions 180 2011 "},{"$f":"Table3[[#This Row],[Column26]]","v":"Sr. Product Marketing Manager - Sales Engagement Platform"},"Sr. Product Marketing Manager - Sales Engagement Platform","Plivo","Y","Y","https://www.indeed.com/jobs?q=Plivo&l=United%20States&vjk=3c8fd1529a880a48"]
[null,"Procore","Cloud Technology","Cloud-based construction management software that offers project collaboration, contract management and reporting solutions.","California; Texas; New York; Oregon; Minnesota; Toronto; Vancouver","https://www.procore.com/jobs/openings",1800,2002,{"$f":"_xlfn.CONCAT(Table3[[#This Row],[Company]:[Year Founded]]&\" \")","v":"Procore Cloud Technology Cloud-based construction management software that offers project collaboration, contract management and reporting solutions. California; Texas; New York; Oregon; Minnesota; Toronto; Vancouver https://www.procore.com/jobs/openings 1800 2002 "},{"$f":"Table3[[#This Row],[Column26]]","v":"Customer Success Manager"},"Customer Success Manager","Procore","Y","Y","https://www.indeed.com/jobs?q=Procore&l=United%20States&start=10&vjk=7ab0b308029b6deb"]
[null,"Productiv","Cloud Technology","Real-time SaaS engagement; its cloud-based dashboard integrates with single sign-on tools to track login activity and extract purchase and license data","California; Washington","https://boards.greenhouse.io/productiv?t=d54a7dd83",57,2018,{"$f":"_xlfn.CONCAT(Table3[[#This Row],[Company]:[Year Founded]]&\" \")","v":"Productiv Cloud Technology Real-time SaaS engagement; its cloud-based dashboard integrates with single sign-on tools to track login activity and extract purchase and license data California; Washington https://boards.greenhouse.io/productiv?t=d54a7dd83 57 2018 "},{"$f":"Table3[[#This Row],[Column26]]","v":"Mid-market Customer Success Manager"},"Mid-market Customer Success Manager","Productiv","Y","N"]
[null,"Pure Storage, Inc","Cloud Technology","Cloud-connected data management and desktop and server virtualization.","California; Georgia; Washington; Illinois; Utah; New York","https://www.purestorage.com/company/careers/opportunities.html#north-america&",2800,2009,{"$f":"_xlfn.CONCAT(Table3[[#This Row],[Company]:[Year Founded]]&\" \")","v":"Pure Storage, Inc Cloud Technology Cloud-connected data management and desktop and server virtualization. California; Georgia; Washington; Illinois; Utah; New York https://www.purestorage.com/company/careers/opportunities.html#north-america& 2800 2009 "},{"$f":"Table3[[#This Row],[Column26]]","v":"Senior Finance Manager"},"Senior Finance Manager","Pure Storage, Inc","NA","N"]
[null,"Q4","Cloud Technology","Cloud-based platform that provides quantitative and real-time shareholder analytics ","Toronto; Illinois","https://www.q4inc.com/about/default.aspx",340,2006,{"$f":"_xlfn.CONCAT(Table3[[#This Row],[Company]:[Year Founded]]&\" \")","v":"Q4 Cloud Technology Cloud-based platform that provides quantitative and real-time shareholder analytics  Toronto; Illinois https://www.q4inc.com/about/default.aspx 340 2006 "},{"$f":"Table3[[#This Row],[Column26]]","v":"Product Marketing Manager"},"Product Marketing Manager","Q4","NA","N"]
[null,"QTS ","Cloud Technology","Data center facilities for managed hosting and hybrid cloud services.","Kansas; Virginia; Georgia","https://www.qtsdatacenters.com/company/careers",606,2005,{"$f":"_xlfn.CONCAT(Table3[[#This Row],[Company]:[Year Founded]]&\" \")","v":"QTS  Cloud Technology Data center facilities for managed hosting and hybrid cloud services. Kansas; Virginia; Georgia https://www.qtsdatacenters.com/company/careers 606 2005 "},{"$f":"Table3[[#This Row],[Column26]]","v":"Director, Development Procurement"},"Director, Development Procurement","QTS ","Y","Y","https://www.indeed.com/jobs?q=QTS%20&l=United%20States&vjk=2404240939634305"]
[null,"Qumulo","Cloud Technology","Cloud-based data storage company for file backup, protection, compliance and disaster recovery ","Washington","https://qumulo.com/company/jobs/",300,2012,{"$f":"_xlfn.CONCAT(Table3[[#This Row],[Company]:[Year Founded]]&\" \")","v":"Qumulo Cloud Technology Cloud-based data storage company for file backup, protection, compliance and disaster recovery  Washington https://qumulo.com/company/jobs/ 300 2012 "},{"$f":"Table3[[#This Row],[Column26]]","v":"Territory Account Manager "},"Territory Account Manager ","Qumulo","Y","Y","https://www.indeed.com/jobs?q=Qumulo&l=United%20States&vjk=86813b437de9716e"]
[null,"Rackspace","Cloud Technology","Cloud computing, colocation, business intelligence and customer relationship management services.","Texas","https://rackspace.jobs/careers/",7000,1998,{"$f":"_xlfn.CONCAT(Table3[[#This Row],[Company]:[Year Founded]]&\" \")","v":"Rackspace Cloud Technology Cloud computing, colocation, business intelligence and customer relationship management services. Texas https://rackspace.jobs/careers/ 7000 1998 "},"NA",null,null,"Y","Y","https://www.indeed.com/jobs?q=Rackspace&l&vjk=6d2512fba2804768"]
[null,"Rubrik","Cloud Technology","Cloud-based platform for data backup, protection, analytics, compliance and recovery","California; Montreal","https://www.rubrik.com/en/company/careers",1600,2014,{"$f":"_xlfn.CONCAT(Table3[[#This Row],[Company]:[Year Founded]]&\" \")","v":"Rubrik Cloud Technology Cloud-based platform for data backup, protection, analytics, compliance and recovery California; Montreal https://www.rubrik.com/en/company/careers 1600 2014 "},"Senior Manager, Executive Engagement Programs",null,null,"Y","N"]
[null,"Sage Intacct","Cloud Technology","Cloud-based financial management software for purchasing, billing, payroll, and other accounting ","California","https://www.sageintacct.com/careers?p=jobs%2Fview-all",800,1999,{"$f":"_xlfn.CONCAT(Table3[[#This Row],[Company]:[Year Founded]]&\" \")","v":"Sage Intacct Cloud Technology Cloud-based financial management software for purchasing, billing, payroll, and other accounting  California https://www.sageintacct.com/careers?p=jobs%2Fview-all 800 1999 "},{"$f":"Table3[[#This Row],[Column26]]","v":"Sr. Manager, Internal Communications Manager"},"Sr. Manager, Internal Communications Manager","Sage Intacct","Y","Y","https://www.indeed.com/jobs?q=Sage%20Intacct&l=United%20States&start=10&vjk=3cf3855fd921c19b"]
[null,"Salsify","Cloud Technology","Cloud-based product content management solutions for manufacturers, distributors and retailers.","Massachusetts; Texas","https://www.salsify.com/careers",410,2012,{"$f":"_xlfn.CONCAT(Table3[[#This Row],[Company]:[Year Founded]]&\" \")","v":"Salsify Cloud Technology Cloud-based product content management solutions for manufacturers, distributors and retailers. Massachusetts; Texas https://www.salsify.com/careers 410 2012 "},{"$f":"Table3[[#This Row],[Column26]]","v":"VP, Revenue Marketing"},"VP, Revenue Marketing","Salsify","NA","Y","https://www.indeed.com/jobs?q=Salsify&l=United%20States&vjk=0e515d36cdc74f05"]
[null,"Sauce Labs, Inc","Cloud Technology","Cloud-based platform that offers automated testing services for web and mobile applications.","California; Texas; Vancouver","https://saucelabs.com/company/careers",280,2008,{"$f":"_xlfn.CONCAT(Table3[[#This Row],[Company]:[Year Founded]]&\" \")","v":"Sauce Labs, Inc Cloud Technology Cloud-based platform that offers automated testing services for web and mobile applications. California; Texas; Vancouver https://saucelabs.com/company/careers 280 2008 "},{"$f":"Table3[[#This Row],[Column26]]","v":"Director, Demand Generation"},"Director, Demand Generation","Sauce Labs","Y","Y","https://www.indeed.com/jobs?q=Sauce%20Labs&l=United%20States&vjk=aba08e49623b3999"]
[null,"Service Now","Cloud Technology","Cloud-based platform that digitalizes IT, employee, and customer workflows.","California; Texas; Georgia; Arkansas; Massachusetts; Missouri; Colorado; Ohio; Tennessee; Wisconsin; Michigan; Florida; Pennsylvania; Arizona; Virginia; Calgary, Toronto; Vancouver; Winnipeg; ","https://www.servicenow.com/careers.html",12000,2004,{"$f":"_xlfn.CONCAT(Table3[[#This Row],[Company]:[Year Founded]]&\" \")","v":"Service Now Cloud Technology Cloud-based platform that digitalizes IT, employee, and customer workflows. California; Texas; Georgia; Arkansas; Massachusetts; Missouri; Colorado; Ohio; Tennessee; Wisconsin; Michigan; Florida; Pennsylvania; Arizona; Virginia; Calgary, Toronto; Vancouver; Winnipeg;  https://www.servicenow.com/careers.html 12000 2004 "},"Senior Product Manager, Sales Analytics",null,null,"Y","Y","https://www.indeed.com/jobs?q=Service%20Now&explvl=senior_level&vjk=9b6c779d7d777615"]
[null,"ServiceTitan, Inc","Cloud Technology","Mobile, cloud-based software platform for home services companies ","California; Georgia","https://www.servicetitan.com/job-openings#job-section",574,2013,{"$f":"_xlfn.CONCAT(Table3[[#This Row],[Company]:[Year Founded]]&\" \")","v":"ServiceTitan, Inc Cloud Technology Mobile, cloud-based software platform for home services companies  California; Georgia https://www.servicetitan.com/job-openings#job-section 574 2013 "},{"$f":"Table3[[#This Row],[Column26]]","v":"Senior Product Marketing Manager"},"Senior Product Marketing Manager","ServiceTitan, Inc","NA","N"]
[null,"Shopify","Cloud Technology","Cloud-based, multichannel commerce platform ","Ottawa; Montreal; Toronto; Vancouver; Waterloo; New York; California","https://www.shopify.com/careers/search?locations%5B%5D=51&locations%5B%5D=56&locations%5B%5D=55&keywords=&sort=specialty_asc",1200,2004,{"$f":"_xlfn.CONCAT(Table3[[#This Row],[Company]:[Year Founded]]&\" \")","v":"Shopify Cloud Technology Cloud-based, multichannel commerce platform  Ottawa; Montreal; Toronto; Vancouver; Waterloo; New York; California https://www.shopify.com/careers/search?locations%5B%5D=51&locations%5B%5D=56&locations%5B%5D=55&keywords=&sort=specialty_asc 1200 2004 "},"Lead, Product Communications, Fulfillment and Logistics",null,null,"Y","Y","https://www.indeed.com/jobs?q=Shopify&l=United%20States&vjk=5cae342e4a06566a"]
[null,"Shopkeep","Cloud Technology","Cloud-based point of sale systems that offers payment processing, inventory management and customer marketing ","New York; Illinois; Oregon","https://www.shopkeep.com/careers#",300,2008,{"$f":"_xlfn.CONCAT(Table3[[#This Row],[Company]:[Year Founded]]&\" \")","v":"Shopkeep Cloud Technology Cloud-based point of sale systems that offers payment processing, inventory management and customer marketing  New York; Illinois; Oregon https://www.shopkeep.com/careers# 300 2008 "},{"$f":"Table3[[#This Row],[Column26]]","v":"Director of Account Management"},"Director of Account Management","Shopkeep","NA","N"]
[null,"Snowflake","Cloud Technology","Cloud-based platform to store and analyze petabyte information.","California; Georgia; Washington; Massachusetts; Illinois; Colorado; Texas; Virginia; New York; Pennsylvania; Toronto","https://www.snowflake.com/about/careers/",2000,2012,{"$f":"_xlfn.CONCAT(Table3[[#This Row],[Company]:[Year Founded]]&\" \")","v":"Snowflake Cloud Technology Cloud-based platform to store and analyze petabyte information. California; Georgia; Washington; Massachusetts; Illinois; Colorado; Texas; Virginia; New York; Pennsylvania; Toronto https://www.snowflake.com/about/careers/ 2000 2012 "},{"$f":"Table3[[#This Row],[Column26]]","v":"FINANCE DEVELOPMENT OP"},"FINANCE DEVELOPMENT OP","Snowflake","NA","N"]
[null,"Social Solutions","Cloud Technology","Performance management, cloud-based platform for nonprofits and public sector organizations. ","Maryland; Texas","https://www.socialsolutions.com/about-us/working-here/careers/",280,2000,{"$f":"_xlfn.CONCAT(Table3[[#This Row],[Company]:[Year Founded]]&\" \")","v":"Social Solutions Cloud Technology Performance management, cloud-based platform for nonprofits and public sector organizations.  Maryland; Texas https://www.socialsolutions.com/about-us/working-here/careers/ 280 2000 "},{"$f":"Table3[[#This Row],[Column26]]","v":"Customer Success Manager"},"Customer Success Manager","Social Solutions","NA","N"]
[null,"Splunk","Cloud Technology","SaaS platform to collect and analyze big data.","California; Virginia; Texas; Washington; Vancouver","https://www.splunk.com/en_us/careers.html",4400,2004,{"$f":"_xlfn.CONCAT(Table3[[#This Row],[Company]:[Year Founded]]&\" \")","v":"Splunk Cloud Technology SaaS platform to collect and analyze big data. California; Virginia; Texas; Washington; Vancouver https://www.splunk.com/en_us/careers.html 4400 2004 "},"Director, Pricing Strategy and Monetization",null,null,"NA","Y"]
[null,"SS&C","Cloud Technology","Cloud-based provider of financial services technology","Connecticut; New York; Texas; Georgia; Washington; Alabama; Minnesota; Massachusetts; Illinois; Florida; New Jersey; Ohio; Colorado; Virginia; Missouri; Utah; Kansas; California; Maryland; Maine; Michigan; Halifax; Kitchener; Mississauga; Montreal; Toronto; Vancouver","https://www.ssctech.com/about-us/careers/us-positions",22600,1986,{"$f":"_xlfn.CONCAT(Table3[[#This Row],[Company]:[Year Founded]]&\" \")","v":"SS&C Cloud Technology Cloud-based provider of financial services technology Connecticut; New York; Texas; Georgia; Washington; Alabama; Minnesota; Massachusetts; Illinois; Florida; New Jersey; Ohio; Colorado; Virginia; Missouri; Utah; Kansas; California; Maryland; Maine; Michigan; Halifax; Kitchener; Mississauga; Montreal; Toronto; Vancouver https://www.ssctech.com/about-us/careers/us-positions 22600 1986 "},{"$f":"Table3[[#This Row],[Column26]]","v":"Sales Manager"},"Sales Manager","SS&C","Y","Y","https://www.indeed.com/jobs?q=SS%26C&l=United%20States&vjk=afd86a4b7130d364"]
[null,"Sumo Logic","Cloud Technology","Cloud-based platform that offers log management and real-time data analytics services","California; Texas; Colorado; New York","https://www.sumologic.com/company/careers/#careersList",750,2010,{"$f":"_xlfn.CONCAT(Table3[[#This Row],[Company]:[Year Founded]]&\" \")","v":"Sumo Logic Cloud Technology Cloud-based platform that offers log management and real-time data analytics services California; Texas; Colorado; New York https://www.sumologic.com/company/careers/#careersList 750 2010 "},{"$f":"Table3[[#This Row],[Column26]]","v":"Customer Success Manager"},"Customer Success Manager","Sumo Logic","NA","N"]
[null,"SumTotal","Cloud Technology","Cloud-based human capital management ","Florida; Massachusetts; California; New Jersey; Iowa","https://www.skillsoft.com/about/careers/current-opportunities",945,1985,{"$f":"_xlfn.CONCAT(Table3[[#This Row],[Company]:[Year Founded]]&\" \")","v":"SumTotal Cloud Technology Cloud-based human capital management  Florida; Massachusetts; California; New Jersey; Iowa https://www.skillsoft.com/about/careers/current-opportunities 945 1985 "},{"$f":"Table3[[#This Row],[Column26]]","v":"Financial Reporting Manager"},"Financial Reporting Manager","SumTotal","Y","Y","https://www.indeed.com/jobs?q=SumTotal&l=United%20States&vjk=1e6e815851da70d8"]
[null,"Talend","Cloud Technology","Cloud data integration and master data management solutions for government, finance and retail sectors.","California; Georgia; Massachusetts; Minnesota; Pennsylvania","https://www.talend.com/about-us/careers/",1100,2005,{"$f":"_xlfn.CONCAT(Table3[[#This Row],[Company]:[Year Founded]]&\" \")","v":"Talend Cloud Technology Cloud data integration and master data management solutions for government, finance and retail sectors. California; Georgia; Massachusetts; Minnesota; Pennsylvania https://www.talend.com/about-us/careers/ 1100 2005 "},{"$f":"Table3[[#This Row],[Column26]]","v":"Manager, Corporate Development - FINANCE"},"Manager, Corporate Development - FINANCE","Talend","Y","N"]
[null,"Talkdesk","Cloud Technology","Cloud-based contact center platform t","California; Utah","https://www.talkdesk.com/careers/td?program=td&office=undefined&department=undefined&permalink=undefined#openings",1000,2011,{"$f":"_xlfn.CONCAT(Table3[[#This Row],[Company]:[Year Founded]]&\" \")","v":"Talkdesk Cloud Technology Cloud-based contact center platform t California; Utah https://www.talkdesk.com/careers/td?program=td&office=undefined&department=undefined&permalink=undefined#openings 1000 2011 "},{"$f":"Table3[[#This Row],[Column26]]","v":"Sales Director"},"Sales Director","Talkdesk","Y","Y","https://www.indeed.com/jobs?q=Talkdesk&l=United%20States&vjk=ffb72bf2406b1f25"]
[null,"TetraScience","Cloud Technology","Cloud-based IoT platform for laboratory monitoring, instrument utilization and experimental workflow","Massachusetts","https://www.tetrascience.com/company/careers#current-openings",14,2014,{"$f":"_xlfn.CONCAT(Table3[[#This Row],[Company]:[Year Founded]]&\" \")","v":"TetraScience Cloud Technology Cloud-based IoT platform for laboratory monitoring, instrument utilization and experimental workflow Massachusetts https://www.tetrascience.com/company/careers#current-openings 14 2014 "},{"$f":"Table3[[#This Row],[Column26]]","v":"Customer Success Manager"},"Customer Success Manager","TetraScience","Y","Y","https://www.indeed.com/jobs?q=TetraScience&l=United%20States&vjk=92647dffc9f4f67e"]
[null,"ThousandEyes","Cloud Technology","Network infrastructure monitoring, application troubleshoot and internet performance","California; Texas; Washington; California; New York; Toronto","https://www.thousandeyes.com/careers/sales",400,2010,{"$f":"_xlfn.CONCAT(Table3[[#This Row],[Company]:[Year Founded]]&\" \")","v":"ThousandEyes Cloud Technology Network infrastructure monitoring, application troubleshoot and internet performance California; Texas; Washington; California; New York; Toronto https://www.thousandeyes.com/careers/sales 400 2010 "},{"$f":"Table3[[#This Row],[Column26]]","v":"Sales Operations Manager"},"Sales Operations Manager","ThousandEyes","Y","Y","https://www.indeed.com/jobs?q=ThousandEyes&l=United%20States&vjk=6795af50e57a57c6"]
[null,"Tradeshift","Cloud Technology","Cloud-based for invoicing, workflow and supplier financing processes ","California; New York","https://tradeshift.com/jobs/",1200,2005,{"$f":"_xlfn.CONCAT(Table3[[#This Row],[Company]:[Year Founded]]&\" \")","v":"Tradeshift Cloud Technology Cloud-based for invoicing, workflow and supplier financing processes  California; New York https://tradeshift.com/jobs/ 1200 2005 "},{"$f":"Table3[[#This Row],[Column26]]","v":"Product Marketing Manager"},"Product Marketing Manager","Tradeshift","Y","Y","https://www.indeed.com/jobs?q=Tradeshift&l=United%20States&vjk=4ccc9111dfcc8566"]
[null,"Trifacta","Cloud Technology","Cloud-based data management platform to discover, structure, validate and publish analysis-ready data.","California; Massachusetts","https://www.trifacta.com/about-us/careers/",190,2012,{"$f":"_xlfn.CONCAT(Table3[[#This Row],[Company]:[Year Founded]]&\" \")","v":"Trifacta Cloud Technology Cloud-based data management platform to discover, structure, validate and publish analysis-ready data. California; Massachusetts https://www.trifacta.com/about-us/careers/ 190 2012 "},{"$f":"Table3[[#This Row],[Column26]]","v":"Vice President Brand Experience"},"Vice President Brand Experience","Trifacta","NA","N"]
[null,"Trintech","Cloud Technology","Cloud software to automate & manage the financial close process, balance sheet reconciliations, journal entries & legal compliance, including its proprietary product, Adra, applications for mid-sized businesses.","Addison, Texas","https://www.trintech.com/careers/",450,1993,{"$f":"_xlfn.CONCAT(Table3[[#This Row],[Company]:[Year Founded]]&\" \")","v":"Trintech Cloud Technology Cloud software to automate & manage the financial close process, balance sheet reconciliations, journal entries & legal compliance, including its proprietary product, Adra, applications for mid-sized businesses. Addison, Texas https://www.trintech.com/careers/ 450 1993 "},"Vice President, Global Sales Operations",null,null,"Y","Y","https://www.indeed.com/jobs?q=Trintech&l&vjk=c662ed1cae7862c5"]
[null,"Tulip","Cloud Technology","Cloud-based mobile platform for enterprise retail store associates.","Toronto; Kitchener; New York","https://tulip.bamboohr.com/jobs/",384,2013,{"$f":"_xlfn.CONCAT(Table3[[#This Row],[Company]:[Year Founded]]&\" \")","v":"Tulip Cloud Technology Cloud-based mobile platform for enterprise retail store associates. Toronto; Kitchener; New York https://tulip.bamboohr.com/jobs/ 384 2013 "},{"$f":"Table3[[#This Row],[Column26]]","v":"Customer Success Manager"},"Customer Success Manager","Tulip","NA","N"]
[null,"Twilio Inc","Cloud Technology","A communications software company, beat on revenue expectations, though third-quarter guidance was lower than Wall Street forecast. The stock was down 9% after hours. \nCloud-based platform for commercial digitial communications.","California; Georgia; Colorado; new York; DC","https://www.twilio.com/company/jobs",1400,2008,{"$f":"_xlfn.CONCAT(Table3[[#This Row],[Company]:[Year Founded]]&\" \")","v":"Twilio Inc Cloud Technology A communications software company, beat on revenue expectations, though third-quarter guidance was lower than Wall Street forecast. The stock was down 9% after hours. \nCloud-based platform for commercial digitial communications. California; Georgia; Colorado; new York; DC https://www.twilio.com/company/jobs 1400 2008 "},"Growth Account Executive",null,null,"Y","Y","https://www.indeed.com/jobs?q=Twilio%20Inc&l=United%20States&vjk=fe052b7cdb73b096"]
[null,"UIPath","Cloud Technology","Cloud-based platform for healthcare, retail and manufacturing sectors. ","Washington; Texas; New York; Georgia; Pennsylvania; Illinois; California; Massachusetts; Toronto","https://www.uipath.com/company/careers",2900,2015,{"$f":"_xlfn.CONCAT(Table3[[#This Row],[Company]:[Year Founded]]&\" \")","v":"UIPath Cloud Technology Cloud-based platform for healthcare, retail and manufacturing sectors.  Washington; Texas; New York; Georgia; Pennsylvania; Illinois; California; Massachusetts; Toronto https://www.uipath.com/company/careers 2900 2015 "},"Marketing Analytics Manager ",null,null,"Y","N"]
[null,"Ultimate Software","Cloud Technology","Human resources cloud storage and software.","Florida; Toronto","https://www.ultimatesoftware.com/careers/",6000,1990,{"$f":"_xlfn.CONCAT(Table3[[#This Row],[Company]:[Year Founded]]&\" \")","v":"Ultimate Software Cloud Technology Human resources cloud storage and software. Florida; Toronto https://www.ultimatesoftware.com/careers/ 6000 1990 "},"Director - Customer Success Operations and Strategic Programs",null,null,"Y","Y","https://www.indeed.com/jobs?q=Ultimate%20Software&explvl=senior_level&vjk=44abb4a68eabaf96"]
[null,"Vatica Health","Cloud Technology","Cloud-based platform that provides physician-integrated risk adjustment and clinical quality solutions.","Georgia; Tennessee","https://vaticahealth.com/careers/",125,2012,{"$f":"_xlfn.CONCAT(Table3[[#This Row],[Company]:[Year Founded]]&\" \")","v":"Vatica Health Cloud Technology Cloud-based platform that provides physician-integrated risk adjustment and clinical quality solutions. Georgia; Tennessee https://vaticahealth.com/careers/ 125 2012 "},"Account Manager - Healthcare",null,null,"NA","Y"]
[null,"Veeva Systems","Cloud Technology","Cloud-based data management and CRM solutions to the life science industries.","California; Massachusetts; Ohio; Indiana; Pennsylvania; New York; North Carolina; Toronto","https://www.veeva.com/meet-veeva/careers/",2500,2007,{"$f":"_xlfn.CONCAT(Table3[[#This Row],[Company]:[Year Founded]]&\" \")","v":"Veeva Systems Cloud Technology Cloud-based data management and CRM solutions to the life science industries. California; Massachusetts; Ohio; Indiana; Pennsylvania; New York; North Carolina; Toronto https://www.veeva.com/meet-veeva/careers/ 2500 2007 "},"Global Product Marketing Manager",null,null,"Y","N"]
[null,"Verkada","Cloud Technology","Cloud-based video surveillance platform","California","https://www.verkada.com/careers/",350,2016,{"$f":"_xlfn.CONCAT(Table3[[#This Row],[Company]:[Year Founded]]&\" \")","v":"Verkada Cloud Technology Cloud-based video surveillance platform California https://www.verkada.com/careers/ 350 2016 "},"Business Operations Manager",null,null,"NA","N"]
[null,"VM Ware","Cloud Technology","Cloud and virtualization software.","California; Georgia; texas; Washington; Massachusetts; Colorado; Virginia; ","https://careers.vmware.com/main/jobs?page=1&keywords=sales&experienceLevels=Business%20Leadership%7CExecutive%7CManager%20and%20Professional&limit=100",24200,1998,{"$f":"_xlfn.CONCAT(Table3[[#This Row],[Company]:[Year Founded]]&\" \")","v":"VM Ware Cloud Technology Cloud and virtualization software. California; Georgia; texas; Washington; Massachusetts; Colorado; Virginia;  https://careers.vmware.com/main/jobs?page=1&keywords=sales&experienceLevels=Business%20Leadership%7CExecutive%7CManager%20and%20Professional&limit=100 24200 1998 "},"Sr Manager, Strategic Partnerships ",null,null,"Y","N"]
[null,"Wave","Cloud Technology","Cloud-based software for online invoicing, accounting and billing ","Toronto","https://www.waveapps.com/about-us/careers",250,2010,{"$f":"_xlfn.CONCAT(Table3[[#This Row],[Company]:[Year Founded]]&\" \")","v":"Wave Cloud Technology Cloud-based software for online invoicing, accounting and billing  Toronto https://www.waveapps.com/about-us/careers 250 2010 "},{"$f":"Table3[[#This Row],[Column26]]","v":"Senior Manager, Data Analytics"},"Senior Manager, Data Analytics","Wave","NA","N"]
[null,"Wix.com","Cloud Technology","A cloud-based website design and development platform.","California; Florida; New York; California","https://www.wix.com/jobs/home",1000,2006,{"$f":"_xlfn.CONCAT(Table3[[#This Row],[Company]:[Year Founded]]&\" \")","v":"Wix.com Cloud Technology A cloud-based website design and development platform. California; Florida; New York; California https://www.wix.com/jobs/home 1000 2006 "},{"$f":"Table3[[#This Row],[Column26]]","v":"NA"},"NA","Wix","NA","Y","https://www.indeed.com/jobs?q=Wix&l=United%20States&start=10&vjk=10b986f990967f87"]
[null,"Workforce Software","Cloud Technology","Cloud-based workforce management platform for financial services, healthcare, energy and utilities, education, manufacturing, petrochemical, refining, retail, hospitality, and other sectors. Proprietary products include WorkForce software.","Livonia, Michigan","https://www.workforcesoftware.com/careers/",590,1999,{"$f":"_xlfn.CONCAT(Table3[[#This Row],[Company]:[Year Founded]]&\" \")","v":"Workforce Software Cloud Technology Cloud-based workforce management platform for financial services, healthcare, energy and utilities, education, manufacturing, petrochemical, refining, retail, hospitality, and other sectors. Proprietary products include WorkForce software. Livonia, Michigan https://www.workforcesoftware.com/careers/ 590 1999 "},"Global Support Manager, Virtual, United States",null,null,"Y","N"]
[null,"Workfront","Cloud Technology","Cloud-based platform for commercial management solutions.","Utah","https://www.workfront.com/careers",1000,2001,{"$f":"_xlfn.CONCAT(Table3[[#This Row],[Company]:[Year Founded]]&\" \")","v":"Workfront Cloud Technology Cloud-based platform for commercial management solutions. Utah https://www.workfront.com/careers 1000 2001 "},"Director, Marketing Strategy and Operations",null,null,"Y","Y","https://www.indeed.com/jobs?q=Workfront&explvl=senior_level&vjk=97efe2ea95e87178"]
[null,"Workiva Inc","Cloud Technology","Cloud-based platform for commercial data collaboration, reporting and compliance.","Iowa; Pennsylvania; Montana; South Carolina; Illinois; Ohio","https://www.workiva.com/careers",1300,2008,{"$f":"_xlfn.CONCAT(Table3[[#This Row],[Company]:[Year Founded]]&\" \")","v":"Workiva Inc Cloud Technology Cloud-based platform for commercial data collaboration, reporting and compliance. Iowa; Pennsylvania; Montana; South Carolina; Illinois; Ohio https://www.workiva.com/careers 1300 2008 "},"Senior Customer Marketing Manager",null,null,"NA","N"]
[null,"Xactly","Cloud Technology","Cloud-based incentive compensation solutions for employees and sales consultants.","California; Colorado; Toronto","https://www.xactlycorp.com/company/careers",800,2005,{"$f":"_xlfn.CONCAT(Table3[[#This Row],[Company]:[Year Founded]]&\" \")","v":"Xactly Cloud Technology Cloud-based incentive compensation solutions for employees and sales consultants. California; Colorado; Toronto https://www.xactlycorp.com/company/careers 800 2005 "},{"$f":"Table3[[#This Row],[Column26]]","v":"Sales Account Manager- Consulting"},"Sales Account Manager- Consulting","Xactly","NA","Y","https://www.indeed.com/jobs?q=Xactly&l=United%20States&explvl=mid_level&vjk=703ef13ce375b790"]
[null,"YEXT","Cloud Technology","Cloud-based network of apps and search engines for online brand management.","US: New York; Virginia; Georgia; Illinois; Texas; Colorado; Florida; California. Canada: Ottawa","https://www.yext.com/careers/open-positions/",900,2006,{"$f":"_xlfn.CONCAT(Table3[[#This Row],[Company]:[Year Founded]]&\" \")","v":"YEXT Cloud Technology Cloud-based network of apps and search engines for online brand management. US: New York; Virginia; Georgia; Illinois; Texas; Colorado; Florida; California. Canada: Ottawa https://www.yext.com/careers/open-positions/ 900 2006 "},"Director, Enterprise Sales",null,null,"NA","Y","https://www.indeed.com/jobs?q=YEXT&l=United%20States&vjk=bdd6adc4a1902d4a"]
[null,"Zenefits","Cloud Technology","Cloud-based human resources platform.","California; North Carolina; Arizona; Vancouver","https://www.zenefits.com/careers/?job_id=2216537",200,2013,{"$f":"_xlfn.CONCAT(Table3[[#This Row],[Company]:[Year Founded]]&\" \")","v":"Zenefits Cloud Technology Cloud-based human resources platform. California; North Carolina; Arizona; Vancouver https://www.zenefits.com/careers/?job_id=2216537 200 2013 "},"Marketing Campaign Manager",null,null,"Y","N"]
[null,"Affirmed","Communications","Affirmed develops a mobile network platform that provides IoT virtualization, network slicing and analytics solutions to businesses.","Massachusetts","http://www.affirmednetworks.com",500,2010,{"$f":"_xlfn.CONCAT(Table3[[#This Row],[Company]:[Year Founded]]&\" \")","v":"Affirmed Communications Affirmed develops a mobile network platform that provides IoT virtualization, network slicing and analytics solutions to businesses. Massachusetts http://www.affirmednetworks.com 500 2010 "},"Senior Strategic Partnerships Manager, New Business Development, Platforms",null,null,"NA","Y"]
[null,"Agora.io","Communications","Real-time voice and video communication","California","https://www.agora.io/en/careers/",190,2014,{"$f":"_xlfn.CONCAT(Table3[[#This Row],[Company]:[Year Founded]]&\" \")","v":"Agora.io Communications Real-time voice and video communication California https://www.agora.io/en/careers/ 190 2014 "},"Chief of Staff / Sr. Project Manager",null,null,"Y","N"]
[null,"Alation","Communications","Enterprise collaborative data platform ","California; Texas; Georgia; Remote","https://www.alation.com/careers/",225,2012,{"$f":"_xlfn.CONCAT(Table3[[#This Row],[Company]:[Year Founded]]&\" \")","v":"Alation Communications Enterprise collaborative data platform  California; Texas; Georgia; Remote https://www.alation.com/careers/ 225 2012 "},"Field Marketing Manager",null,null,"Y","Y","https://www.indeed.com/jobs?q=Alation&l=United%20States&vjk=e4a0d0a8fee6bc1e"]
[null,"Altiostar","Communications","Altiostar is a provider of virtualized radio access network solutions for the telecommunication industry. ","Massachusetts","http://www.altiostar.com",220,2011,{"$f":"_xlfn.CONCAT(Table3[[#This Row],[Company]:[Year Founded]]&\" \")","v":"Altiostar Communications Altiostar is a provider of virtualized radio access network solutions for the telecommunication industry.  Massachusetts http://www.altiostar.com 220 2011 "},"Sales Director Regional Carriers",null,null,"NA","N"]
[null,"Amphenol","Communications","Electrical, electronic and interconnected system components for the telecommunications sector.","Connecticut; Massachusetts; California; New Hampshire; Michigan; Pennsylvania; New York; Brossard ; Toronto Winnipeg","https://www.amphenol.com/about/careers",73600,1932,{"$f":"_xlfn.CONCAT(Table3[[#This Row],[Company]:[Year Founded]]&\" \")","v":"Amphenol Communications Electrical, electronic and interconnected system components for the telecommunications sector. Connecticut; Massachusetts; California; New Hampshire; Michigan; Pennsylvania; New York; Brossard ; Toronto Winnipeg https://www.amphenol.com/about/careers 73600 1932 "},"NA"]
[null,"AT&T","Communications","Top MBA recruiter: Telecommunications ","Texas; Calgary; Markham; Montreal; Vancouver","https://www.att.jobs/careers/",268000,1876,{"$f":"_xlfn.CONCAT(Table3[[#This Row],[Company]:[Year Founded]]&\" \")","v":"AT&T Communications Top MBA recruiter: Telecommunications  Texas; Calgary; Markham; Montreal; Vancouver https://www.att.jobs/careers/ 268000 1876 "},"Lead Marketing Program Manager",null,null,"Y","Y","https://www.indeed.com/jobs?q=AT%26T&explvl=senior_level&vjk=abb5b80cfeae33ca"]
[null,"Calendly","Communications","Scheduling application that helps users set meetings online.","Georgia","https://calendly.com/pages/jobs#jobs-section",120,2013,{"$f":"_xlfn.CONCAT(Table3[[#This Row],[Company]:[Year Founded]]&\" \")","v":"Calendly Communications Scheduling application that helps users set meetings online. Georgia https://calendly.com/pages/jobs#jobs-section 120 2013 "},"Manager, Customer Success",null,null,"NA","N"]
[null,"Centrify","Communications"," SaaS-based platform for commercial and telecommunications access management and compliance.","California; Washington; Utah","https://www.centrify.com/about-us/careers/",170,2004,{"$f":"_xlfn.CONCAT(Table3[[#This Row],[Company]:[Year Founded]]&\" \")","v":"Centrify Communications  SaaS-based platform for commercial and telecommunications access management and compliance. California; Washington; Utah https://www.centrify.com/about-us/careers/ 170 2004 "},"NA",null,null,"Y","N"]
[null,"Cisco","Communications","Top MBA recruiter: internet protocol-based networking products for communications and IT sector","California; New York; New Mexico; Alaska; Georgia; Louisiana; Washington; Arkansas; Alabama; Illinois; Minneapolis; Idaho; Massachusetts; Tennessee; Pennsylvania; Indiana; Iowa; Colorado; North Carolina; Missouri; Ohio; South Carolina; Maryland; Utah; Florida; North Dakota; Connecticut; Michigan; Virginia;Hawaii; Texas; Missouri; Oregon; Nevada; Kentucky; Wisconsin; New Jersey; Oklahoma; Nebraska; Kansas; Arizona; Mississippi; South Dakota; Vermont; Calgary; Edmonton; Halifax; Montreal; Ottawa; Quebec; Regina; Toronto; Vancouver; Winnipeg","https://jobs.cisco.com/jobs/SearchJobs/?listFilterMode=1&21178=%5B%7B%22%24JSNType%22%3A%22dataset_Option%22%2C%22value%22%3A%7B%22id%22%3A169482%2C%22name%22%3Anull%7D%7D%5D&21178_format=6020",75000,1984,{"$f":"_xlfn.CONCAT(Table3[[#This Row],[Company]:[Year Founded]]&\" \")","v":"Cisco Communications Top MBA recruiter: internet protocol-based networking products for communications and IT sector California; New York; New Mexico; Alaska; Georgia; Louisiana; Washington; Arkansas; Alabama; Illinois; Minneapolis; Idaho; Massachusetts; Tennessee; Pennsylvania; Indiana; Iowa; Colorado; North Carolina; Missouri; Ohio; South Carolina; Maryland; Utah; Florida; North Dakota; Connecticut; Michigan; Virginia;Hawaii; Texas; Missouri; Oregon; Nevada; Kentucky; Wisconsin; New Jersey; Oklahoma; Nebraska; Kansas; Arizona; Mississippi; South Dakota; Vermont; Calgary; Edmonton; Halifax; Montreal; Ottawa; Quebec; Regina; Toronto; Vancouver; Winnipeg https://jobs.cisco.com/jobs/SearchJobs/?listFilterMode=1&21178=%5B%7B%22%24JSNType%22%3A%22dataset_Option%22%2C%22value%22%3A%7B%22id%22%3A169482%2C%22name%22%3Anull%7D%7D%5D&21178_format=6020 75000 1984 "},"Cross-Functional Program Executive",null,null,"Y","Y","https://www.indeed.com/jobs?q=Cisco&explvl=senior_level&vjk=554e9298eb50beaf"]
[null,"Comcast","Communications","MakerBot is setting the standard in reliable and affordable desktop 3D printing, scanning, and entertainment.","Throughout North America","https://comcast.jibeapply.com/main/jobs",184000,1963,{"$f":"_xlfn.CONCAT(Table3[[#This Row],[Company]:[Year Founded]]&\" \")","v":"Comcast Communications MakerBot is setting the standard in reliable and affordable desktop 3D printing, scanning, and entertainment. Throughout North America https://comcast.jibeapply.com/main/jobs 184000 1963 "},"Manager, Customer Experience Strategy and Operations",null,null,"NA","Y"]
[null,"CommScope","Communications","American global network infrastructure provider \nCommunications technology and services, including management and maintenance of IT infrastructure, cable management and networking systems support.","North Carolina; New York; California; Illinois; Pennsylvania","https://careers.commscope.com/",20000,1976,{"$f":"_xlfn.CONCAT(Table3[[#This Row],[Company]:[Year Founded]]&\" \")","v":"CommScope Communications American global network infrastructure provider \nCommunications technology and services, including management and maintenance of IT infrastructure, cable management and networking systems support. North Carolina; New York; California; Illinois; Pennsylvania https://careers.commscope.com/ 20000 1976 "},"Events & Channel Marketing Manager",null,null,"NA","N"]
[null,"Crown Castle","Communications","Communications infrastructure, including cell towers, small cells, fiber.","Texas; Georgia; Ohio; Maryland; Florida; Massachusetts; Mississippi; Pennsylvania; North Carolina; Arizona; Illinois; California; New Jersey; Missouri; Colorado; New York; Florida; Tennessee; South Carolina; Alabama; Virginia; Indiana; Kentucky; Utah; Washington; Minnesota","https://www.crowncastle.com/careers/",5000,1994,{"$f":"_xlfn.CONCAT(Table3[[#This Row],[Company]:[Year Founded]]&\" \")","v":"Crown Castle Communications Communications infrastructure, including cell towers, small cells, fiber. Texas; Georgia; Ohio; Maryland; Florida; Massachusetts; Mississippi; Pennsylvania; North Carolina; Arizona; Illinois; California; New Jersey; Missouri; Colorado; New York; Florida; Tennessee; South Carolina; Alabama; Virginia; Indiana; Kentucky; Utah; Washington; Minnesota https://www.crowncastle.com/careers/ 5000 1994 "},"Project Manager",null,null,"NA","Y"]
[null,"HME","Communications","Designs, manufactures and distributes wired and wireless intercom systems for businesses and schools.","California","https://phf.tbe.taleo.net/phf02/ats/careers/v2/jobSearch?act=redirectCwsV2&cws=41&org=HME",480,1971,{"$f":"_xlfn.CONCAT(Table3[[#This Row],[Company]:[Year Founded]]&\" \")","v":"HME Communications Designs, manufactures and distributes wired and wireless intercom systems for businesses and schools. California https://phf.tbe.taleo.net/phf02/ats/careers/v2/jobSearch?act=redirectCwsV2&cws=41&org=HME 480 1971 "},{"$f":"Table3[[#This Row],[Column26]]","v":"Senior Customer Success Advisor"},"Senior Customer Success Advisor","HME","NA","N"]
[null,"Hopin","Communications","Hopin is a company that develops an online event platform where attendees can learn, interact, and connect with people.","Delaware","https://boards.greenhouse.io/hopin/jobs/4646248003",895,2019,{"$f":"_xlfn.CONCAT(Table3[[#This Row],[Company]:[Year Founded]]&\" \")","v":"Hopin Communications Hopin is a company that develops an online event platform where attendees can learn, interact, and connect with people. Delaware https://boards.greenhouse.io/hopin/jobs/4646248003 895 2019 "},"Senior Product Manager, Growth"]
[null,"IntelePeer","Communications","Omnichannel communication platform that provides video, SMS and voice interaction","California; Colorado; Florida","https://www.intelepeer.com/careers/",192,2003,{"$f":"_xlfn.CONCAT(Table3[[#This Row],[Company]:[Year Founded]]&\" \")","v":"IntelePeer Communications Omnichannel communication platform that provides video, SMS and voice interaction California; Colorado; Florida https://www.intelepeer.com/careers/ 192 2003 "},"Manager Partner Marketing",null,null,"Y","N"]
[null,"Klaviyo","Communications","Klaviyo is a company developing an email platform powered by data built for commerce and web businesses.","Massachusetts","https://www.klaviyo.com/careers",1459,2012,{"$f":"_xlfn.CONCAT(Table3[[#This Row],[Company]:[Year Founded]]&\" \")","v":"Klaviyo Communications Klaviyo is a company developing an email platform powered by data built for commerce and web businesses. Massachusetts https://www.klaviyo.com/careers 1459 2012 "},"Partner Success Manager"]
[null,"LG Electronics","Communications","Electronic products, including mobile communications, consumer appliances, and vehicle components.","Georgia; New Jersey; Alabama; Toronto","https://lgecareers.com/",40000,1958,{"$f":"_xlfn.CONCAT(Table3[[#This Row],[Company]:[Year Founded]]&\" \")","v":"LG Electronics Communications Electronic products, including mobile communications, consumer appliances, and vehicle components. Georgia; New Jersey; Alabama; Toronto https://lgecareers.com/ 40000 1958 "},"GTM Strategy & Operations Manager, HE",null,null,"NA","Y","https://www.indeed.com/jobs?q=LG%20Electronics&explvl=senior_level&vjk=35de30cef472a52d"]
[null,"Lucid Software","Communications","Online web design. Proprietary products include Lucidchart,  diagramming application, and Lucidpress, publishing tool to create print and digital content","Utah; New York","https://www.golucid.co/careers",685,2009,{"$f":"_xlfn.CONCAT(Table3[[#This Row],[Company]:[Year Founded]]&\" \")","v":"Lucid Software Communications Online web design. Proprietary products include Lucidchart,  diagramming application, and Lucidpress, publishing tool to create print and digital content Utah; New York https://www.golucid.co/careers 685 2009 "},"Sr. Director of Revenue Operations, Sales and Customer Success Strategy",null,null,"NA","Y","https://www.indeed.com/jobs?q=Lucid%20Software&l&vjk=9d862410bdaff4a3"]
[null,"Miro","Communications","Miro is an online collaboration platform that enables remote teams to work together.","Texas: California; New York","https://miro.com/careers/?hub=Austin&dep=All",5000,2015,{"$f":"_xlfn.CONCAT(Table3[[#This Row],[Company]:[Year Founded]]&\" \")","v":"Miro Communications Miro is an online collaboration platform that enables remote teams to work together. Texas: California; New York https://miro.com/careers/?hub=Austin&dep=All 5000 2015 "},"Marketing Analytics Lead"]
[null,"Motorola Solutions","Communications","An American data communications and telecommunications equipment provider","Illinois; Markham","https://www.motorolasolutions.com/en_xl/about/careers.html",16000,1928,{"$f":"_xlfn.CONCAT(Table3[[#This Row],[Company]:[Year Founded]]&\" \")","v":"Motorola Solutions Communications An American data communications and telecommunications equipment provider Illinois; Markham https://www.motorolasolutions.com/en_xl/about/careers.html 16000 1928 "},"Global Product Marketing Manager",null,null,"Y","Y"]
[null,"Nextiva","Communications","Commercial cloud-based communication, VoIP and CRM ","Arizona; California","https://www.nextiva.com/company/careers-listing.html?gh_jid=4793965002",1000,2006,{"$f":"_xlfn.CONCAT(Table3[[#This Row],[Company]:[Year Founded]]&\" \")","v":"Nextiva Communications Commercial cloud-based communication, VoIP and CRM  Arizona; California https://www.nextiva.com/company/careers-listing.html?gh_jid=4793965002 1000 2006 "},"Customer Success Key Account Manager",null,null,"Y","Y","https://www.indeed.com/jobs?q=Nextiva&l=United%20States&vjk=3d0f05eeb5fa1425"]
[null,"Pgi","Communications","Collaboration platformfor audio conferencing, webcasting and virtual meetings","Georgia; Colorado; California; New York; Virginia; Montreal; Toronto","https://www.pgi.com/careers/",1900,1991,{"$f":"_xlfn.CONCAT(Table3[[#This Row],[Company]:[Year Founded]]&\" \")","v":"Pgi Communications Collaboration platformfor audio conferencing, webcasting and virtual meetings Georgia; Colorado; California; New York; Virginia; Montreal; Toronto https://www.pgi.com/careers/ 1900 1991 "},"NA",null,null,"NA","N"]
[null,"Qualcomm","Communications","Digital wireless telecommunications products. ","California; Michigan; Texas; Colorado; Massachusetts; New Jersey; Arizona; New York; Virginia; Kentucky; Pennsylvania; North Carolina; Washington; Markham; Vancouver","https://www.qualcomm.com/company/careers",35400,1985,{"$f":"_xlfn.CONCAT(Table3[[#This Row],[Company]:[Year Founded]]&\" \")","v":"Qualcomm Communications Digital wireless telecommunications products.  California; Michigan; Texas; Colorado; Massachusetts; New Jersey; Arizona; New York; Virginia; Kentucky; Pennsylvania; North Carolina; Washington; Markham; Vancouver https://www.qualcomm.com/company/careers 35400 1985 "},"Director, New Business Development",null,null,"Y","Y"]
[null,"Quibi","Communications","Video streaming platform ","California","https://quibi.com/careers/",217,2017,{"$f":"_xlfn.CONCAT(Table3[[#This Row],[Company]:[Year Founded]]&\" \")","v":"Quibi Communications Video streaming platform  California https://quibi.com/careers/ 217 2017 "},"Senior Content Marketing Manager",null,null,"NA","N"]
[null,"Quickmobile","Communications","Mobile event application  to create, manage, analyze and promote meetings and conferences.","Vancouver","https://www.cvent.com/en/careers/open-positions",158,2006,{"$f":"_xlfn.CONCAT(Table3[[#This Row],[Company]:[Year Founded]]&\" \")","v":"Quickmobile Communications Mobile event application  to create, manage, analyze and promote meetings and conferences. Vancouver https://www.cvent.com/en/careers/open-positions 158 2006 "},{"$f":"Table3[[#This Row],[Column26]]","v":"Senior Manager/Manager, Demand Generation"},"Senior Manager/Manager, Demand Generation","Quickmobile","NA","N"]
[null,"Reddit","Communications","A social news aggregation, web content rating, and discussion website","California; Illinois; New York","https://www.redditinc.com/careers",750,2005,{"$f":"_xlfn.CONCAT(Table3[[#This Row],[Company]:[Year Founded]]&\" \")","v":"Reddit Communications A social news aggregation, web content rating, and discussion website California; Illinois; New York https://www.redditinc.com/careers 750 2005 "},"Head of Ads Business Development",null,null,"Y","Y","https://www.indeed.com/jobs?q=Reddit&explvl=senior_level&vjk=1c892c69b418b92e"]
[null,"Ringcentral","Communications","Cloud communications providing voice, video, online meetings and team-messaging solutions.","California; Colorado; North Carolina; Florida; New York; Ottawa","https://www.ringcentral.com/company/careers/overview.html",1800,1999,{"$f":"_xlfn.CONCAT(Table3[[#This Row],[Company]:[Year Founded]]&\" \")","v":"Ringcentral Communications Cloud communications providing voice, video, online meetings and team-messaging solutions. California; Colorado; North Carolina; Florida; New York; Ottawa https://www.ringcentral.com/company/careers/overview.html 1800 1999 "},"Senior Product Marketing Manager – Strategic Partnership",null,null,"Y","N"]
[null,"Samsung","Communications","High tech focus is on electronics, including mobile phones.","New Jersey","https://www.samsung.com/us/aboutsamsung/careers/careers-center/",287000,1938,{"$f":"_xlfn.CONCAT(Table3[[#This Row],[Company]:[Year Founded]]&\" \")","v":"Samsung Communications High tech focus is on electronics, including mobile phones. New Jersey https://www.samsung.com/us/aboutsamsung/careers/careers-center/ 287000 1938 "},"Sr Manager, Strategic Partnerships ",null,null,"Y","Y","https://www.indeed.com/jobs?q=Samsung&explvl=senior_level"]
[null,"Sinch","Communications","Online platform for mobile developers to add voice, messaging and SMS features to their apps.","Georgia","https://www.sinch.com/careers/",638,2008,{"$f":"_xlfn.CONCAT(Table3[[#This Row],[Company]:[Year Founded]]&\" \")","v":"Sinch Communications Online platform for mobile developers to add voice, messaging and SMS features to their apps. Georgia https://www.sinch.com/careers/ 638 2008 "},"Client Success Manager, Marketing Client Services",null,null,"Y","N"]
[null,"Skyworks Solutions","Communications","Semiconductors for use in radio frequency and mobile communications systems","California; Massachusetts","https://careers.skyworksinc.com/",9000,1962,{"$f":"_xlfn.CONCAT(Table3[[#This Row],[Company]:[Year Founded]]&\" \")","v":"Skyworks Solutions Communications Semiconductors for use in radio frequency and mobile communications systems California; Massachusetts https://careers.skyworksinc.com/ 9000 1962 "},"Manager, Demand Management",null,null,"Y","N"]
[null,"Slack","Communications","Workplace collaboration platform.","California","https://slack.com/intl/en-ph/careers",2100,2009,{"$f":"_xlfn.CONCAT(Table3[[#This Row],[Company]:[Year Founded]]&\" \")","v":"Slack Communications Workplace collaboration platform. California https://slack.com/intl/en-ph/careers 2100 2009 "},"Senior Brand Strategic Planner",null,null,"Y","N"]
[null,"Symphony","Communications","Cloud-based messaging and collaboration platform that allows employees to communicate with team members, share documents and conduct meetings","New York; California; Illinois","https://symphony.com/company/careers/",350,2014,{"$f":"_xlfn.CONCAT(Table3[[#This Row],[Company]:[Year Founded]]&\" \")","v":"Symphony Communications Cloud-based messaging and collaboration platform that allows employees to communicate with team members, share documents and conduct meetings New York; California; Illinois https://symphony.com/company/careers/ 350 2014 "},"Account Manager",null,null,"NA","N"]
[null,"T-Mobile","Communications","Wireless communications for the commercial and consumer sectors.","Washington","https://www.tmobile.careers/job-search?dd=&a=&l=&stateName=",52000,1994,{"$f":"_xlfn.CONCAT(Table3[[#This Row],[Company]:[Year Founded]]&\" \")","v":"T-Mobile Communications Wireless communications for the commercial and consumer sectors. Washington https://www.tmobile.careers/job-search?dd=&a=&l=&stateName= 52000 1994 "},"Business Sales\nBusiness Analysis Manager",null,null,"NA","Y"]
[null,"TokBox","Communications","Online platform for developers to integrate video, voice and messaging APIs into web and mobile applications.","California; Florida","https://www.vonage.com/careers/search/#loc=4009292002&dept=0&page=1&sort=desc",101,2007,{"$f":"_xlfn.CONCAT(Table3[[#This Row],[Company]:[Year Founded]]&\" \")","v":"TokBox Communications Online platform for developers to integrate video, voice and messaging APIs into web and mobile applications. California; Florida https://www.vonage.com/careers/search/#loc=4009292002&dept=0&page=1&sort=desc 101 2007 "},{"$f":"Table3[[#This Row],[Column26]]","v":"NA"},"NA","TokBox","NA","N"]
[null,"Verizon","Communications","Top MBA recruiter: Telecommunications","New York; Georgia; New Jersey; Arizone; North Carolina; South Carolina; Texas; Maryland; Ohio; California; Florida; Tennessee; Illinois; Oklahoma; Massachusetts; ","https://www.verizon.com/about/careers/corporate",144000,1983,{"$f":"_xlfn.CONCAT(Table3[[#This Row],[Company]:[Year Founded]]&\" \")","v":"Verizon Communications Top MBA recruiter: Telecommunications New York; Georgia; New Jersey; Arizone; North Carolina; South Carolina; Texas; Maryland; Ohio; California; Florida; Tennessee; Illinois; Oklahoma; Massachusetts;  https://www.verizon.com/about/careers/corporate 144000 1983 "},"Director, Business Strategy and Transformation",null,null,"NA","Y","https://www.indeed.com/jobs?q=Verizon&explvl=senior_level&vjk=047213dfb693bd45"]
[null,"Vowel","Communications","Video conferencing platform","New York","https://www.vowel.com/careers/",2,2018,{"$f":"_xlfn.CONCAT(Table3[[#This Row],[Company]:[Year Founded]]&\" \")","v":"Vowel Communications Video conferencing platform New York https://www.vowel.com/careers/ 2 2018 "},"NA",null,null,"Y","Y","https://www.indeed.com/jobs?q=Vowel&l=United%20States&vjk=4b840710ad5600dd"]
[null,"West","Communications","Technology-enabled communication and infrastructure management services for healthcare, retail, insurance and telecommunication industries.","Alabama; Illinois; Pennsylvania; Colorado; Nebraska; Georgia","https://west.taleo.net/careersection/nonstaff/moresearch.ftl?lang=en&portal=8160753699",9600,1986,{"$f":"_xlfn.CONCAT(Table3[[#This Row],[Company]:[Year Founded]]&\" \")","v":"West Communications Technology-enabled communication and infrastructure management services for healthcare, retail, insurance and telecommunication industries. Alabama; Illinois; Pennsylvania; Colorado; Nebraska; Georgia https://west.taleo.net/careersection/nonstaff/moresearch.ftl?lang=en&portal=8160753699 9600 1986 "},"NA",null,null,"NA","N"]
[null,"Windstream ","Communications","Voice and data network communications:  advanced network communications and technology solutions for consumers, small businesses, enterprise organizations and carrier partners across the U.S.","Colorado; Remote; Georgia; Massachusetts; North Carolina; New York; Pennsylvania; Oklahoma; Texas","https://careers.windstream.com/en-US/search?keywords=MBA&location=",12000,2006,{"$f":"_xlfn.CONCAT(Table3[[#This Row],[Company]:[Year Founded]]&\" \")","v":"Windstream  Communications Voice and data network communications:  advanced network communications and technology solutions for consumers, small businesses, enterprise organizations and carrier partners across the U.S. Colorado; Remote; Georgia; Massachusetts; North Carolina; New York; Pennsylvania; Oklahoma; Texas https://careers.windstream.com/en-US/search?keywords=MBA&location= 12000 2006 "},"CUSTOMER INSIGHTS AND ANALYSIS MANAGER",null,null,"Y","Y","https://www.indeed.com/jobs?q=Windstream&explvl=senior_level&vjk=2295c970b11b80ce"]
[null,"Workday Inc","Communications","Cloud-based platform for finance and human resources management","California; Georgia; Texas; Oregon; Pennsylvania; Massachusetts; Colorado; Illinois; Virginia; Minnesota; New York; Florida; North Carolina; Utah; Montreal; Toronto; Victoria","https://workday.wd5.myworkdayjobs.com/Workday",10500,2005,{"$f":"_xlfn.CONCAT(Table3[[#This Row],[Company]:[Year Founded]]&\" \")","v":"Workday Inc Communications Cloud-based platform for finance and human resources management California; Georgia; Texas; Oregon; Pennsylvania; Massachusetts; Colorado; Illinois; Virginia; Minnesota; New York; Florida; North Carolina; Utah; Montreal; Toronto; Victoria https://workday.wd5.myworkdayjobs.com/Workday 10500 2005 "},"Director - Customer Success Operations and Strategic Programs",null,null,"Y","Y","https://www.indeed.com/jobs?q=Workday%20Inc&start=70&vjk=334a0ca5b2994d28"]
[null,"Zoom Video Communications","Communications","Cloud-based software for online meetings, audio and video conferencing services for commerical, non-profit, government and consumer clients.","California","https://zoom.us/careers?_ga=2.229980057.445624549.1591169545-1536186213.1583888520",2800,2011,{"$f":"_xlfn.CONCAT(Table3[[#This Row],[Company]:[Year Founded]]&\" \")","v":"Zoom Video Communications Communications Cloud-based software for online meetings, audio and video conferencing services for commerical, non-profit, government and consumer clients. California https://zoom.us/careers?_ga=2.229980057.445624549.1591169545-1536186213.1583888520 2800 2011 "},"Program Manager, Customer Success (Customer Voice)",null,null,"Y","N"]
[null,"Appirio","Consulting","IT consulting","Indiana; Texas; Georgia; Alabama; Massachusetts; North Carolina; Illinois; Ohio; South Carolina; Colorado; Michigan; Connecticut; Missouri; Minneapolis; Tennessee; New Jersey; New York; California; Pennsylvania; Arizona; Oregon; Virginia; Utah; Washington; Florida; Toronto","https://careers.wipro.com/careers-home",1200,2006,{"$f":"_xlfn.CONCAT(Table3[[#This Row],[Company]:[Year Founded]]&\" \")","v":"Appirio Consulting IT consulting Indiana; Texas; Georgia; Alabama; Massachusetts; North Carolina; Illinois; Ohio; South Carolina; Colorado; Michigan; Connecticut; Missouri; Minneapolis; Tennessee; New Jersey; New York; California; Pennsylvania; Arizona; Oregon; Virginia; Utah; Washington; Florida; Toronto https://careers.wipro.com/careers-home 1200 2006 "},"Client Consulting Partner",null,null,"NA","N"]
[null,"Bain & Company","Consulting","Management consulting","Massachusetts; Georgia; Illinois; Texas; California; New York; Washington; Toronto","https://www.bain.com/careers/roles/consultant/",12000,1973,{"$f":"_xlfn.CONCAT(Table3[[#This Row],[Company]:[Year Founded]]&\" \")","v":"Bain & Company Consulting Management consulting Massachusetts; Georgia; Illinois; Texas; California; New York; Washington; Toronto https://www.bain.com/careers/roles/consultant/ 12000 1973 "},"Senior Manager - Consulting",null,null,"NA","N"]
[null,"Booz Allen Hamilton","Consulting","Management and technology consulting services.","Victoria; Georgia; New Mexico; Maryland; Colorado; Texas; Ohio; Massachusetts; South Carolina; Illinois; Utah; Florida; North Carolina; California; Alabama; Rhode Island; New York; Oklahoma; Nebraska; Pennsylvania; Kentucky; New Jersey; Washington; Missouri; Michigan; Iowa; ; DC; ","https://careers.boozallen.com/teams/consulting",26000,1914,{"$f":"_xlfn.CONCAT(Table3[[#This Row],[Company]:[Year Founded]]&\" \")","v":"Booz Allen Hamilton Consulting Management and technology consulting services. Victoria; Georgia; New Mexico; Maryland; Colorado; Texas; Ohio; Massachusetts; South Carolina; Illinois; Utah; Florida; North Carolina; California; Alabama; Rhode Island; New York; Oklahoma; Nebraska; Pennsylvania; Kentucky; New Jersey; Washington; Missouri; Michigan; Iowa; ; DC;  https://careers.boozallen.com/teams/consulting 26000 1914 "}," Ucompensation Senior Manager - Finance",null,null,"Y","Y","https://www.indeed.com/jobs?q=Booz%20Allen%20Hamilton&explvl=senior_level&vjk=077a7ec0a0edc3ac"]
[null,"Boston Consulting Group","Consulting","Management consulting","Massachusetts; Georgia; Texas; Washington; Maryland; Illinois; Colorado; California; Florida; Minnesota; New York; Pennsylvania; Washington; New Jersey; Michigan; Calgary; Montreal; Toronto","https://www.bcg.com/careers/roles",18500,1963,{"$f":"_xlfn.CONCAT(Table3[[#This Row],[Company]:[Year Founded]]&\" \")","v":"Boston Consulting Group Consulting Management consulting Massachusetts; Georgia; Texas; Washington; Maryland; Illinois; Colorado; California; Florida; Minnesota; New York; Pennsylvania; Washington; New Jersey; Michigan; Calgary; Montreal; Toronto https://www.bcg.com/careers/roles 18500 1963 "},"Project Leader/Principal, Consumer",null,null,"NA","N"]
[null,"Deloitte","Consulting","Deloitte Consulting is a management consultancy company providing services in human capital, strategy and operations, and technology service areas.","Virginia; Georgia; Texas; Maryland; Alabama; Florida; Idaho; Massachusetts; Tennessee; New York; Pennsylvania; North Carolina; Illinois; Ohio; Colorado; California; Iowa; Michigan; Virginia","https://jobs2.deloitte.com/us/en/c/management-consulting-jobs",312000,1845,{"$f":"_xlfn.CONCAT(Table3[[#This Row],[Company]:[Year Founded]]&\" \")","v":"Deloitte Consulting Deloitte Consulting is a management consultancy company providing services in human capital, strategy and operations, and technology service areas. Virginia; Georgia; Texas; Maryland; Alabama; Florida; Idaho; Massachusetts; Tennessee; New York; Pennsylvania; North Carolina; Illinois; Ohio; Colorado; California; Iowa; Michigan; Virginia https://jobs2.deloitte.com/us/en/c/management-consulting-jobs 312000 1845 "},"Agile Project Management Consultant","Agile Project Management Consultant",null,"NA","N"]
[null,"Ernst & Young","Consulting","Assurance, tax, transaction and advisory services for businesses.","Ohio; Georgia; Texas; Maryland; Alabama; Florida; Massachussetts; New York; West Virginia; North Carolina; Tennessee; Illinois; Colorado; Iowa; Michigan; South Carolina; Connecticut; New Jersey; Hawaii; Indiana; California; Nevada; Kentucky; Missouri; New Hampshire; Virginia; Wisconsin; Minnesota; Louisiana; Oklahoma; Pensylvania; Arizona; Oregon; Rhode Island; Utah; Washington; Kansas; Calgary; Dieppe; Edmonton; Halifax; Fredericton; Kitchener; London; Montreal; Ottawa; Saint John; Saskatoon; Toronto; Vancouver; Victoria; Ville de Quebec; Waterloo; Winnipeg","https://ey.jobs/usa/jobs/",284000,1989,{"$f":"_xlfn.CONCAT(Table3[[#This Row],[Company]:[Year Founded]]&\" \")","v":"Ernst & Young Consulting Assurance, tax, transaction and advisory services for businesses. Ohio; Georgia; Texas; Maryland; Alabama; Florida; Massachussetts; New York; West Virginia; North Carolina; Tennessee; Illinois; Colorado; Iowa; Michigan; South Carolina; Connecticut; New Jersey; Hawaii; Indiana; California; Nevada; Kentucky; Missouri; New Hampshire; Virginia; Wisconsin; Minnesota; Louisiana; Oklahoma; Pensylvania; Arizona; Oregon; Rhode Island; Utah; Washington; Kansas; Calgary; Dieppe; Edmonton; Halifax; Fredericton; Kitchener; London; Montreal; Ottawa; Saint John; Saskatoon; Toronto; Vancouver; Victoria; Ville de Quebec; Waterloo; Winnipeg https://ey.jobs/usa/jobs/ 284000 1989 "},"Strategic Relationships Brand and Marketing - Associate Director",null,null,"NA","N"]
[null,"Forrester","Consulting","Technology market research and consulting","Cambridge, Austin, Dallas, Mclean, Nashville \nand New York USA","https://go.forrester.com/careers/locations/north-america/",1400,1983,{"$f":"_xlfn.CONCAT(Table3[[#This Row],[Company]:[Year Founded]]&\" \")","v":"Forrester Consulting Technology market research and consulting Cambridge, Austin, Dallas, Mclean, Nashville \nand New York USA https://go.forrester.com/careers/locations/north-america/ 1400 1983 "},"Vice President of Corporate Development - Finance",null,null,"NA","N"]
[null,"Gartner","Consulting","Technology market research and consulting.","Stamford, Arlington, Atlanta, Austin, Boston, \nChicago USA","https://jobs.gartner.com/careers",15000,1979,{"$f":"_xlfn.CONCAT(Table3[[#This Row],[Company]:[Year Founded]]&\" \")","v":"Gartner Consulting Technology market research and consulting. Stamford, Arlington, Atlanta, Austin, Boston, \nChicago USA https://jobs.gartner.com/careers 15000 1979 "},"Senior Program Manager, R&A",null,null,"Y","Y","https://www.indeed.com/jobs?q=Gartner&l&vjk=2e171f34d9f41b85"]
[null,"Kearney","Consulting","Management consulting on strategy and operations for businesses, governments and non-profits.","Illinois; Virginia; Georgia; Massachusetts; Texas; New York; California; Michigan; Calgary; Toronto","https://www.kearney.com/working-here",8000,1926,{"$f":"_xlfn.CONCAT(Table3[[#This Row],[Company]:[Year Founded]]&\" \")","v":"Kearney Consulting Management consulting on strategy and operations for businesses, governments and non-profits. Illinois; Virginia; Georgia; Massachusetts; Texas; New York; California; Michigan; Calgary; Toronto https://www.kearney.com/working-here 8000 1926 "},"Organic Investment Manager",null,null,"NA","N"]
[null,"KPMG","Consulting","One of the Big Four accounting organizations.","New York; New Mexico; Alaska; Georgia; Texas; Maryland; Louisiana; California; Montana; Alabama; Idaho; Massachusetts; Colorado; South Carolina; North Carolina; Illinois; Ohio; Vermont; Iowa; Michigan; Florida; Pennsylvania; Connecticut; Hawaii; Indiana; Mississippi; Missouri; Tennessee; Nebraska; Kentucky; Virginia; Wisconsin; Minnesota; Oklahoma; Oregon; Rhode Island; New Jersey; Utah; Washington; Arizona; DC; Toronto; Abbotsford;  Burnaby; Calgary; Chilliwack; Edmonton; Fort St John; Fredericton; Greater Sudbury; Halifax; Hamilton; Kamloops; Kelowna; Kingston; Langley City; Lethbridge; London; Moncton; Montreal; North Bay; Ottawa; Prince George; Quebec; Quesnel; Regina; St. John; Saskatoon; Sault Ste. Marie; St Catharine's; St John's; Vancouver; Vaughan; Vernon; Victoria; Waterloo; Windsor; Winnipeg","https://corporatefinance.kpmg.us/",219000,1987,{"$f":"_xlfn.CONCAT(Table3[[#This Row],[Company]:[Year Founded]]&\" \")","v":"KPMG Consulting One of the Big Four accounting organizations. New York; New Mexico; Alaska; Georgia; Texas; Maryland; Louisiana; California; Montana; Alabama; Idaho; Massachusetts; Colorado; South Carolina; North Carolina; Illinois; Ohio; Vermont; Iowa; Michigan; Florida; Pennsylvania; Connecticut; Hawaii; Indiana; Mississippi; Missouri; Tennessee; Nebraska; Kentucky; Virginia; Wisconsin; Minnesota; Oklahoma; Oregon; Rhode Island; New Jersey; Utah; Washington; Arizona; DC; Toronto; Abbotsford;  Burnaby; Calgary; Chilliwack; Edmonton; Fort St John; Fredericton; Greater Sudbury; Halifax; Hamilton; Kamloops; Kelowna; Kingston; Langley City; Lethbridge; London; Moncton; Montreal; North Bay; Ottawa; Prince George; Quebec; Quesnel; Regina; St. John; Saskatoon; Sault Ste. Marie; St Catharine's; St John's; Vancouver; Vaughan; Vernon; Victoria; Waterloo; Windsor; Winnipeg https://corporatefinance.kpmg.us/ 219000 1987 "},"Transaction Services Manager",null,null,"Y","Y","https://www.indeed.com/jobs?q=KPMG&explvl=senior_level&vjk=2c39d8ee976aaddc"]
[null,"KSM Consulting","Consulting","Data analytics, cybersecurity, project management and IT consulting services.","Indiana","https://careers.smartrecruiters.com/Resultant",132,2008,{"$f":"_xlfn.CONCAT(Table3[[#This Row],[Company]:[Year Founded]]&\" \")","v":"KSM Consulting Consulting Data analytics, cybersecurity, project management and IT consulting services. Indiana https://careers.smartrecruiters.com/Resultant 132 2008 "},"Senior Project Manager ",null,null,"Y","N"]
[null,"McKinsey and Company","Consulting","Management consulting","New York; Georgia; Texas; Massachusetts; North Carolina; Illinois; Missouri; California; Florida;  Minnesota; California; Washington; Connecticut; New Jersey; Calgary; Montreal; Toronto; Vancouver","https://www.mckinsey.com/careers/search-jobs",30000,1926,{"$f":"_xlfn.CONCAT(Table3[[#This Row],[Company]:[Year Founded]]&\" \")","v":"McKinsey and Company Consulting Management consulting New York; Georgia; Texas; Massachusetts; North Carolina; Illinois; Missouri; California; Florida;  Minnesota; California; Washington; Connecticut; New Jersey; Calgary; Montreal; Toronto; Vancouver https://www.mckinsey.com/careers/search-jobs 30000 1926 "},"Solution Manager – Mergers & Acquisitions Hub",null,null,"NA","N"]
[null,"PWC ","Consulting","Audit and assurance, consulting and tax services to automotive, insurance, real estate and healthcare industries.","New York; Virginia; Georgia; Texas; Maryland; Massachusetts; North Carolina; Illinois; Ohio; Colorado; Iowa; Michigan; California; New Jersey; Florida; Pennsylvania; Connecticut; Alabama; Indiana; Missouri; Nevada; Arizona; Kentucky; Wisconsin; Minnesota; Vermont; Tennessee; Louisiana; Oklahoma; Oregon; Utah; Washington; South Carolina; Washington DC; Brossard; Calgary; Edmonton; Gatineau; Halifax; London; Montreal; Oakville; Ottawa; Quebec; Regina; St. John; Saskatoon; St John's; Surrey; Toronto; Trois-Rivieres; Truro; Vancouver; Vaughan; Victoria; Waterloo; Windsor; Winnipeg","https://jobs.us.pwc.com/techjobs2",276000,1998,{"$f":"_xlfn.CONCAT(Table3[[#This Row],[Company]:[Year Founded]]&\" \")","v":"PWC  Consulting Audit and assurance, consulting and tax services to automotive, insurance, real estate and healthcare industries. New York; Virginia; Georgia; Texas; Maryland; Massachusetts; North Carolina; Illinois; Ohio; Colorado; Iowa; Michigan; California; New Jersey; Florida; Pennsylvania; Connecticut; Alabama; Indiana; Missouri; Nevada; Arizona; Kentucky; Wisconsin; Minnesota; Vermont; Tennessee; Louisiana; Oklahoma; Oregon; Utah; Washington; South Carolina; Washington DC; Brossard; Calgary; Edmonton; Gatineau; Halifax; London; Montreal; Oakville; Ottawa; Quebec; Regina; St. John; Saskatoon; St John's; Surrey; Toronto; Trois-Rivieres; Truro; Vancouver; Vaughan; Victoria; Waterloo; Windsor; Winnipeg https://jobs.us.pwc.com/techjobs2 276000 1998 "},"Finance Operations, Senior Manager",null,null,"Y","Y","https://www.indeed.com/jobs?q=Strategy%26&vjk=bee23038440f588a"]
[null,"Ripple Effect","Consulting","Project-based consulting services in the science and healthcare fields.","Rockville, Maryland","https://apply.workable.com/the-ripple-way/",136,2003,{"$f":"_xlfn.CONCAT(Table3[[#This Row],[Company]:[Year Founded]]&\" \")","v":"Ripple Effect Consulting Project-based consulting services in the science and healthcare fields. Rockville, Maryland https://apply.workable.com/the-ripple-way/ 136 2003 "},"Senior Research & Evaluation Manager",null,null,"NA","N"]
[null,"Strategy&","Consulting","Strategy consulting business unit of PricewaterhouseCoopers, one of the Big Four professional service firms","New York; Virginia; Georgia; Massachusetts; Illinois; Ohio; Texas; Michigan; New Jersey; Texas; California; Calgary; Montreal; Toronto","https://www.strategyand.pwc.com/gx/en/careers.html",3000,2014,{"$f":"_xlfn.CONCAT(Table3[[#This Row],[Company]:[Year Founded]]&\" \")","v":"Strategy& Consulting Strategy consulting business unit of PricewaterhouseCoopers, one of the Big Four professional service firms New York; Virginia; Georgia; Massachusetts; Illinois; Ohio; Texas; Michigan; New Jersey; Texas; California; Calgary; Montreal; Toronto https://www.strategyand.pwc.com/gx/en/careers.html 3000 2014 "},"Banking Transformation Manager - Consumer Banking",null,null,"Y","Y","https://www.indeed.com/jobs?q=Strategy%26&l&vjk=bee23038440f588a"]
[null,"Bowery Farming","Consumer Goods","Bowery Farming builds smart farms that grow wildly delicious and safe produce indoors, benefiting people, communities, and the planet.","New York; New Jersey; Maryland; Pennsylvania","https://boweryfarming.com/farm-careers/#section-job-listings",457,2015,{"$f":"_xlfn.CONCAT(Table3[[#This Row],[Company]:[Year Founded]]&\" \")","v":"Bowery Farming Consumer Goods Bowery Farming builds smart farms that grow wildly delicious and safe produce indoors, benefiting people, communities, and the planet. New York; New Jersey; Maryland; Pennsylvania https://boweryfarming.com/farm-careers/#section-job-listings 457 2015 "},"Senior Strategy Manager"]
[null,"Plenty","Consumer Goods","Plenty builds farms that put craveable flavor first, and we do it at a scale.","California; Wyoming","https://highnoteplatform.com/careers#openings",389,2014,{"$f":"_xlfn.CONCAT(Table3[[#This Row],[Company]:[Year Founded]]&\" \")","v":"Plenty Consumer Goods Plenty builds farms that put craveable flavor first, and we do it at a scale. California; Wyoming https://highnoteplatform.com/careers#openings 389 2014 "},"Corporate Finance and Strategy Manager"]
[null,"Quip","Consumer Goods","quip is an oral care companion that enables, ensures, and rewards good oral care habits in every bathroom and dental chair around the world.","New York and Utah","https://boards.greenhouse.io/quip",200,2014,{"$f":"_xlfn.CONCAT(Table3[[#This Row],[Company]:[Year Founded]]&\" \")","v":"Quip Consumer Goods quip is an oral care companion that enables, ensures, and rewards good oral care habits in every bathroom and dental chair around the world. New York and Utah https://boards.greenhouse.io/quip 200 2014 "},"Senior Brand Manager"]
[null,"Abnormal Security","Artificial Intelligence","Abnormal Security is the highest precision cybersecurity engine for all email attacks, built to grow people and technology at 10x levels.","New York; California; Utah","https://careers.abnormalsecurity.com/open-roles",455,2018,{"$f":"_xlfn.CONCAT(Table3[[#This Row],[Company]:[Year Founded]]&\" \")","v":"Abnormal Security Artificial Intelligence Abnormal Security is the highest precision cybersecurity engine for all email attacks, built to grow people and technology at 10x levels. New York; California; Utah https://careers.abnormalsecurity.com/open-roles 455 2018 "},{"$f":"Table3[[#This Row],[Column26]]","v":"Demand Generation & Digital Marketing"},"Demand Generation & Digital Marketing"]
[null,"Alert Logic","CyberSecurity","Network, system and web application protection services for on-premises, cloud and hybrid infrastructures.","Texas; Washington; ","https://cho.tbe.taleo.net/cho02/ats/careers/v2/searchResults?org=ALERTLOGIC&cws=37",600,2002,{"$f":"_xlfn.CONCAT(Table3[[#This Row],[Company]:[Year Founded]]&\" \")","v":"Alert Logic CyberSecurity Network, system and web application protection services for on-premises, cloud and hybrid infrastructures. Texas; Washington;  https://cho.tbe.taleo.net/cho02/ats/careers/v2/searchResults?org=ALERTLOGIC&cws=37 600 2002 "},{"$f":"Table3[[#This Row],[Column26]]","v":"Account Executive"},"Account Executive","Alert Logic","NA","Y","https://www.indeed.com/jobs?q=Alert%20Logic&l=United%20States&vjk=1bf2202641964bb8"]
[null,"AlgoSec","CyberSecurity","Security management, including cloud security, network segmentation and firewall optimization ","New Jersey; Georgia","https://www.algosec.com/careers/find-a-job/?department=&location=US&keyword=",400,2004,{"$f":"_xlfn.CONCAT(Table3[[#This Row],[Company]:[Year Founded]]&\" \")","v":"AlgoSec CyberSecurity Security management, including cloud security, network segmentation and firewall optimization  New Jersey; Georgia https://www.algosec.com/careers/find-a-job/?department=&location=US&keyword= 400 2004 "},{"$f":"Table3[[#This Row],[Column26]]","v":"Regional Sales Manager"},"Regional Sales Manager",null,"NA","N"]
[null,"Arctic Wolf Network","CyberSecurity","AWN is a Security-as-a-Service company that provides managed threat detection, cyber security, cloud monitoring and advisory services for businesses.","California; Minnesota; Utah; Waterloo","https://arcticwolf.com/company/careers/",400,2012,{"$f":"_xlfn.CONCAT(Table3[[#This Row],[Company]:[Year Founded]]&\" \")","v":"Arctic Wolf Network CyberSecurity AWN is a Security-as-a-Service company that provides managed threat detection, cyber security, cloud monitoring and advisory services for businesses. California; Minnesota; Utah; Waterloo https://arcticwolf.com/company/careers/ 400 2012 "},{"$f":"Table3[[#This Row],[Column26]]","v":"Revenue Transformation Manager"},"Revenue Transformation Manager","Arctic Wolf Network","NA","N"]
[null,"Auth0","CyberSecurity","Identity authentication platform for breached password detection and user management ","Washington","https://auth0.com/careers/positions",650,2013,{"$f":"_xlfn.CONCAT(Table3[[#This Row],[Company]:[Year Founded]]&\" \")","v":"Auth0 CyberSecurity Identity authentication platform for breached password detection and user management  Washington https://auth0.com/careers/positions 650 2013 "},{"$f":"Table3[[#This Row],[Column26]]","v":"Technical Program Manager, Product"},"Technical Program Manager, Product","Auth0","NA","N"]
[null,"Axoni","CyberSecurity","Blockchain infrastructure and data privacy for financial institutions and capital markets.","New York","https://axoni.com/careers/",60,2013,{"$f":"_xlfn.CONCAT(Table3[[#This Row],[Company]:[Year Founded]]&\" \")","v":"Axoni CyberSecurity Blockchain infrastructure and data privacy for financial institutions and capital markets. New York https://axoni.com/careers/ 60 2013 "},{"$f":"Table3[[#This Row],[Column26]]","v":"Customer Success Manager"},"Customer Success Manager",null,"NA","N"]
[null,"Barracuda","CyberSecurity"," IT security and data protection solutions for networking, application delivery, storage and disaster recovery applications.","California; Georgia; Michigan; Massachusetts; Ottawa","https://www.barracuda.com/company/careers",1500,2003,{"$f":"_xlfn.CONCAT(Table3[[#This Row],[Company]:[Year Founded]]&\" \")","v":"Barracuda CyberSecurity  IT security and data protection solutions for networking, application delivery, storage and disaster recovery applications. California; Georgia; Michigan; Massachusetts; Ottawa https://www.barracuda.com/company/careers 1500 2003 "},{"$f":"Table3[[#This Row],[Column26]]","v":"DMR Channel Field Marketing Manager"},"DMR Channel Field Marketing Manager","Barracuda","NA","N"]
[null,"Bigid","CyberSecurity","SaaS-based platform that provides web-based privacy programs and third-party risk management solutions","New York","https://bigid.com/company/careers/",150,2015,{"$f":"_xlfn.CONCAT(Table3[[#This Row],[Company]:[Year Founded]]&\" \")","v":"Bigid CyberSecurity SaaS-based platform that provides web-based privacy programs and third-party risk management solutions New York https://bigid.com/company/careers/ 150 2015 "},{"$f":"Table3[[#This Row],[Column26]]","v":"Senior Product Manager"},"Senior Product Manager",null,"NA","N"]
[null,"Bitfury","CyberSecurity"," Security and infrastructure to support blockchain currencies","Washington","https://boards.greenhouse.io/bitfury",488,2011,{"$f":"_xlfn.CONCAT(Table3[[#This Row],[Company]:[Year Founded]]&\" \")","v":"Bitfury CyberSecurity  Security and infrastructure to support blockchain currencies Washington https://boards.greenhouse.io/bitfury 488 2011 "},{"$f":"Table3[[#This Row],[Column26]]","v":"Senior VP Sales Americas - Crystal Blockchain (Remote)"},"Senior VP Sales Americas - Crystal Blockchain (Remote)",null,"NA","N"]
[null,"BitSight","CyberSecurity","Cybersecurity ratings and third-party risk management solutions for retail, finance and healthcare sectors.","Massachusetts; North Carolina","https://www.bitsight.com/jobs",400,2011,{"$f":"_xlfn.CONCAT(Table3[[#This Row],[Company]:[Year Founded]]&\" \")","v":"BitSight CyberSecurity Cybersecurity ratings and third-party risk management solutions for retail, finance and healthcare sectors. Massachusetts; North Carolina https://www.bitsight.com/jobs 400 2011 "},{"$f":"Table3[[#This Row],[Column26]]","v":"Director, North America Demand Generation"},"Director, North America Demand Generation","BitSight","NA","N"]
[null,"Carbon Black","CyberSecurity","CEndpoint protection platform that detects, prevents and resolves advanced cybersecurity threats ","Massachusetts; Colorado; Oregon; Texas","https://lifeatcb.carbonblack.com/jobs/",1100,2002,{"$f":"_xlfn.CONCAT(Table3[[#This Row],[Company]:[Year Founded]]&\" \")","v":"Carbon Black CyberSecurity CEndpoint protection platform that detects, prevents and resolves advanced cybersecurity threats  Massachusetts; Colorado; Oregon; Texas https://lifeatcb.carbonblack.com/jobs/ 1100 2002 "},{"$f":"Table3[[#This Row],[Column26]]","v":"Sr Finance Manager, Renewals"},"Sr Finance Manager, Renewals","Carbon Black","NA","N"]
[null,"Check Point","CyberSecurity","Network, endpoint and data security solutions.","New York; California; Georgia; Texas; Maryland; Alabama; Massachusetts; North Carolina; New Hampshire; Colorado; Michigan; Florida; Connecticut; Missouri; Nevada; Tennessee;Oklahoma;Pennsylvania;Arizona;Maine; Washington","https://careers.checkpoint.com/index.php?m=careers&a=jobs&country_code=US",3800,1993,{"$f":"_xlfn.CONCAT(Table3[[#This Row],[Company]:[Year Founded]]&\" \")","v":"Check Point CyberSecurity Network, endpoint and data security solutions. New York; California; Georgia; Texas; Maryland; Alabama; Massachusetts; North Carolina; New Hampshire; Colorado; Michigan; Florida; Connecticut; Missouri; Nevada; Tennessee;Oklahoma;Pennsylvania;Arizona;Maine; Washington https://careers.checkpoint.com/index.php?m=careers&a=jobs&country_code=US 3800 1993 "},{"$f":"[1]Sheet1!$C$266","v":"Field Marketing Manager, South Central"},null,null,"NA","N"]
[null,"Crowdstrike","CyberSecurity","Cloud-based cybersecurity software for businesses, healthcare providers, and financial institutions that integrates antivirus, endpoint protection, and artificial intelligence-powered threat hunting.","California; Virginia; Texas; Washington","https://www.crowdstrike.com/careers/",2500,2012,{"$f":"_xlfn.CONCAT(Table3[[#This Row],[Company]:[Year Founded]]&\" \")","v":"Crowdstrike CyberSecurity Cloud-based cybersecurity software for businesses, healthcare providers, and financial institutions that integrates antivirus, endpoint protection, and artificial intelligence-powered threat hunting. California; Virginia; Texas; Washington https://www.crowdstrike.com/careers/ 2500 2012 "},{"$f":"Table3[[#This Row],[Column26]]","v":"Services Marketing Manager "},"Services Marketing Manager ","Crowdstrike","Y","Y","https://www.indeed.com/jobs?q=Crowdstrike&l=United%20States&explvl=senior_level&start=30&vjk=aedab1d28764605d"]
[null,"Darktrace","CyberSecurity","Cybersecurity software for enterprises and government agencies that protects cloud, email, networks, Internet of Things, and industrial systems using artificial intelligence to detect and respond to threats.","Georgia; Texas; Massachusetts; North Carolina; Illinois; Colorado; California; New York; Arizona; Virginia; Washington","https://www.darktrace.com/en/careers/",824,2013,{"$f":"_xlfn.CONCAT(Table3[[#This Row],[Company]:[Year Founded]]&\" \")","v":"Darktrace CyberSecurity Cybersecurity software for enterprises and government agencies that protects cloud, email, networks, Internet of Things, and industrial systems using artificial intelligence to detect and respond to threats. Georgia; Texas; Massachusetts; North Carolina; Illinois; Colorado; California; New York; Arizona; Virginia; Washington https://www.darktrace.com/en/careers/ 824 2013 "},{"$f":"Table3[[#This Row],[Column26]]","v":"Marketing Executive"},"Marketing Executive","Darktrace","NA","N"]
[null,"DataVisor","CyberSecurity","Online platform that provides AI-based fraud management solutions for financial institutions and businesses.","California","https://www.datavisor.com/about/careers/",127,2013,{"$f":"_xlfn.CONCAT(Table3[[#This Row],[Company]:[Year Founded]]&\" \")","v":"DataVisor CyberSecurity Online platform that provides AI-based fraud management solutions for financial institutions and businesses. California https://www.datavisor.com/about/careers/ 127 2013 "},"Marketing Automation Manager",null,null,"NA","N"]
[null,"eSentire","CyberSecurity","Machine learning-based cloud security platform for managed threat detection and response, risk advisory, and endpoint protection ","Waterloo","https://canr58.dayforcehcm.com/CandidatePortal/en-US/esentire/Site/CANDIDATEPORTAL",434,2001,{"$f":"_xlfn.CONCAT(Table3[[#This Row],[Company]:[Year Founded]]&\" \")","v":"eSentire CyberSecurity Machine learning-based cloud security platform for managed threat detection and response, risk advisory, and endpoint protection  Waterloo https://canr58.dayforcehcm.com/CandidatePortal/en-US/esentire/Site/CANDIDATEPORTAL 434 2001 "},{"$f":"Table3[[#This Row],[Column26]]","v":"Customer Success Manager"},"Customer Success Manager","eSentire","Y","Y","https://www.indeed.com/jobs?q=eSentire&l=United%20States&vjk=56e82febca20a5ac"]
[null,"Exabeam","CyberSecurity","Security intelligence platform to detect, analyze and respond to cyber threats.","California; Georgia","https://www.exabeam.com/careers/",362,2013,{"$f":"_xlfn.CONCAT(Table3[[#This Row],[Company]:[Year Founded]]&\" \")","v":"Exabeam CyberSecurity Security intelligence platform to detect, analyze and respond to cyber threats. California; Georgia https://www.exabeam.com/careers/ 362 2013 "},{"$f":"Table3[[#This Row],[Column26]]","v":"Sr. Customer Success Manager, Strategic Accounts - (West)"},"Sr. Customer Success Manager, Strategic Accounts - (West)","Exabeam","Y","Y","https://www.indeed.com/jobs?q=Exabeam&l=United%20States&vjk=c1019544ccd8a3e4"]
[null,"Expanse","CyberSecurity","Network and internet security ","California; Virginia; Georgia; New York","https://www.expanse.co/careers/",130,2013,{"$f":"_xlfn.CONCAT(Table3[[#This Row],[Company]:[Year Founded]]&\" \")","v":"Expanse CyberSecurity Network and internet security  California; Virginia; Georgia; New York https://www.expanse.co/careers/ 130 2013 "},{"$f":"Table3[[#This Row],[Column26]]","v":"Marketing Manager, Strategic/Major Accounts"},"Marketing Manager, Strategic/Major Accounts","Expanse","NA","N"]
[null,"F5","CyberSecurity","ADN technology for security, performance, availability of servers, data storage devices, and other network and cloud resources.","Washington; Colorado; Massachusetts; New York; Illinois; Virginia; California; Toronto","https://f5.recsolu.com/job_boards/USARc2y-c5XCyiKQlSxsbQ",5000,1996,{"$f":"_xlfn.CONCAT(Table3[[#This Row],[Company]:[Year Founded]]&\" \")","v":"F5 CyberSecurity ADN technology for security, performance, availability of servers, data storage devices, and other network and cloud resources. Washington; Colorado; Massachusetts; New York; Illinois; Virginia; California; Toronto https://f5.recsolu.com/job_boards/USARc2y-c5XCyiKQlSxsbQ 5000 1996 "},{"$f":"Table3[[#This Row],[Column26]]","v":"Senior Product Marketing Manager"},"Senior Product Marketing Manager","F5","NA","N"]
[null,"FireEye","CyberSecurity","Software and hardware to protect against, analyze and investigate  cyber threats.","California; Virginia; Utah; New York","https://www.fireeye.com/company/jobs.html",3400,2004,{"$f":"_xlfn.CONCAT(Table3[[#This Row],[Company]:[Year Founded]]&\" \")","v":"FireEye CyberSecurity Software and hardware to protect against, analyze and investigate  cyber threats. California; Virginia; Utah; New York https://www.fireeye.com/company/jobs.html 3400 2004 "},{"$f":"[1]Sheet1!$C$270","v":"Sr. Manager Growth Marketing, Campaigns"},null,null,"Y","N"]
[null,"Forcepoint","CyberSecurity","Protects networks from cybercrime, malware and data theft","Texas, Virginia; California; Illinois; Utah; Indiana; Florida","https://www.forcepoint.com/company/careers",2800,1994,{"$f":"_xlfn.CONCAT(Table3[[#This Row],[Company]:[Year Founded]]&\" \")","v":"Forcepoint CyberSecurity Protects networks from cybercrime, malware and data theft Texas, Virginia; California; Illinois; Utah; Indiana; Florida https://www.forcepoint.com/company/careers 2800 1994 "},{"$f":"Table3[[#This Row],[Column26]]","v":"Sr. Channel Program Manager"},"Sr. Channel Program Manager","Forcepoint","Y","Y","https://www.indeed.com/jobs?q=Forcepoint&l=United%20States&start=10&vjk=27e6dbeb4a01ee5d"]
[null,"Forter","CyberSecurity","eCommerce fraud detection and prevention solutions to online merchants.","California; New York; Texas","https://boards.greenhouse.io/forter",225,2013,{"$f":"_xlfn.CONCAT(Table3[[#This Row],[Company]:[Year Founded]]&\" \")","v":"Forter CyberSecurity eCommerce fraud detection and prevention solutions to online merchants. California; New York; Texas https://boards.greenhouse.io/forter 225 2013 "},{"$f":"Table3[[#This Row],[Column26]]","v":"Customer Success Manager"},"Customer Success Manager","Forter","NA","N"]
[null,"Fortinet","CyberSecurity","A cybersecurity software company, beat revenue and earnings expectations, but the stock fell 16% on reduced guidance for the coming quarter. ","California; New York; Texas; Virginia; Florida; Burnaby; Ottawa","https://edel.fa.us2.oraclecloud.com/hcmUI/CandidateExperience/en/sites/CX/requisitions?location=United%20States&locationId=300000000361862&locationLevel=country",5800,2000,{"$f":"_xlfn.CONCAT(Table3[[#This Row],[Company]:[Year Founded]]&\" \")","v":"Fortinet CyberSecurity A cybersecurity software company, beat revenue and earnings expectations, but the stock fell 16% on reduced guidance for the coming quarter.  California; New York; Texas; Virginia; Florida; Burnaby; Ottawa https://edel.fa.us2.oraclecloud.com/hcmUI/CandidateExperience/en/sites/CX/requisitions?location=United%20States&locationId=300000000361862&locationLevel=country 5800 2000 "},{"$f":"Table3[[#This Row],[Column26]]","v":"Sales Operations Manager"},"Sales Operations Manager","Fortinet","NA","N"]
[null,"Hackerone","CyberSecurity","Hacker-backed cyber security","California; New York","https://www.hackerone.com/careers",250,2012,{"$f":"_xlfn.CONCAT(Table3[[#This Row],[Company]:[Year Founded]]&\" \")","v":"Hackerone CyberSecurity Hacker-backed cyber security California; New York https://www.hackerone.com/careers 250 2012 "},{"$f":"[1]Sheet1!$C$264","v":"Sr. Partner Delivery Leader"},"Regional Marketing Manager, North America",null,"NA","Y","https://www.indeed.com/jobs?q=Hackerone&l=United%20States&vjk=a96c1b4ce145b974"]
[null,"Illumio","CyberSecurity"," data center and cloud computing security","California","https://www.illumio.com/career-openings",300,2013,{"$f":"_xlfn.CONCAT(Table3[[#This Row],[Company]:[Year Founded]]&\" \")","v":"Illumio CyberSecurity  data center and cloud computing security California https://www.illumio.com/career-openings 300 2013 "},{"$f":"Table3[[#This Row],[Column26]]","v":"Demand Generation Marketing Manager"},"Demand Generation Marketing Manager","Illumio","Y","Y","https://www.indeed.com/jobs?q=Illumio&explvl=senior_level&vjk=e4a39eb67f90f192"]
[null,"Imperva","CyberSecurity","Cybersecurity platform for enterprises, universities, and government agencies to protect data and applications across on-premise, cloud, and hybrid systems.","California; Texas","https://www.imperva.com/company/careers/",1000,2002,{"$f":"_xlfn.CONCAT(Table3[[#This Row],[Company]:[Year Founded]]&\" \")","v":"Imperva CyberSecurity Cybersecurity platform for enterprises, universities, and government agencies to protect data and applications across on-premise, cloud, and hybrid systems. California; Texas https://www.imperva.com/company/careers/ 1000 2002 "},{"$f":"Table3[[#This Row],[Column26]]","v":"VICE PRESIDENT OF SALES OPERATIONS"},"VICE PRESIDENT OF SALES OPERATIONS","Imperva","NA","N"]
[null,"Juniper Networks","CyberSecurity","Networking and cybersecurity solutions for service providers, enterprises and public sectors.","California; Texas; Washington; Minnesota; New Jersey; Illinois; Colorado; North Carolina; Maryland; Virginia; New York; Oklahoma; Massachusetts; Kanata; Ottawa; Mississauga","https://careers.juniper.net/careers/careers/#/",9200,1996,{"$f":"_xlfn.CONCAT(Table3[[#This Row],[Company]:[Year Founded]]&\" \")","v":"Juniper Networks CyberSecurity Networking and cybersecurity solutions for service providers, enterprises and public sectors. California; Texas; Washington; Minnesota; New Jersey; Illinois; Colorado; North Carolina; Maryland; Virginia; New York; Oklahoma; Massachusetts; Kanata; Ottawa; Mississauga https://careers.juniper.net/careers/careers/#/ 9200 1996 "},{"$f":"[1]Sheet1!$C$275","v":"Finance Associate Manager"},null,null,"Y","N"]
[null,"Knowbe4","CyberSecurity","Security awareness training programs for enterprises to manage social engineering, spear phishing and ransomware attacks.","Florida","https://www.knowbe4.com/jobs",1000,2010,{"$f":"_xlfn.CONCAT(Table3[[#This Row],[Company]:[Year Founded]]&\" \")","v":"Knowbe4 CyberSecurity Security awareness training programs for enterprises to manage social engineering, spear phishing and ransomware attacks. Florida https://www.knowbe4.com/jobs 1000 2010 "},{"$f":"Table3[[#This Row],[Column26]]","v":"Senior Partner Marketing Manager"},"Senior Partner Marketing Manager","Knowbe4","Y","Y","https://www.indeed.com/jobs?q=Knowbe4&l=United%20States&vjk=4e63fba169d704b7"]
[null,"Kyriba","CyberSecurity","SaaS platform provides cloud-based treasury management, including risk management, fraud prevention, and compliance solutions.","California","https://www.kyriba.com/company/careers/",650,2000,{"$f":"_xlfn.CONCAT(Table3[[#This Row],[Company]:[Year Founded]]&\" \")","v":"Kyriba CyberSecurity SaaS platform provides cloud-based treasury management, including risk management, fraud prevention, and compliance solutions. California https://www.kyriba.com/company/careers/ 650 2000 "},{"$f":"[1]Sheet1!$C$272","v":"Director, Value Marketing"},null,null,"NA","N"]
[null,"McAfee","CyberSecurity","Spyware removal and firewall, server and email protection solutions for business, government, consumers and non-profits.","California; Texas; Markham","https://careers.mcafee.com/category/sales-jobs/731/18571/1",7000,1987,{"$f":"_xlfn.CONCAT(Table3[[#This Row],[Company]:[Year Founded]]&\" \")","v":"McAfee CyberSecurity Spyware removal and firewall, server and email protection solutions for business, government, consumers and non-profits. California; Texas; Markham https://careers.mcafee.com/category/sales-jobs/731/18571/1 7000 1987 "},{"$f":"[1]Sheet1!$C$265","v":"Senior Manager, Partner Marketing & Success - Remote"},null,null,"NA","N"]
[null,"Netskope","CyberSecurity","Access control, incident response, anomaly detection and threat protection services","California; Idaho; Massachusetts; North Carolina; Illinois; Ohio; Nebraska; Arizona; Utah; Washington; Missouri","https://www.netskope.com/company/careers/open-positions",1000,2012,{"$f":"_xlfn.CONCAT(Table3[[#This Row],[Company]:[Year Founded]]&\" \")","v":"Netskope CyberSecurity Access control, incident response, anomaly detection and threat protection services California; Idaho; Massachusetts; North Carolina; Illinois; Ohio; Nebraska; Arizona; Utah; Washington; Missouri https://www.netskope.com/company/careers/open-positions 1000 2012 "},{"$f":"Table3[[#This Row],[Column26]]","v":"Digital Marketing Manager "},"Digital Marketing Manager ","Netskope","NA","N"]
[null,"NortonLifeLock","CyberSecurity"," SaaS-based platform that provides identity theft protection solutions to businesses.","Arizona","https://www.nortonlifelock.com/us/en/careers/",11900,1982,{"$f":"_xlfn.CONCAT(Table3[[#This Row],[Company]:[Year Founded]]&\" \")","v":"NortonLifeLock CyberSecurity  SaaS-based platform that provides identity theft protection solutions to businesses. Arizona https://www.nortonlifelock.com/us/en/careers/ 11900 1982 "},{"$f":"[1]Sheet1!$C$269","v":"RSA - Senior Manager, Consulting 100% Remote"},{"$f":"[1]Sheet1!$C$269","v":"RSA - Senior Manager, Consulting 100% Remote"},"NortonLifeLock","NA","N"]
[null,"Palo Alto Networks","CyberSecurity","Threat protection, firewall and uniform resource locator filtering solutions for business and government.","California; Washington; New York; Texas; Virginia","https://jobs.paloaltonetworks.com/careers/sales/",7000,2005,{"$f":"_xlfn.CONCAT(Table3[[#This Row],[Company]:[Year Founded]]&\" \")","v":"Palo Alto Networks CyberSecurity Threat protection, firewall and uniform resource locator filtering solutions for business and government. California; Washington; New York; Texas; Virginia https://jobs.paloaltonetworks.com/careers/sales/ 7000 2005 "},{"$f":"Table3[[#This Row],[Column26]]","v":"Sr. Manager, Sales planning & operations"},"Sr. Manager, Sales planning & operations",null,"Y","Y","https://www.indeed.com/jobs?q=Palo%20Alto%20Networks&explvl=senior_level&vjk=2d087208ea2a10e0"]
[null,"Phishlabs","CyberSecurity","Cybercrime protection and intelligence services ","South Carolina; Ontario","https://www.phishlabs.com/",200,2008,{"$f":"_xlfn.CONCAT(Table3[[#This Row],[Company]:[Year Founded]]&\" \")","v":"Phishlabs CyberSecurity Cybercrime protection and intelligence services  South Carolina; Ontario https://www.phishlabs.com/ 200 2008 "},{"$f":"Table3[[#This Row],[Column26]]","v":"Customer Success Manager"},"Customer Success Manager",null,"NA","N"]
[null,"Pindrop","CyberSecurity","Authentication and fraud detection for voice interactions in contact centers and connected IoT devices","Georgia; Colorado; Florida; New Jersey; New York; Texas; California ","https://www.pindrop.com/all-careers/",227,2011,{"$f":"_xlfn.CONCAT(Table3[[#This Row],[Company]:[Year Founded]]&\" \")","v":"Pindrop CyberSecurity Authentication and fraud detection for voice interactions in contact centers and connected IoT devices Georgia; Colorado; Florida; New Jersey; New York; Texas; California  https://www.pindrop.com/all-careers/ 227 2011 "},{"$f":"Table3[[#This Row],[Column26]]","v":"Product Marketing Manager"},"Product Marketing Manager","Pindrop","NA","N"]
[null,"Pingidentity","CyberSecurity","Single sign-on and identity management software to enhance IT security and secure mobile access.","Colorado; Texas; Massachusetts; California; Vancouver","https://www.pingidentity.com/en/company/careers.html",828,2002,{"$f":"_xlfn.CONCAT(Table3[[#This Row],[Company]:[Year Founded]]&\" \")","v":"Pingidentity CyberSecurity Single sign-on and identity management software to enhance IT security and secure mobile access. Colorado; Texas; Massachusetts; California; Vancouver https://www.pingidentity.com/en/company/careers.html 828 2002 "},{"$f":"Table3[[#This Row],[Column26]]","v":"Senior Customer Success Manager"},"Senior Customer Success Manager",null,"NA","N"]
[null,"Proofpoint","CyberSecurity","Cybersecurity and compliance software for business, universities, and governments.","California; Texas; Massachusetts; Colorado; Utah; North Carolina; Indiana; Virginia;  New York; Pittsburg; Pennsylvania","https://www.proofpoint.com/us/company/careers",2600,2002,{"$f":"_xlfn.CONCAT(Table3[[#This Row],[Company]:[Year Founded]]&\" \")","v":"Proofpoint CyberSecurity Cybersecurity and compliance software for business, universities, and governments. California; Texas; Massachusetts; Colorado; Utah; North Carolina; Indiana; Virginia;  New York; Pittsburg; Pennsylvania https://www.proofpoint.com/us/company/careers 2600 2002 "},{"$f":"[1]Sheet1!$C$267","v":"Director, Corporate Communications (North America)"},null,null,"Y","N"]
[null,"Prove","CyberSecurity","SaaS-based platform for digital identity authentication. Formerly 'Payfone'","New York; Colorado","https://prove.com/",50,2008,{"$f":"_xlfn.CONCAT(Table3[[#This Row],[Company]:[Year Founded]]&\" \")","v":"Prove CyberSecurity SaaS-based platform for digital identity authentication. Formerly 'Payfone' New York; Colorado https://prove.com/ 50 2008 "},{"$f":"Table3[[#This Row],[Column26]]","v":"Director, Product Management"},"Director, Product Management","Prove","NA","N"]
[null,"PulseSecure","CyberSecurity","Platform for secure connectivity between users, devices, applications, networks, and the cloud.","California; Maryland","https://www.pulsesecure.net/careers/job-listings/",650,2014,{"$f":"_xlfn.CONCAT(Table3[[#This Row],[Company]:[Year Founded]]&\" \")","v":"PulseSecure CyberSecurity Platform for secure connectivity between users, devices, applications, networks, and the cloud. California; Maryland https://www.pulsesecure.net/careers/job-listings/ 650 2014 "},{"$f":"Table3[[#This Row],[Column26]]","v":"Director, Partner Sales"},"Director, Partner Sales","PulseSecure","NA","N"]
[null,"Q2 Software Inc","CyberSecurity","Secure electronic banking for financial institutions.","Texas; North Carolina; Iowa; Illinois; Nebraska; Georgia; California","https://www.q2.com/careers",1500,2004,{"$f":"_xlfn.CONCAT(Table3[[#This Row],[Company]:[Year Founded]]&\" \")","v":"Q2 Software Inc CyberSecurity Secure electronic banking for financial institutions. Texas; North Carolina; Iowa; Illinois; Nebraska; Georgia; California https://www.q2.com/careers 1500 2004 "},{"$f":"Table3[[#This Row],[Column26]]","v":"Senior Customer Success Manager"},"Senior Customer Success Manager","Q2 Software Inc","Y","N"]
[null,"Qualys","CyberSecurity","Cloud security, compliance and related services for small and medium-sized businesses.","California","https://www.qualys.com/careers/",1100,1999,{"$f":"_xlfn.CONCAT(Table3[[#This Row],[Company]:[Year Founded]]&\" \")","v":"Qualys CyberSecurity Cloud security, compliance and related services for small and medium-sized businesses. California https://www.qualys.com/careers/ 1100 1999 "},{"$f":"Table3[[#This Row],[Column26]]","v":"Director Demand Generation"},"Director Demand Generation","Qualys","Y","N"]
[null,"Randori","CyberSecurity","platform protects against hacking","Massachusetts; Colorado","https://www.randori.com/careers/",21,2018,{"$f":"_xlfn.CONCAT(Table3[[#This Row],[Company]:[Year Founded]]&\" \")","v":"Randori CyberSecurity platform protects against hacking Massachusetts; Colorado https://www.randori.com/careers/ 21 2018 "},{"$f":"Table3[[#This Row],[Column26]]","v":"Customer Success Manager"},"Customer Success Manager","Randori","NA","N"]
[null,"Recorded Future","CyberSecurity","Web-based platform to monitor the dark web, assess threats and manage vulnerability","Massachusetts; Virginia","https://www.recordedfuture.com/careers/#job-post",450,2009,{"$f":"_xlfn.CONCAT(Table3[[#This Row],[Company]:[Year Founded]]&\" \")","v":"Recorded Future CyberSecurity Web-based platform to monitor the dark web, assess threats and manage vulnerability Massachusetts; Virginia https://www.recordedfuture.com/careers/#job-post 450 2009 "},{"$f":"Table3[[#This Row],[Column26]]","v":"Senior Strategic Accounts Marketing Manager"},"Senior Strategic Accounts Marketing Manager",null,"NA","N"]
[null,"Ring","CyberSecurity","Outdoor home security technology. ","California","https://www.amazon.jobs/en/teams/ring",1400,2013,{"$f":"_xlfn.CONCAT(Table3[[#This Row],[Company]:[Year Founded]]&\" \")","v":"Ring CyberSecurity Outdoor home security technology.  California https://www.amazon.jobs/en/teams/ring 1400 2013 "},{"$f":"Table3[[#This Row],[Column26]]","v":"Sr. Operations Program Manager"},"Sr. Operations Program Manager","Ring","Y","N"]
[null,"Riskified","CyberSecurity"," e-Commerce fraud prevention platform ","New York","https://www.riskified.com/careers/",450,2012,{"$f":"_xlfn.CONCAT(Table3[[#This Row],[Company]:[Year Founded]]&\" \")","v":"Riskified CyberSecurity  e-Commerce fraud prevention platform  New York https://www.riskified.com/careers/ 450 2012 "},{"$f":"Table3[[#This Row],[Column26]]","v":"Senior Account Manager"},"Senior Account Manager",null,"Y","Y","https://www.indeed.com/jobs?q=Riskified&l=United%20States&vjk=c6d94dadb724a98b"]
[null,"RSA","CyberSecurity","Identity governance, threat detection and incident response solutions for businesses.","Massachusetts","https://www.rsagroup.com/careers/",2700,1982,{"$f":"_xlfn.CONCAT(Table3[[#This Row],[Company]:[Year Founded]]&\" \")","v":"RSA CyberSecurity Identity governance, threat detection and incident response solutions for businesses. Massachusetts https://www.rsagroup.com/careers/ 2700 1982 "},{"$f":"[1]Sheet1!$C$269","v":"RSA - Senior Manager, Consulting 100% Remote"},{"$f":"[1]Sheet1!$C$269","v":"RSA - Senior Manager, Consulting 100% Remote"},"RSA","NA","N"]
[null,"Securly","CyberSecurity","Web filtering and parental controls software for schools and homes. ","California","https://www.securly.com/careers",90,2012,{"$f":"_xlfn.CONCAT(Table3[[#This Row],[Company]:[Year Founded]]&\" \")","v":"Securly CyberSecurity Web filtering and parental controls software for schools and homes.  California https://www.securly.com/careers 90 2012 "},{"$f":"[1]Sheet1!$C$260","v":"Sales Development Representative TEAM LEAD - REMOTE"},null,null,"Y","N"]
[null,"Sentinel One","CyberSecurity","Malware prevention and endpoint security services for laptops, PCs, cloud servers and IoT devices.","California","https://www.sentinelone.com/jobs/",525,2013,{"$f":"_xlfn.CONCAT(Table3[[#This Row],[Company]:[Year Founded]]&\" \")","v":"Sentinel One CyberSecurity Malware prevention and endpoint security services for laptops, PCs, cloud servers and IoT devices. California https://www.sentinelone.com/jobs/ 525 2013 "},{"$f":"Table3[[#This Row],[Column26]]","v":"Traffic Manager, Brand & Creative"},"Traffic Manager, Brand & Creative","Sentinel One","Y","N"]
[null,"Signifyd","CyberSecurity","SaaS platform to detect fraud and prevent credit card chargebacks.","California; Colorado; New York","https://www.signifyd.com/jobs/",320,2011,{"$f":"_xlfn.CONCAT(Table3[[#This Row],[Company]:[Year Founded]]&\" \")","v":"Signifyd CyberSecurity SaaS platform to detect fraud and prevent credit card chargebacks. California; Colorado; New York https://www.signifyd.com/jobs/ 320 2011 "},{"$f":"Table3[[#This Row],[Column26]]","v":"Enterprise Account Executive"},"Enterprise Account Executive","Signifyd","NA","N"]
[null,"SonicWall","CyberSecurity","Security solutions to protect network, systems, users and data from cyber threats.","California","https://www.sonicwall.com/about-sonicwall/careers/",1600,1991,{"$f":"_xlfn.CONCAT(Table3[[#This Row],[Company]:[Year Founded]]&\" \")","v":"SonicWall CyberSecurity Security solutions to protect network, systems, users and data from cyber threats. California https://www.sonicwall.com/about-sonicwall/careers/ 1600 1991 "},{"$f":"[1]Sheet1!$C$271","v":"Channel Account Manager"},null,null,"NA","N"]
[null,"Sophos","CyberSecurity","A British security software and hardware company. ","Ottawa; Vancouver; Massachusetts; Texas","https://careers.sophos.com/search/?createNewAlert=false&q=&optionsFacetsDD_country=US&optionsFacetsDD_facility=&optionsFacetsDD_customfield4=",3500,1985,{"$f":"_xlfn.CONCAT(Table3[[#This Row],[Company]:[Year Founded]]&\" \")","v":"Sophos CyberSecurity A British security software and hardware company.  Ottawa; Vancouver; Massachusetts; Texas https://careers.sophos.com/search/?createNewAlert=false&q=&optionsFacetsDD_country=US&optionsFacetsDD_facility=&optionsFacetsDD_customfield4= 3500 1985 "},{"$f":"[1]Sheet1!$C$263","v":"Senior Manager, Customer Reference Program"},null,null,"NA","N"]
[null,"Spectranetix","CyberSecurity","Cyber-electronic warfare, communications, signals intelligence, direction finding, and commercial wireless systems.","California; Washington","https://www.spectranetix.com/careers/",75,2011,{"$f":"_xlfn.CONCAT(Table3[[#This Row],[Company]:[Year Founded]]&\" \")","v":"Spectranetix CyberSecurity Cyber-electronic warfare, communications, signals intelligence, direction finding, and commercial wireless systems. California; Washington https://www.spectranetix.com/careers/ 75 2011 "},{"$f":"Table3[[#This Row],[Column26]]","v":"NA"},"NA","Spectranetix","NA","N"]
[null,"Tanium","CyberSecurity","Cloud-based endpoint security platform to detect vulnerabilities and respond to threats. ","California; Texas; Maryland; North Carolina; New York","https://www.tanium.com/careers/",1500,2007,{"$f":"_xlfn.CONCAT(Table3[[#This Row],[Company]:[Year Founded]]&\" \")","v":"Tanium CyberSecurity Cloud-based endpoint security platform to detect vulnerabilities and respond to threats.  California; Texas; Maryland; North Carolina; New York https://www.tanium.com/careers/ 1500 2007 "},{"$f":"Table3[[#This Row],[Column26]]","v":"Director Product Marketing, Client Management"},"Director Product Marketing, Client Management","Tanium","Y","Y","https://www.indeed.com/jobs?q=Tanium&l=United%20States&start=20&vjk=a18c0a42d095d22e"]
[null,"Tenable","CyberSecurity","Continuous network monitoring and vulnerability management services to finance, government, healthcare, education and retail sectors.","Maryland; New York; California; Virginia; Saint John","https://careers.tenable.com/search/sales/jobs?location=united+states",1200,2002,{"$f":"_xlfn.CONCAT(Table3[[#This Row],[Company]:[Year Founded]]&\" \")","v":"Tenable CyberSecurity Continuous network monitoring and vulnerability management services to finance, government, healthcare, education and retail sectors. Maryland; New York; California; Virginia; Saint John https://careers.tenable.com/search/sales/jobs?location=united+states 1200 2002 "},{"$f":"Table3[[#This Row],[Column26]]","v":"Customer Success Manager"},"Customer Success Manager","Tenable","Y","N"]
[null,"Thales","CyberSecurity","Data security, cloud security, credentialing and digital transformation services.","Virginia; new Jersey; California; Kansas; Florida; Burnaby; Montreal; Ottawa; ","https://jobs.thalesgroup.com/search-jobs/United%20States?orgIds=1766-23141-23081-23007&alp=6252001&alt=2",927,1893,{"$f":"_xlfn.CONCAT(Table3[[#This Row],[Company]:[Year Founded]]&\" \")","v":"Thales CyberSecurity Data security, cloud security, credentialing and digital transformation services. Virginia; new Jersey; California; Kansas; Florida; Burnaby; Montreal; Ottawa;  https://jobs.thalesgroup.com/search-jobs/United%20States?orgIds=1766-23141-23081-23007&alp=6252001&alt=2 927 1893 "},{"$f":"Table3[[#This Row],[Column26]]","v":"Business Development Manager"},"Business Development Manager",null,"NA","Y","https://www.indeed.com/jobs?q=Thales&l=United%20States&vjk=a43efb4ecea06ce8"]
[null,"Threat Stack","CyberSecurity","Continuous security monitoring for public, private, and hybrid cloud infrastructures protecting servers, and the data they access.","Virginia; Massachusetts","https://www.threatstack.com/careers",150,2012,{"$f":"_xlfn.CONCAT(Table3[[#This Row],[Company]:[Year Founded]]&\" \")","v":"Threat Stack CyberSecurity Continuous security monitoring for public, private, and hybrid cloud infrastructures protecting servers, and the data they access. Virginia; Massachusetts https://www.threatstack.com/careers 150 2012 "},{"$f":"[1]Sheet1!$C$261","v":"Customer Experience Research & Insights Program Manager"},null,null,"NA","N"]
[null,"Thycotic","CyberSecurity","Web-based password management software for organizations to manage privileged account credentials and identities.","Washington","https://thycotic.com/about-us/careers/",487,1996,{"$f":"_xlfn.CONCAT(Table3[[#This Row],[Company]:[Year Founded]]&\" \")","v":"Thycotic CyberSecurity Web-based password management software for organizations to manage privileged account credentials and identities. Washington https://thycotic.com/about-us/careers/ 487 1996 "},{"$f":"Table3[[#This Row],[Column26]]","v":"Account Executive"},"Account Executive","Thycotic","NA","N"]
[null,"Vectra AI","CyberSecurity"," AI-based cyber-security platform ","California; Texas; Massachusetts","https://www.vectra.ai/about/careers",240,2011,{"$f":"_xlfn.CONCAT(Table3[[#This Row],[Company]:[Year Founded]]&\" \")","v":"Vectra AI CyberSecurity  AI-based cyber-security platform  California; Texas; Massachusetts https://www.vectra.ai/about/careers 240 2011 "},{"$f":"Table3[[#This Row],[Column26]]","v":"Digital Marketing Program Manager"},"Digital Marketing Program Manager","Vectra AI","NA","N"]
[null,"Verint Systems Inc","CyberSecurity","Analytic software and hardware for security, surveillance and business intelligence markets.","New York","https://chm.tbe.taleo.net/chm03/ats/careers/v2/searchResults?org=VERINT&cws=72",6100,1994,{"$f":"_xlfn.CONCAT(Table3[[#This Row],[Company]:[Year Founded]]&\" \")","v":"Verint Systems Inc CyberSecurity Analytic software and hardware for security, surveillance and business intelligence markets. New York https://chm.tbe.taleo.net/chm03/ats/careers/v2/searchResults?org=VERINT&cws=72 6100 1994 "},{"$f":"[1]Sheet1!$C$273","v":"Product Marketing Director"},null,null,"Y","Y","https://www.indeed.com/jobs?q=Verint%20Systems%20Inc&explvl=senior_level&vjk=128c9185512576d2"]
[null,"White Ops","CyberSecurity","Bot mitigation, bot prevention, and ad fraud protection","New York; California","https://boards.greenhouse.io/whiteops",120,2012,{"$f":"_xlfn.CONCAT(Table3[[#This Row],[Company]:[Year Founded]]&\" \")","v":"White Ops CyberSecurity Bot mitigation, bot prevention, and ad fraud protection New York; California https://boards.greenhouse.io/whiteops 120 2012 "},{"$f":"Table3[[#This Row],[Column26]]","v":"NA"},"NA",null,"NA","N"]
[null,"Zscaler Inc","CyberSecurity","Cloud-based security, automated threat forensics and malware protection services.","California; New York; North Carolina; Virginia; Burnaby","https://www.zscaler.com/careers",1400,2007,{"$f":"_xlfn.CONCAT(Table3[[#This Row],[Company]:[Year Founded]]&\" \")","v":"Zscaler Inc CyberSecurity Cloud-based security, automated threat forensics and malware protection services. California; New York; North Carolina; Virginia; Burnaby https://www.zscaler.com/careers 1400 2007 "},{"$f":"Table3[[#This Row],[Column26]]","v":"Customer Success Manager"},"Customer Success Manager","Zscaler Inc","Y","Y","https://www.indeed.com/jobs?q=Cree&l=United%20States&vjk=7d42de6f87cbf8b8"]
[null,"Alert Innovation","eCommerce","Alert Innovation is a company developing e-Grocery technology solutions.","Massachusetts","https://www.alertinnovation.com/join-our-team",192,2016,{"$f":"_xlfn.CONCAT(Table3[[#This Row],[Company]:[Year Founded]]&\" \")","v":"Alert Innovation eCommerce Alert Innovation is a company developing e-Grocery technology solutions. Massachusetts https://www.alertinnovation.com/join-our-team 192 2016 "},{"$f":"[1]Sheet1!$C$361","v":"Senior Program Manager - Deployments"},null,null,"NA","N"]
[null,"Amazon","eCommerce","Top MBA recruiter: E-commerce, cloud computing, digital media. ","Washington; Virginia;Georgia; Texas; Maryland; Oregon; Colorado; Pennsylvania; New York; Michigan; Kentucky; New Jersey; Tennessee; North Carolina; Illinois; Ohio; California; Massachusetts; West Virginia; Indiana; Wisconsin; Florida; Minneapolis; Delaware; South Carolina; Nevada; Arizona; Calgary; Montreal; Toronto; Vancouver","https://www.amazon.jobs/en/",647000,1994,{"$f":"_xlfn.CONCAT(Table3[[#This Row],[Company]:[Year Founded]]&\" \")","v":"Amazon eCommerce Top MBA recruiter: E-commerce, cloud computing, digital media.  Washington; Virginia;Georgia; Texas; Maryland; Oregon; Colorado; Pennsylvania; New York; Michigan; Kentucky; New Jersey; Tennessee; North Carolina; Illinois; Ohio; California; Massachusetts; West Virginia; Indiana; Wisconsin; Florida; Minneapolis; Delaware; South Carolina; Nevada; Arizona; Calgary; Montreal; Toronto; Vancouver https://www.amazon.jobs/en/ 647000 1994 "},{"$f":"Table3[[#This Row],[Column26]]","v":"Sr. Financial Integration Mgr"},"Sr. Financial Integration Mgr","Amazon","Y","Y","https://www.indeed.com/jobs?q=Amazon&l&vjk=f7dd2ffd008eb100"]
[null,"Bigcommerce","eCommerce","Open SaaS for eCommerce","Texas; California","https://www.bigcommerce.com/careers/?department=support",690,2009,{"$f":"_xlfn.CONCAT(Table3[[#This Row],[Company]:[Year Founded]]&\" \")","v":"Bigcommerce eCommerce Open SaaS for eCommerce Texas; California https://www.bigcommerce.com/careers/?department=support 690 2009 "},{"$f":"[1]Sheet1!$C$349","v":"Technical Project Manager"},null,null,"Y","N"]
[null,"Blue Yonder","eCommerce","Digital fulfillment platform for cloud-based supply chain, ERP and financial management. Subsidiaries include BlueYonder and Intactix.","Arizona","https://blueyonder.com/careers",5300,1985,{"$f":"_xlfn.CONCAT(Table3[[#This Row],[Company]:[Year Founded]]&\" \")","v":"Blue Yonder eCommerce Digital fulfillment platform for cloud-based supply chain, ERP and financial management. Subsidiaries include BlueYonder and Intactix. Arizona https://blueyonder.com/careers 5300 1985 "},{"$f":"[1]Sheet1!$C$348","v":"Sr. Delivery Partner - Retail"},null,null,"Y","Y","https://www.indeed.com/jobs?q=Blue%20Yonder&explvl=senior_level&start=30&vjk=05881269f4cb104e"]
[null,"Booking Holdings","eCommerce","Online travel site.  Its brands include booking.com, priceline.com, agoda.com, Kayak, Rentalcars.com and OpenTable.","Connecticut; California","https://www.bookingholdings.com/careers/careers/",24500,1997,{"$f":"_xlfn.CONCAT(Table3[[#This Row],[Company]:[Year Founded]]&\" \")","v":"Booking Holdings eCommerce Online travel site.  Its brands include booking.com, priceline.com, agoda.com, Kayak, Rentalcars.com and OpenTable. Connecticut; California https://www.bookingholdings.com/careers/careers/ 24500 1997 "},{"$f":"[1]Sheet1!$C$353","v":"\nOperations (Supplier Management) Manager"},"Project Manager, Global Business Services - FINANCE",null,"NA","N"]
[null,"Carvana","eCommerce","Online automotive dealership.","Arizona","https://www.carvana.com/",3800,2011,{"$f":"_xlfn.CONCAT(Table3[[#This Row],[Company]:[Year Founded]]&\" \")","v":"Carvana eCommerce Online automotive dealership. Arizona https://www.carvana.com/ 3800 2011 "},{"$f":"[1]Sheet1!$C$355","v":"NA"},null,null,"NA","N"]
[null,"ChannelAdvisor","eCommerce","e-Commerce cloud platform that enables online retailers to make their products visible across multiple channels and optimizes their operations with with business analytics.","North Carolina; Colorado; ","https://careers-channeladvisor.icims.com/jobs/search?ss=1&searchLocation=12781-12817-Morrisville",730,2001,{"$f":"_xlfn.CONCAT(Table3[[#This Row],[Company]:[Year Founded]]&\" \")","v":"ChannelAdvisor eCommerce e-Commerce cloud platform that enables online retailers to make their products visible across multiple channels and optimizes their operations with with business analytics. North Carolina; Colorado;  https://careers-channeladvisor.icims.com/jobs/search?ss=1&searchLocation=12781-12817-Morrisville 730 2001 "},{"$f":"[1]Sheet1!$C$378","v":"Strategic Partnership Executive"},null,null,"NA","Y","https://www.indeed.com/jobs?q=ChannelAdvisor&l=United%20States&vjk=21d74883b1c598d2"]
[null,"Doordash","eCommerce","Online restaurant delivery platform ","California; Georgia; Texas; Illinois; Colorado; Florida; New York; Arizona; Washington; Calgary; Montreal; Toronto","https://www.doordash.com/careers/",7500,2013,{"$f":"_xlfn.CONCAT(Table3[[#This Row],[Company]:[Year Founded]]&\" \")","v":"Doordash eCommerce Online restaurant delivery platform  California; Georgia; Texas; Illinois; Colorado; Florida; New York; Arizona; Washington; Calgary; Montreal; Toronto https://www.doordash.com/careers/ 7500 2013 "},{"$f":"[1]Sheet1!$C$367","v":"Associate Manager, Sales Strategy and Operations"},null,null,"NA","N"]
[null,"eBay","eCommerce","Online auction and e-commerce platform.","California; Texas; Washington; Illinois; Utah; New York; Oregon; DC; Arizona; Toronto","https://careers.ebayinc.com/",14000,1995,{"$f":"_xlfn.CONCAT(Table3[[#This Row],[Company]:[Year Founded]]&\" \")","v":"eBay eCommerce Online auction and e-commerce platform. California; Texas; Washington; Illinois; Utah; New York; Oregon; DC; Arizona; Toronto https://careers.ebayinc.com/ 14000 1995 "},{"$f":"[1]Sheet1!$C$351","v":"Manager, Strategic Revenue Insights"},null,null,"NA","Y","https://www.indeed.com/jobs?q=eBay&l=United%20States&vjk=d7568fc9de52b2cf"]
[null,"Expedia","eCommerce","Online travel site. Its brands include Hotels.com, VRBO and Expedia.com.","Washington; Illinois; Texas; Florida; New York; California; Colorado; Missouri","https://lifeatexpediagroup.com/",25000,1996,{"$f":"_xlfn.CONCAT(Table3[[#This Row],[Company]:[Year Founded]]&\" \")","v":"Expedia eCommerce Online travel site. Its brands include Hotels.com, VRBO and Expedia.com. Washington; Illinois; Texas; Florida; New York; California; Colorado; Missouri https://lifeatexpediagroup.com/ 25000 1996 "},{"$f":"[1]Sheet1!$C$352","v":"Partner Success Account Manager"},null,null,"NA","Y","https://www.indeed.com/jobs?q=Expedia&l=United%20States&start=20&vjk=0cc17bb79fa1d358"]
[null,"Faire","eCommerce","eCommerce platform for small and independent business to sell \"wholesale.\"","California; Kitchener","https://www.faire.com/careers",200,2016,{"$f":"_xlfn.CONCAT(Table3[[#This Row],[Company]:[Year Founded]]&\" \")","v":"Faire eCommerce eCommerce platform for small and independent business to sell \"wholesale.\" California; Kitchener https://www.faire.com/careers 200 2016 "},{"$f":"[1]Sheet1!$C$359","v":"Senior Lead, Business Operations"},null,null,"NA","Y","https://www.indeed.com/jobs?q=Faire&l=United%20States&vjk=d7df350f9852451e"]
[null,"Foursquare","eCommerce","Commercial location data and technology platform.","New York; Illinois; California; Washington","https://foursquare.com/careers",400,2009,{"$f":"_xlfn.CONCAT(Table3[[#This Row],[Company]:[Year Founded]]&\" \")","v":"Foursquare eCommerce Commercial location data and technology platform. New York; Illinois; California; Washington https://foursquare.com/careers 400 2009 "},{"$f":"[1]Sheet1!$C$356","v":"Business Analytics Manager, Pricing"},null,null,"NA","N"]
[null,"Instacart","eCommerce","Web and mobile-based platform for grocery ordering and delivery","California; Georgia; New York; North Carolina; Illinois; Florida; Minnesota; Oklahoma; Pennsylvania; Virginia; Washington; DC; Toronto","https://instacart.careers/",1200,2012,{"$f":"_xlfn.CONCAT(Table3[[#This Row],[Company]:[Year Founded]]&\" \")","v":"Instacart eCommerce Web and mobile-based platform for grocery ordering and delivery California; Georgia; New York; North Carolina; Illinois; Florida; Minnesota; Oklahoma; Pennsylvania; Virginia; Washington; DC; Toronto https://instacart.careers/ 1200 2012 "},{"$f":"[1]Sheet1!$C$366","v":"Partner Insights Manager"},null,null,"Y","Y","https://www.indeed.com/jobs?q=Instacart&l=United%20States&vjk=b3aa672cb0cf7783"]
[null,"Mason","eCommerce","A multi-channel retailer company that sells various products through e-commerce","Wisconsin","https://www.masoncompaniesinc.com/careers/",263,1904,{"$f":"_xlfn.CONCAT(Table3[[#This Row],[Company]:[Year Founded]]&\" \")","v":"Mason eCommerce A multi-channel retailer company that sells various products through e-commerce Wisconsin https://www.masoncompaniesinc.com/careers/ 263 1904 "},{"$f":"Table3[[#This Row],[Column26]]","v":"Digital Marketing Manager "},"Digital Marketing Manager ","Mason","NA","N"]
[null,"Postmates Inc","eCommerce","Online restaurant delivery platform ","California; Washington; Tennessee; New York; Vancouver","https://careers.postmates.com/openings",1000,2010,{"$f":"_xlfn.CONCAT(Table3[[#This Row],[Company]:[Year Founded]]&\" \")","v":"Postmates Inc eCommerce Online restaurant delivery platform  California; Washington; Tennessee; New York; Vancouver https://careers.postmates.com/openings 1000 2010 "},{"$f":"[1]Sheet1!$C$365","v":"Sr Technical Program Manager"},null,null,"NA","N"]
[null,"Rakuten","eCommerce","E-commerce, e-reading, travel, banking, securities, credit card, e-money, portal and media, online marketing","California; Ohio; Nevada; New York; Toronto","https://rakuten.careers/",17200,1997,{"$f":"_xlfn.CONCAT(Table3[[#This Row],[Company]:[Year Founded]]&\" \")","v":"Rakuten eCommerce E-commerce, e-reading, travel, banking, securities, credit card, e-money, portal and media, online marketing California; Ohio; Nevada; New York; Toronto https://rakuten.careers/ 17200 1997 "},{"$f":"[1]Sheet1!$C$379","v":"Supply Strategy Manager"},null,null,"NA","Y","https://www.indeed.com/jobs?q=Rakuten&l=United%20States&vjk=5ed6661cd9ffe638"]
[null,"Rent the runway","eCommerce","Online marketplace to rent dresses, gowns, handbags and accessories.","New York","https://boards.greenhouse.io/renttherunway",975,2008,{"$f":"_xlfn.CONCAT(Table3[[#This Row],[Company]:[Year Founded]]&\" \")","v":"Rent the runway eCommerce Online marketplace to rent dresses, gowns, handbags and accessories. New York https://boards.greenhouse.io/renttherunway 975 2008 "},{"$f":"[1]Sheet1!$C$363","v":"Senior Manager, Marketing Strategy & Planning"},null,null,"NA","N"]
[null,"Retail Next","eCommerce","Analytics to collect, analyze and visualize in-store data.","California; Illinois; Texas","https://retailnext.net/en/about-us/careers/",235,2007,{"$f":"_xlfn.CONCAT(Table3[[#This Row],[Company]:[Year Founded]]&\" \")","v":"Retail Next eCommerce Analytics to collect, analyze and visualize in-store data. California; Illinois; Texas https://retailnext.net/en/about-us/careers/ 235 2007 "},{"$f":"[1]Sheet1!$C$354","v":"Marketing Events Manager"},null,null,"NA","N"]
[null,"Squarespace","eCommerce","SaaS for website building and hosting","New York; California; Oregon","https://www.squarespace.com/about/careers",1100,2003,{"$f":"_xlfn.CONCAT(Table3[[#This Row],[Company]:[Year Founded]]&\" \")","v":"Squarespace eCommerce SaaS for website building and hosting New York; California; Oregon https://www.squarespace.com/about/careers 1100 2003 "},{"$f":"Table3[[#This Row],[Column26]]","v":"Senior Product Marketing Manager"},"Senior Product Marketing Manager","Squarespace","Y","Y","https://www.indeed.com/jobs?q=Squarespace&l&vjk=a6c2e03219431edf"]
[null,"Teespring","eCommerce","Online commerce platform that allows users to design and sell products such as T-shirts, hoodies, bags and pillows.","California","https://apply.workable.com/teespring-2/",800,2011,{"$f":"_xlfn.CONCAT(Table3[[#This Row],[Company]:[Year Founded]]&\" \")","v":"Teespring eCommerce Online commerce platform that allows users to design and sell products such as T-shirts, hoodies, bags and pillows. California https://apply.workable.com/teespring-2/ 800 2011 "},{"$f":"[1]Sheet1!$C$357","v":"NA"},null,null,"NA","N"]
[null,"ThredUp","eCommerce","Online resale platform to buy and sell secondhand apparel.","California; Pennsylvania","https://www.thredup.com/",1000,2008,{"$f":"_xlfn.CONCAT(Table3[[#This Row],[Company]:[Year Founded]]&\" \")","v":"ThredUp eCommerce Online resale platform to buy and sell secondhand apparel. California; Pennsylvania https://www.thredup.com/ 1000 2008 "},{"$f":"[1]Sheet1!$C$381","v":"NA"},null,null,"Y","Y","https://www.indeed.com/jobs?q=ThredUp&l=United%20States&vjk=7487b5d85360fde2"]
[null,"Tipalti","eCommerce","Cloud-based payment automation platform for the e-Commerce industry.","California; Vancouver","https://tipalti.com/join-team-tipalti-us/",260,2010,{"$f":"_xlfn.CONCAT(Table3[[#This Row],[Company]:[Year Founded]]&\" \")","v":"Tipalti eCommerce Cloud-based payment automation platform for the e-Commerce industry. California; Vancouver https://tipalti.com/join-team-tipalti-us/ 260 2010 "},{"$f":"[1]Sheet1!$C$373","v":"Manager of Implementations"},null,null,"NA","Y","https://www.indeed.com/jobs?q=Tipalti&l=United%20States&explvl=senior_level&vjk=526e2af8738df627"]
[null,"Vertebrae Inc","eCommerce","Virtual Reality advertising platform ","California; New York","https://www.vertebrae.com/careers/",44,2015,{"$f":"_xlfn.CONCAT(Table3[[#This Row],[Company]:[Year Founded]]&\" \")","v":"Vertebrae Inc eCommerce Virtual Reality advertising platform  California; New York https://www.vertebrae.com/careers/ 44 2015 "},{"$f":"[1]Sheet1!$C$362","v":"NA"},null,null,"NA","N"]
[null,"Whatnot","eCommerce","Whatnot is a company that provides a marketplace for buying and selling hobby items.","California","https://www.whatnot.com/careers",276,2019,{"$f":"_xlfn.CONCAT(Table3[[#This Row],[Company]:[Year Founded]]&\" \")","v":"Whatnot eCommerce Whatnot is a company that provides a marketplace for buying and selling hobby items. California https://www.whatnot.com/careers 276 2019 "},{"$f":"[1]Sheet1!$C$1065","v":"Manager, Corporate FP&A"}]
[null," UWorld, LLC","Edtech","Online practice questions for college prep, graduate and licensing exams.","Texas","https://careers.uworld.com/app/careers/listings/6",156,2001,{"$f":"_xlfn.CONCAT(Table3[[#This Row],[Company]:[Year Founded]]&\" \")","v":" UWorld, LLC Edtech Online practice questions for college prep, graduate and licensing exams. Texas https://careers.uworld.com/app/careers/listings/6 156 2001 "},{"$f":"K361","v":"Vice President of Sales"},"Senior Director, Customer Success","Paper","NA","Y","https://www.indeed.com/jobs?q=%20UWorld%2C%20LLC&l&vjk=d069bf2c7505aa90"]
[null,"2U","Edtech","Online platform that offers degree programs and for-credit courses  ","Maryland; Virginia; Florida; North Carolina; Colorado; California; New York; Arizona; ","https://2u.com/careers/",2500,2008,{"$f":"_xlfn.CONCAT(Table3[[#This Row],[Company]:[Year Founded]]&\" \")","v":"2U Edtech Online platform that offers degree programs and for-credit courses   Maryland; Virginia; Florida; North Carolina; Colorado; California; New York; Arizona;  https://2u.com/careers/ 2500 2008 "},{"$f":"K369","v":"Sr Customer Success Manager"},"Research Operations Manager","Newsela","Y","Y","https://www.indeed.com/jobs?q=2U&l=United%20States&explvl=senior_level&vjk=a152c476de90ce60"]
[null,"ApplyBoard","EdTech"," International student recruitment platform that connects students, schools, and recruiters to help students study in Canada, USA, and UK","Kitchener","https://www.applyboard.com/careers",400,2015,{"$f":"_xlfn.CONCAT(Table3[[#This Row],[Company]:[Year Founded]]&\" \")","v":"ApplyBoard EdTech  International student recruitment platform that connects students, schools, and recruiters to help students study in Canada, USA, and UK Kitchener https://www.applyboard.com/careers 400 2015 "},"NA","NA","Teachers pay teachers","NA","N"]
[null,"Black Spectacles","Edtech","Online learning platform providing test prep materials, software tutorials and career advice for architects.","Illinois","https://blackspectacles.com/careers",31,2010,{"$f":"_xlfn.CONCAT(Table3[[#This Row],[Company]:[Year Founded]]&\" \")","v":"Black Spectacles Edtech Online learning platform providing test prep materials, software tutorials and career advice for architects. Illinois https://blackspectacles.com/careers 31 2010 "},{"$f":"K363","v":"NA"},"Sr. Program Manager, R&D Operations","Instructure","Y","N"]
[null,"Brightwheel","EdTech","Preschool management software","California; Texas; Colorado; New York","https://mybrightwheel.com/",70,2014,{"$f":"_xlfn.CONCAT(Table3[[#This Row],[Company]:[Year Founded]]&\" \")","v":"Brightwheel EdTech Preschool management software California; Texas; Colorado; New York https://mybrightwheel.com/ 70 2014 "},{"$f":"K375","v":"Lifecycle Marketing Manager"},"Community Marketing Manager","Lambda School","Y","Y","https://www.indeed.com/jobs?q=Brightwheel&l=United%20States&vjk=70f0930b60574d2b"]
[null,"Code.org","Edtech","Non-profit that offers computer-science education","Washington","https://code.org/about/jobs",512,2012,{"$f":"_xlfn.CONCAT(Table3[[#This Row],[Company]:[Year Founded]]&\" \")","v":"Code.org Edtech Non-profit that offers computer-science education Washington https://code.org/about/jobs 512 2012 "},{"$f":"K370","v":"Marketing Campaign Manager"},"Vice President of Sales"," UWorld, LLC","Y","Y","https://www.indeed.com/jobs?q=Code.org&l=United%20States&vjk=74e6ea4a4abfaef6"]
[null,"Course Hero Software","EdTech","Online tutoring and homework help for K-12","California","https://www.coursehero.com/jobs/?location=1752#positions",800,2006,{"$f":"_xlfn.CONCAT(Table3[[#This Row],[Company]:[Year Founded]]&\" \")","v":"Course Hero Software EdTech Online tutoring and homework help for K-12 California https://www.coursehero.com/jobs/?location=1752#positions 800 2006 "},{"$f":"K374","v":"Lead Product Manager - Content Demand Intelligence"},"Senior Strategic Partnerships Manager","Jenzabar","NA","Y","https://www.indeed.com/jobs?q=Course%20Hero%20Software&l=United%20States&vjk=58d731348e882795"]
[null,"Coursera","Edtech","Online learning platform that offers massive open online courses (MOOC), specializations, and degrees.","California","https://about.coursera.org/careers/opportunities",453,2012,{"$f":"_xlfn.CONCAT(Table3[[#This Row],[Company]:[Year Founded]]&\" \")","v":"Coursera Edtech Online learning platform that offers massive open online courses (MOOC), specializations, and degrees. California https://about.coursera.org/careers/opportunities 453 2012 "},{"$f":"K368","v":"Director of Marketing, Coursera for Business"},"NA","Black Spectacles","NA","Y","https://www.indeed.com/jobs?q=Coursera&l=United%20States&start=20&vjk=5ef31f7314d04770"]
[null,"DataCamp","Edtech","Online learning platform that offers data science video tutorials and courses","New York","https://www.datacamp.com/jobs/",70,2013,{"$f":"_xlfn.CONCAT(Table3[[#This Row],[Company]:[Year Founded]]&\" \")","v":"DataCamp Edtech Online learning platform that offers data science video tutorials and courses New York https://www.datacamp.com/jobs/ 70 2013 "},{"$f":"K373","v":"Customer Success Manager"},"Sr Customer Success Manager","EDX","NA","N"]
[null,"Degreed","EdTech","education technology company supporting livelong learning and professioinal certifications","California; Georgia; Remote","https://degreed.com/about/jobs##positions",400,2012,{"$f":"_xlfn.CONCAT(Table3[[#This Row],[Company]:[Year Founded]]&\" \")","v":"Degreed EdTech education technology company supporting livelong learning and professioinal certifications California; Georgia; Remote https://degreed.com/about/jobs##positions 400 2012 "},{"$f":"K380","v":"Client Success Director, Strategic Accounts - US Remote"},"SVP, Global Business Development","Pluralsight Inc","Y","Y","https://www.indeed.com/jobs?q=Degreed&l&vjk=ba270c510b268821"]
[null,"Duolingo","EdTech","education platform that offers language courses","Pennsylvania; New York","https://www.duolingo.com/careers",200,2011,{"$f":"_xlfn.CONCAT(Table3[[#This Row],[Company]:[Year Founded]]&\" \")","v":"Duolingo EdTech education platform that offers language courses Pennsylvania; New York https://www.duolingo.com/careers 200 2011 "},{"$f":"K381","v":"Sr. Manager of Business Insights"},"Product Marketing Director","Guild Education","NA","Y","https://www.indeed.com/jobs?q=Duolingo&explvl=senior_level&vjk=142ab21ec53071a1"]
[null,"EDX","Edtech","Non-profit, MOOC provider, created by Harvard and MIT, offers over 6,000 free online courses.","Massachusetts","https://www.edx.org/careers",245,2012,{"$f":"_xlfn.CONCAT(Table3[[#This Row],[Company]:[Year Founded]]&\" \")","v":"EDX Edtech Non-profit, MOOC provider, created by Harvard and MIT, offers over 6,000 free online courses. Massachusetts https://www.edx.org/careers 245 2012 "},{"$f":"K364","v":"Sr Customer Success Manager"},"Social Media & Content Strategist Manager","VIPKid","Y","N"]
[null,"Guild Education","Edtech","Online education platform for working adults.","Colorado","https://www.guildeducation.com/about-us/careers/",343,2015,{"$f":"_xlfn.CONCAT(Table3[[#This Row],[Company]:[Year Founded]]&\" \")","v":"Guild Education Edtech Online education platform for working adults. Colorado https://www.guildeducation.com/about-us/careers/ 343 2015 "},{"$f":"K366","v":"Product Marketing Director"},"Director of Marketing, Coursera for Business","Coursera","Y","N"]
[null,"Instructure","Edtech","Learning-management software for employee development, including proprietary products Canvas and Bridge.","Utah","https://www.instructure.com/about/careers",1200,2008,{"$f":"_xlfn.CONCAT(Table3[[#This Row],[Company]:[Year Founded]]&\" \")","v":"Instructure Edtech Learning-management software for employee development, including proprietary products Canvas and Bridge. Utah https://www.instructure.com/about/careers 1200 2008 "},{"$f":"K359","v":"Sr. Program Manager, R&D Operations"},"Sr Customer Success Manager","2U","Y","Y","https://www.indeed.com/jobs?q=Instructure&l&vjk=c64797b88d5eeb60"]
[null,"Jenzabar","Edtech","Enterprise software, strategies and services for colleges and universities.","Massachusetts; Ohio; Virginia; Florida; Connecticut; Oklahoma","https://jenzabar.com/careers",470,1998,{"$f":"_xlfn.CONCAT(Table3[[#This Row],[Company]:[Year Founded]]&\" \")","v":"Jenzabar Edtech Enterprise software, strategies and services for colleges and universities. Massachusetts; Ohio; Virginia; Florida; Connecticut; Oklahoma https://jenzabar.com/careers 470 1998 "},{"$f":"K362","v":"Senior Strategic Partnerships Manager"},"Marketing Campaign Manager","Code.org","Y","Y","https://www.indeed.com/jobs?q=Jenzabar&explvl=senior_level&vjk=8fe3b0f2cbafc1e6"]
[null,"Korbit.ai","EdTech","Interactive, personalized online course on machine learning taught by a machine learning tutor","Montreal","https://www.korbit.ai/",8,2017,{"$f":"_xlfn.CONCAT(Table3[[#This Row],[Company]:[Year Founded]]&\" \")","v":"Korbit.ai EdTech Interactive, personalized online course on machine learning taught by a machine learning tutor Montreal https://www.korbit.ai/ 8 2017 "},{"$f":"K376","v":"NA"},"Director, Business Operations & Strategy","MasterClass","NA","N"]
[null,"Lambda School","Edtech","Online platform for individuals to learn computer science","California","https://lambdaschool.com/careers#jobs",1100,2017,{"$f":"_xlfn.CONCAT(Table3[[#This Row],[Company]:[Year Founded]]&\" \")","v":"Lambda School Edtech Online platform for individuals to learn computer science California https://lambdaschool.com/careers#jobs 1100 2017 "},{"$f":"K360","v":"Community Marketing Manager"},"Manager, Global Sales Operations","Udemy","NA","N"]
[null,"MasterClass","Edtech","On-demand video classes for individuals across a variety of fields taught by celebrity experts.","California","https://careers.masterclass.com/index.html",250,2012,{"$f":"_xlfn.CONCAT(Table3[[#This Row],[Company]:[Year Founded]]&\" \")","v":"MasterClass Edtech On-demand video classes for individuals across a variety of fields taught by celebrity experts. California https://careers.masterclass.com/index.html 250 2012 "},{"$f":"K371","v":"Director, Business Operations & Strategy"},"Customer Success Manager","DataCamp","NA","Y","https://www.indeed.com/jobs?q=MasterClass&l=United%20States&vjk=6156876994e8ccf9"]
[null,"Newsela","Edtech","News-aggregating platform for students.","New York","https://newsela.com/about/company/careers/",400,2012,{"$f":"_xlfn.CONCAT(Table3[[#This Row],[Company]:[Year Founded]]&\" \")","v":"Newsela Edtech News-aggregating platform for students. New York https://newsela.com/about/company/careers/ 400 2012 "},{"$f":"K357","v":"Research Operations Manager"},"Lead Product Manager - Content Demand Intelligence","Course Hero Software","Y","Y","https://www.indeed.com/jobs?q=Newsela&l&vjk=81f253c3750e1a0a"]
[null,"Paper","EdTech","Paper is one of the fastest growing companies in ed tech. We’re shaping the future of education.","Canada","https://boards.greenhouse.io/paper",1273,2014,{"$f":"_xlfn.CONCAT(Table3[[#This Row],[Company]:[Year Founded]]&\" \")","v":"Paper EdTech Paper is one of the fastest growing companies in ed tech. We’re shaping the future of education. Canada https://boards.greenhouse.io/paper 1273 2014 "},{"$f":"K356","v":"Senior Director, Customer Success"},"Lifecycle Marketing Manager","Brightwheel"]
[null,"Pearson","EdTech","Technology that fosters learning. Proprietary products include Pearson eText, digital textbooks","New Mexico; Massachusetts; Arizona; New Hampshire; Illinois; New Jersey; Iowa; Wisconsin; Minneapolis; Texas; Mississippi; Mississauga; Toronto","https://pearson.jobs/jobs/",32000,1844,{"$f":"_xlfn.CONCAT(Table3[[#This Row],[Company]:[Year Founded]]&\" \")","v":"Pearson EdTech Technology that fosters learning. Proprietary products include Pearson eText, digital textbooks New Mexico; Massachusetts; Arizona; New Hampshire; Illinois; New Jersey; Iowa; Wisconsin; Minneapolis; Texas; Mississippi; Mississauga; Toronto https://pearson.jobs/jobs/ 32000 1844 "},{"$f":"K379","v":"Project Manager"},"NA","Korbit.ai","NA","Y","https://www.indeed.com/jobs?q=Pearson&l=United%20States&start=20&vjk=9ecb2226ee86e0f5"]
[null,"Pluralsight Inc","Edtech","Online training, serving software developers and IT administrators with over 6,500 courses.","Utah; Massachusetts","https://pluralsight.wd1.myworkdayjobs.com/en-US/Careers/",1000,2004,{"$f":"_xlfn.CONCAT(Table3[[#This Row],[Company]:[Year Founded]]&\" \")","v":"Pluralsight Inc Edtech Online training, serving software developers and IT administrators with over 6,500 courses. Utah; Massachusetts https://pluralsight.wd1.myworkdayjobs.com/en-US/Careers/ 1000 2004 "},{"$f":"K365","v":"SVP, Global Business Development"},"NA","Quizlet","Y","N"]
[null,"Quizlet","EdTech","Personalized learning platform for high school and college students. Online study application that allows students to study information via learning tools and games","California; Colorado","https://quizlet.com/careers",200,2005,{"$f":"_xlfn.CONCAT(Table3[[#This Row],[Company]:[Year Founded]]&\" \")","v":"Quizlet EdTech Personalized learning platform for high school and college students. Online study application that allows students to study information via learning tools and games California; Colorado https://quizlet.com/careers 200 2005 "},{"$f":"K377","v":"NA"},"Performance Marketing Manager","Udacity","Y","Y","https://www.indeed.com/jobs?q=Quizlet&l=United%20States&vjk=e0c05b3ae4adeb31"]
[null,"Teachers pay teachers","Edtech","Online platform for teachers to buy, sell and share lesson plans and other teaching resources.","New York","https://www.teacherspayteachers.com/Careers",1300,2006,{"$f":"_xlfn.CONCAT(Table3[[#This Row],[Company]:[Year Founded]]&\" \")","v":"Teachers pay teachers Edtech Online platform for teachers to buy, sell and share lesson plans and other teaching resources. New York https://www.teacherspayteachers.com/Careers 1300 2006 "},{"$f":"K358","v":"NA"},"Project Manager","Pearson","NA","Y","https://www.indeed.com/jobs?q=Teachers%20pay%20teachers&explvl=senior_level&vjk=4e4e378e0466d004"]
[null,"Udacity","EdTech","Online education, including nanodegree programs, such as front-end and senior web developer, full-stack web developer, data analyst, machine learning engineer, iOS and Android developer, programming introduction, tech entrepreneur, iOS app development beginning, Ruby beginning and 2D mobile game developer courses.","California","https://www.udacity.com/jobs#business-ops-strategy?location=all",1974,2011,{"$f":"_xlfn.CONCAT(Table3[[#This Row],[Company]:[Year Founded]]&\" \")","v":"Udacity EdTech Online education, including nanodegree programs, such as front-end and senior web developer, full-stack web developer, data analyst, machine learning engineer, iOS and Android developer, programming introduction, tech entrepreneur, iOS app development beginning, Ruby beginning and 2D mobile game developer courses. California https://www.udacity.com/jobs#business-ops-strategy?location=all 1974 2011 "},{"$f":"K378","v":"Performance Marketing Manager"},"Client Success Director, Strategic Accounts - US Remote","Degreed","Y","Y","https://www.indeed.com/jobs?q=Udacity&l=United%20States&vjk=b978d5f00f717f96"]
[null,"Udemy","Edtech","Online courses for individuals and organizations.","California; Colorado","https://about.udemy.com/careers/",1000,2009,{"$f":"_xlfn.CONCAT(Table3[[#This Row],[Company]:[Year Founded]]&\" \")","v":"Udemy Edtech Online courses for individuals and organizations. California; Colorado https://about.udemy.com/careers/ 1000 2009 "},{"$f":"K372","v":"Manager, Global Sales Operations"},"Sr. Manager of Business Insights","Duolingo","NA","N"]
[null,"VIPKid","Edtech","A global education technology company that connects children with the world's best teachers for real-time online English immersion learning.","California","https://www.vipkid.com/teach",16000,2013,{"$f":"_xlfn.CONCAT(Table3[[#This Row],[Company]:[Year Founded]]&\" \")","v":"VIPKid Edtech A global education technology company that connects children with the world's best teachers for real-time online English immersion learning. California https://www.vipkid.com/teach 16000 2013 "},{"$f":"K367","v":"Social Media & Content Strategist Manager"},"NA","Applyboard","NA","N"]
[null,"3D Systems Corp","Engineering"," Using its proprietary 3D technology, fabricates products. Also designs, manufactures, and sells 3D printers.","South Carolina","https://www.3dsystems.com/careers",2600,1986,{"$f":"_xlfn.CONCAT(Table3[[#This Row],[Company]:[Year Founded]]&\" \")","v":"3D Systems Corp Engineering  Using its proprietary 3D technology, fabricates products. Also designs, manufactures, and sells 3D printers. South Carolina https://www.3dsystems.com/careers 2600 1986 "},{"$f":"K392","v":"Sales Operations Manager"},"Business Development Manager","KBR","NA","N"]
[null,"3M Company","Engineering","Known for its adhesives (Scotch Tape, PostIt), 3M provides products for a myriad of sectors, including materials engineering, robotics, construction, medtech, pharmatech, and infotech ","Minnesota; South Dakota; Iowa; Texas; North Carolina; Massachusetts; Missouri; California; Wisconsin; Kentucky; Alabama; Illinois; Michigan; South Carolina; New Jersey; Indiana; Arizona; North Carolina; Delaware; New York; Nebraska; London","https://www.3m.com/3M/en_US/careers-us/",93000,1902,{"$f":"_xlfn.CONCAT(Table3[[#This Row],[Company]:[Year Founded]]&\" \")","v":"3M Company Engineering Known for its adhesives (Scotch Tape, PostIt), 3M provides products for a myriad of sectors, including materials engineering, robotics, construction, medtech, pharmatech, and infotech  Minnesota; South Dakota; Iowa; Texas; North Carolina; Massachusetts; Missouri; California; Wisconsin; Kentucky; Alabama; Illinois; Michigan; South Carolina; New Jersey; Indiana; Arizona; North Carolina; Delaware; New York; Nebraska; London https://www.3m.com/3M/en_US/careers-us/ 93000 1902 "},{"$f":"K399","v":"Client Success Executive"},"Operations Manager","Parker Hannifin","NA","Y"]
[null,"Boeing","Engineering"," commercial jetliners, defense, space and security systems, and service provider of aftermarket support","Illinois and various cities","https://jobs.boeing.com/",161133,1916,{"$f":"_xlfn.CONCAT(Table3[[#This Row],[Company]:[Year Founded]]&\" \")","v":"Boeing Engineering  commercial jetliners, defense, space and security systems, and service provider of aftermarket support Illinois and various cities https://jobs.boeing.com/ 161133 1916 "},{"$f":"K390","v":"SENIOR MANAGER - FUTURE CAPTURE STRATEGY"},"Manager Business Management 3","Northrup Grumman","NA","Y","https://www.indeed.com/jobs?q=Boeing&explvl=senior_level&vjk=e6aeee7d2c0c2c60"]
[null,"Capella Space","Engineering","Synthetic Aperture Radar satellites and systems to provide global coverage for government and commerce.","California","https://www.capellaspace.com/about-us/careers/",60,2016,{"$f":"_xlfn.CONCAT(Table3[[#This Row],[Company]:[Year Founded]]&\" \")","v":"Capella Space Engineering Synthetic Aperture Radar satellites and systems to provide global coverage for government and commerce. California https://www.capellaspace.com/about-us/careers/ 60 2016 "},{"$f":"K402","v":"Product Marketing Manager"},"NA","II-VI Aerospace & Defense","Y","Y","https://www.indeed.com/jobs?q=Capella%20Space&l=United%20States&vjk=076e1cb12f47bb4d"]
[null,"Danaher Corporation","Engineering","Filtration, separation and purification technologies for use in research; consumer packaging; and drinking water purification.","District of Columbia","https://jobs.danaher.com/global/en/search-results",71000,1969,{"$f":"_xlfn.CONCAT(Table3[[#This Row],[Company]:[Year Founded]]&\" \")","v":"Danaher Corporation Engineering Filtration, separation and purification technologies for use in research; consumer packaging; and drinking water purification. District of Columbia https://jobs.danaher.com/global/en/search-results 71000 1969 "},{"$f":"K400","v":"VP, Business Development"},"Director of Business Development – Commercial","TIGHITCO","NA","Y"]
[null,"Flex","Engineering","Technology-based conceptual design, prototype creation, supply chain and logistics services to medical, automotive and defense sectors.","California","https://flex.com/careers",200000,1969,{"$f":"_xlfn.CONCAT(Table3[[#This Row],[Company]:[Year Founded]]&\" \")","v":"Flex Engineering Technology-based conceptual design, prototype creation, supply chain and logistics services to medical, automotive and defense sectors. California https://flex.com/careers 200000 1969 "},{"$f":"K394","v":"Business Solutions Manager - IT"},"Program Manager","Meggitt","NA","Y","https://www.indeed.com/jobs?q=Flex&explvl=senior_level&vjk=4900fc2c3c06aa99"]
[null,"GE","Engineering","Manufactures equipment for aviation, power generation, healthcare, renewable energy, transportation, finance, and consumer sectors.","Massachusetts; Georgia; Colorado; Louisiana;  North Carolina; Illinois; Ohio; Florida; Texas; Pennsylvania; South Carolina; Michigan; New Hampshire; Missouri; Michigan; Alabama; New York; Virginia; Oklahoma; Rhode Island; Vermont; Utah; Washington; Tennessee; Wisconsin; Kansas","https://www.ge.com/menat/careers",283000,1892,{"$f":"_xlfn.CONCAT(Table3[[#This Row],[Company]:[Year Founded]]&\" \")","v":"GE Engineering Manufactures equipment for aviation, power generation, healthcare, renewable energy, transportation, finance, and consumer sectors. Massachusetts; Georgia; Colorado; Louisiana;  North Carolina; Illinois; Ohio; Florida; Texas; Pennsylvania; South Carolina; Michigan; New Hampshire; Missouri; Michigan; Alabama; New York; Virginia; Oklahoma; Rhode Island; Vermont; Utah; Washington; Tennessee; Wisconsin; Kansas https://www.ge.com/menat/careers 283000 1892 "},{"$f":"K397","v":"Director, Global and Strategic Alliances"},"Senior Business Development Lead","Lockheed Martin","Y","Y"]
[null,"General Dynamics Infotech","Engineering","One of the largest international defense contrators; ranked No. 92 in the 2019 Fortune 500 list of the largest United States corporations by total revenue.","Virginia","https://www.gd.com/careers",29000,1952,{"$f":"_xlfn.CONCAT(Table3[[#This Row],[Company]:[Year Founded]]&\" \")","v":"General Dynamics Infotech Engineering One of the largest international defense contrators; ranked No. 92 in the 2019 Fortune 500 list of the largest United States corporations by total revenue. Virginia https://www.gd.com/careers 29000 1952 "},{"$f":"K396","v":"Program Manager"},"SENIOR MANAGER - FUTURE CAPTURE STRATEGY","Boeing","Y","N"]
[null,"II-VI Aerospace & Defense","Engineering","Precision optical systems and components.","California; Pennsylvania","https://opticalsystems.com/about-us/careers/",210,1961,{"$f":"_xlfn.CONCAT(Table3[[#This Row],[Company]:[Year Founded]]&\" \")","v":"II-VI Aerospace & Defense Engineering Precision optical systems and components. California; Pennsylvania https://opticalsystems.com/about-us/careers/ 210 1961 "},{"$f":"K386","v":"NA"},"Sales Manager, Commercial Launch","SpaceX","NA","N"]
[null,"KBR","Engineering","Engineering, construction and support services for the energy, petrochemicals, government services and civil infrastructure sectors","Texas; Maryland; Ohio; Alabama; Utah; Colorado; Florida; Oklahoma; California; Delaware; South Carolina; Illinois; Michigan; Calgary; Nisku","https://www.kbr.com/en/careers",37000,1998,{"$f":"_xlfn.CONCAT(Table3[[#This Row],[Company]:[Year Founded]]&\" \")","v":"KBR Engineering Engineering, construction and support services for the energy, petrochemicals, government services and civil infrastructure sectors Texas; Maryland; Ohio; Alabama; Utah; Colorado; Florida; Oklahoma; California; Delaware; South Carolina; Illinois; Michigan; Calgary; Nisku https://www.kbr.com/en/careers 37000 1998 "},{"$f":"K383","v":"Business Development Manager"},"Sales Operations Manager","3D Systems Corp","Y","Y","https://www.indeed.com/jobs?q=KBR&explvl=senior_level&vjk=31c4d705a7cd9199"]
[null,"L3Harris","Engineering","Wireless equipment and antenna systems for the government, defense and commercial sectors.","Florida","https://careers.l3harris.com/",17500,1895,{"$f":"_xlfn.CONCAT(Table3[[#This Row],[Company]:[Year Founded]]&\" \")","v":"L3Harris Engineering Wireless equipment and antenna systems for the government, defense and commercial sectors. Florida https://careers.l3harris.com/ 17500 1895 "},{"$f":"K395","v":"Director, Program Management"},"Business Process Improvement Manager","MathWorks","NA","Y","https://www.indeed.com/jobs?q=L3Harris&explvl=senior_level&start=40&vjk=728880ed8cb30c56"]
[null,"Lockheed Martin","Engineering","Research, design, development, manufacture, integration and sustainment of advanced technology systems, products and services","Maryland and various cities","https://www.lockheedmartinjobs.com/career-areas",110000,1912,{"$f":"_xlfn.CONCAT(Table3[[#This Row],[Company]:[Year Founded]]&\" \")","v":"Lockheed Martin Engineering Research, design, development, manufacture, integration and sustainment of advanced technology systems, products and services Maryland and various cities https://www.lockheedmartinjobs.com/career-areas 110000 1912 "},{"$f":"K389","v":"Senior Business Development Lead"},"Business Solutions Manager - IT","Flex","NA","Y","https://www.indeed.com/jobs?q=V&explvl=senior_level&vjk=534d01702c556418"]
[null,"MathWorks","Engineering","Develops, sells and supports products for engineers and scientists, including its propriety products, MATLAB and Simulink."," Natick, Massachusetts","https://ww2.mathworks.cn/company/jobs/opportunities/search?keywords=&location%5B%5D=US&page=1&posting_team_id%5B%5D=26&posting_team_id%5B%5D=31",5000,1984,{"$f":"_xlfn.CONCAT(Table3[[#This Row],[Company]:[Year Founded]]&\" \")","v":"MathWorks Engineering Develops, sells and supports products for engineers and scientists, including its propriety products, MATLAB and Simulink.  Natick, Massachusetts https://ww2.mathworks.cn/company/jobs/opportunities/search?keywords=&location%5B%5D=US&page=1&posting_team_id%5B%5D=26&posting_team_id%5B%5D=31 5000 1984 "},{"$f":"K393","v":"Business Process Improvement Manager"},"Director, Program Management","L3Harris","NA","N"]
[null,"Meggitt","Engineering","Environment components and sub-systems for the aerospace industry.","California","https://www.meggitt.com/careers/",12500,1947,{"$f":"_xlfn.CONCAT(Table3[[#This Row],[Company]:[Year Founded]]&\" \")","v":"Meggitt Engineering Environment components and sub-systems for the aerospace industry. California https://www.meggitt.com/careers/ 12500 1947 "},{"$f":"K388","v":"Program Manager"},"Program Manager","General Dynamics Infotech","NA","Y","https://www.indeed.com/jobs?q=Meggitt&l&vjk=f3a472e27b008226"]
[null,"Northrup Grumman","Engineering","Autonomous systems, satellites, aeronautics, defense and cyberspace. Ranks No. 108 on the 2020 Fortune 500 list of America's largest corporations.","Virginia; Maryland; Florida; Arizona; Utah; California; Minnesota; Texas; Arizona; Virginia; Alabama; Mississippi; West Virginia; New York; Missouri; ","https://www.northropgrumman.com/careers/",90000,1939,{"$f":"_xlfn.CONCAT(Table3[[#This Row],[Company]:[Year Founded]]&\" \")","v":"Northrup Grumman Engineering Autonomous systems, satellites, aeronautics, defense and cyberspace. Ranks No. 108 on the 2020 Fortune 500 list of America's largest corporations. Virginia; Maryland; Florida; Arizona; Utah; California; Minnesota; Texas; Arizona; Virginia; Alabama; Mississippi; West Virginia; New York; Missouri;  https://www.northropgrumman.com/careers/ 90000 1939 "},{"$f":"K385","v":"Manager Business Management 3"},"Director, Global and Strategic Alliances","GE","Y","Y","https://www.indeed.com/q-Northrup-Grumman-jobs.html?vjk=c206f3bba308e185"]
[null,"Parker Hannifin","Engineering","Motion and control technologies and systems for various mobile, industrial and aerospace markets.","Ohio; Washington; Indiana; Nebraska; California; Mississippi; South Carolina; Arizona; Minnesota; Alabama; ; Illinois; Kentucky; Pennsylvania; Nevada; North Carolina; Michigan; Wisconsin; New York; Colorado; Georgia; New Jersey; Texas; Iowa; Massachusetts; Connecticut; New Mexico; Oregon; Indiana; Tennessee; Arizona; Maryland; New Hampshire; Florida; Michigan; Missouri; Washington; Maine; Louisiana; Kansas; Virginia; Connecticut; Utah; Vermont; South Dakota; Calgary; Cambridge; Dorval; Edmonton; Grimsby; Fergus; Laval; Milton; Mirabel; St. Catharine's; Toronto; Winnipeg; ","https://www.parker.com/portal/site/PARKER/menuitem.e631b67dc0285c0566b049e1237ad1ca/?vgnextoid=243880961f66e010VgnVCM1000000308a8c0RCRD&vgnextfmt=EN",57000,1917,{"$f":"_xlfn.CONCAT(Table3[[#This Row],[Company]:[Year Founded]]&\" \")","v":"Parker Hannifin Engineering Motion and control technologies and systems for various mobile, industrial and aerospace markets. Ohio; Washington; Indiana; Nebraska; California; Mississippi; South Carolina; Arizona; Minnesota; Alabama; ; Illinois; Kentucky; Pennsylvania; Nevada; North Carolina; Michigan; Wisconsin; New York; Colorado; Georgia; New Jersey; Texas; Iowa; Massachusetts; Connecticut; New Mexico; Oregon; Indiana; Tennessee; Arizona; Maryland; New Hampshire; Florida; Michigan; Missouri; Washington; Maine; Louisiana; Kansas; Virginia; Connecticut; Utah; Vermont; South Dakota; Calgary; Cambridge; Dorval; Edmonton; Grimsby; Fergus; Laval; Milton; Mirabel; St. Catharine's; Toronto; Winnipeg;  https://www.parker.com/portal/site/PARKER/menuitem.e631b67dc0285c0566b049e1237ad1ca/?vgnextoid=243880961f66e010VgnVCM1000000308a8c0RCRD&vgnextfmt=EN 57000 1917 "},{"$f":"K384","v":"Operations Manager"},"Business Process Improvement Manager","Siemens","NA","Y","https://www.indeed.com/jobs?q=Parker%20Hannifin&explvl=senior_level&vjk=5a38925459f6b7e8"]
[null,"Raytheon Technologies","Engineering","Aerospace and defense. Subsidiaries include Collins Aerospace Systems and Pratt and Whitney","Massachusetts and various cities","https://www.rtx.com/Careers/overview",195000,2020,{"$f":"_xlfn.CONCAT(Table3[[#This Row],[Company]:[Year Founded]]&\" \")","v":"Raytheon Technologies Engineering Aerospace and defense. Subsidiaries include Collins Aerospace Systems and Pratt and Whitney Massachusetts and various cities https://www.rtx.com/Careers/overview 195000 2020 "},{"$f":"K403","v":"Senior Program Manager"},"Client Success Executive","3M Company","NA","N"]
[null,"Schneider","Engineering","Electricity distribution, automation management and produces installation components for energy management.","New York; New Mexico; Georgia; Pennsylvania; Massachusetts; Texas; Louisiana; Montana; New York; Alabama; California; Ohio; Wisconsin; Virginia; Iowa; Colorado; North Carolina; Tennessee; Indiana; Missouri; North Dakota; Arizona; Michigan; Maryland; Hawaii; Florida; Nevada; Kansas; Kentucky; Washington; Utah; Minnesota; Virginia; Oklahoma; New Jersey; Idaho; Connecticut; Illinois; South Dakota; Missouri; West Virginia; Michigan; Oregon; New Hampshire; Kansas; Mississippi; Alabama; Brossard; Calgary; Cambridge; Deer Valley; Dollard-des-Ormeaux; Edmonton; Greater Sudbury; Halifax; Kingston; London; Mississauga; Moncton; Ottawa; Quebec; Richmond; Saguenay; Sarnia; Saskatoon; Thunder Bay; Val-d'Or; Victoria; Windsor; Winnipeg","https://schneiderele.taleo.net/careersection/2/jobsearch.ftl?lang=en&keyword=&CATEGORY=-1&LOCATION=921070031531",151000,1836,{"$f":"_xlfn.CONCAT(Table3[[#This Row],[Company]:[Year Founded]]&\" \")","v":"Schneider Engineering Electricity distribution, automation management and produces installation components for energy management. New York; New Mexico; Georgia; Pennsylvania; Massachusetts; Texas; Louisiana; Montana; New York; Alabama; California; Ohio; Wisconsin; Virginia; Iowa; Colorado; North Carolina; Tennessee; Indiana; Missouri; North Dakota; Arizona; Michigan; Maryland; Hawaii; Florida; Nevada; Kansas; Kentucky; Washington; Utah; Minnesota; Virginia; Oklahoma; New Jersey; Idaho; Connecticut; Illinois; South Dakota; Missouri; West Virginia; Michigan; Oregon; New Hampshire; Kansas; Mississippi; Alabama; Brossard; Calgary; Cambridge; Deer Valley; Dollard-des-Ormeaux; Edmonton; Greater Sudbury; Halifax; Kingston; London; Mississauga; Moncton; Ottawa; Quebec; Richmond; Saguenay; Sarnia; Saskatoon; Thunder Bay; Val-d'Or; Victoria; Windsor; Winnipeg https://schneiderele.taleo.net/careersection/2/jobsearch.ftl?lang=en&keyword=&CATEGORY=-1&LOCATION=921070031531 151000 1836 "},{"$f":"K404","v":"REGIONAL CLIENT COORDINATOR"},"VP, Business Development","Danaher Corporation","Y","Y","https://www.indeed.com/jobs?q=Schneider&l=United%20States&vjk=c7aed879c5608586"]
[null,"Siemens","Engineering","Electronics and electrical engineering services for the energy, transportation and healthcare sectors, consumer products. ","Georgia; Colorado; New Jersey; California; Texas; Pennsylvania; North Carolina; New Jersey; Massachusetts; Florida; Virginia; South Carolina; Louisiana; Washington; Ohio; Ajax; Calgary; Cambridge; Dartmouth; Drummondville; Edmonton; Fort McMurray; Fredericton; Mississauga; Montreal; Oakville; Ottawa; Peterborough; Quebec; Richmond; Saguenay; St. John's; Thunder bay; Toronto; Trois-Rivieres; Vaughan; Winnipeg","https://new.siemens.com/global/en/company/jobs.html",386000,1847,{"$f":"_xlfn.CONCAT(Table3[[#This Row],[Company]:[Year Founded]]&\" \")","v":"Siemens Engineering Electronics and electrical engineering services for the energy, transportation and healthcare sectors, consumer products.  Georgia; Colorado; New Jersey; California; Texas; Pennsylvania; North Carolina; New Jersey; Massachusetts; Florida; Virginia; South Carolina; Louisiana; Washington; Ohio; Ajax; Calgary; Cambridge; Dartmouth; Drummondville; Edmonton; Fort McMurray; Fredericton; Mississauga; Montreal; Oakville; Ottawa; Peterborough; Quebec; Richmond; Saguenay; St. John's; Thunder bay; Toronto; Trois-Rivieres; Vaughan; Winnipeg https://new.siemens.com/global/en/company/jobs.html 386000 1847 "},{"$f":"K398","v":"Business Process Improvement Manager"},"Business Development Executive, Space Services","Spire Global","Y","N"]
[null,"SpaceX","Engineering"," aerospace manufacturer and space transportation services","California; Texas; Washington","https://www.spacex.com/careers/",8000,2002,{"$f":"_xlfn.CONCAT(Table3[[#This Row],[Company]:[Year Founded]]&\" \")","v":"SpaceX Engineering  aerospace manufacturer and space transportation services California; Texas; Washington https://www.spacex.com/careers/ 8000 2002 "},{"$f":"K391","v":"Sales Manager, Commercial Launch"},"Product Marketing Manager","Capella Space","NA","N"]
[null,"Spire Global","Engineering","Satellite system that provides maritime, aviation and weather tracking.","California; Colorado; Virginia","https://spire.com/careers/job-openings/",202,2012,{"$f":"_xlfn.CONCAT(Table3[[#This Row],[Company]:[Year Founded]]&\" \")","v":"Spire Global Engineering Satellite system that provides maritime, aviation and weather tracking. California; Colorado; Virginia https://spire.com/careers/job-openings/ 202 2012 "},{"$f":"K401","v":"Business Development Executive, Space Services"},"Senior Program Manager","Raytheon Technologies","NA","N"]
[null,"TIGHITCO","Engineering","Design and Fabrication of Engineering components for aerospace and industrial applications.","Georgia; Connecticut; South Carolina","http://tighitco.com/careers.html",157,1944,{"$f":"_xlfn.CONCAT(Table3[[#This Row],[Company]:[Year Founded]]&\" \")","v":"TIGHITCO Engineering Design and Fabrication of Engineering components for aerospace and industrial applications. Georgia; Connecticut; South Carolina http://tighitco.com/careers.html 157 1944 "},{"$f":"K387","v":"Director of Business Development – Commercial"},"REGIONAL CLIENT COORDINATOR","Schneider","NA","N"]
[null,"Accenture","FinTech","Business strategy, systems integration, technology consulting and outsourcing services.","New York; Maryland; Michigan; Virginia; Georgia; Texas; Ohio; Oregon; Arizona; Pennsylvania; Idaho; Massachusetts; New Jersey; North Carolina; Illinois; Iowa; California; Colorado; Connecticut; Indiana; Washington; Tennessee; Florida; Wisconsin; Minnesota; Oklahoma; Kansas; Missouri; Michigan; DC; Calgary; Edmonton; Fredericton; Mississauga; Montreal; Ottawa; St. Catharine's; Thorold; Toronto; Vancouver","https://www.accenture.com/ph-en/careers/jobsearch",500000,1989,{"$f":"_xlfn.CONCAT(Table3[[#This Row],[Company]:[Year Founded]]&\" \")","v":"Accenture FinTech Business strategy, systems integration, technology consulting and outsourcing services. New York; Maryland; Michigan; Virginia; Georgia; Texas; Ohio; Oregon; Arizona; Pennsylvania; Idaho; Massachusetts; New Jersey; North Carolina; Illinois; Iowa; California; Colorado; Connecticut; Indiana; Washington; Tennessee; Florida; Wisconsin; Minnesota; Oklahoma; Kansas; Missouri; Michigan; DC; Calgary; Edmonton; Fredericton; Mississauga; Montreal; Ottawa; St. Catharine's; Thorold; Toronto; Vancouver https://www.accenture.com/ph-en/careers/jobsearch 500000 1989 "},{"$f":"Table3[[#This Row],[Column26]]","v":"Strategy and Consulting"},"Strategy and Consulting","Accenture","Y","Y","https://www.indeed.com/jobs?q=Accenture&l=United%20States&vjk=ce83b13e7cc76d91"]
[null,"Acorns","FinTech","Mobile-based application for automated investment management and financial advisory services.","California; New York; Oregon","https://www.acorns.com/careers/",390,2012,{"$f":"_xlfn.CONCAT(Table3[[#This Row],[Company]:[Year Founded]]&\" \")","v":"Acorns FinTech Mobile-based application for automated investment management and financial advisory services. California; New York; Oregon https://www.acorns.com/careers/ 390 2012 "},{"$f":"Table3[[#This Row],[Column26]]","v":"NA"},"NA","Acorns","Y","N"]
[null,"Addepar","FinTech","Data aggregation, analytics and reporting solutions for private banks and financial advisors.","California; Illinois; New York; Utah","https://www.addepar.com/careers",350,2008,{"$f":"_xlfn.CONCAT(Table3[[#This Row],[Company]:[Year Founded]]&\" \")","v":"Addepar FinTech Data aggregation, analytics and reporting solutions for private banks and financial advisors. California; Illinois; New York; Utah https://www.addepar.com/careers 350 2008 "},{"$f":"Table3[[#This Row],[Column26]]","v":"Data Partners Relationship Manager"},"Data Partners Relationship Manager","Addepar","Y","Y","https://www.indeed.com/jobs?q=Addepar&l=United%20States&start=10&vjk=473a124b9031c0bb"]
[null,"Affirm","FinTech","Online point-of-sale financing for e-commerce shoppers","Illinois; New York; Pennsylvania; California","https://www.affirm.com/careers#openings",900,2012,{"$f":"_xlfn.CONCAT(Table3[[#This Row],[Company]:[Year Founded]]&\" \")","v":"Affirm FinTech Online point-of-sale financing for e-commerce shoppers Illinois; New York; Pennsylvania; California https://www.affirm.com/careers#openings 900 2012 "},{"$f":"Table3[[#This Row],[Column26]]","v":"Director, Product Marketing, Marketing Services"},"Director, Product Marketing, Marketing Services","Affirm","Y","Y","https://www.indeed.com/jobs?q=Affirm&l=United%20States&vjk=20dc2bdac87e31c1"]
[null,"Alter Domus","Fintech","Integrated solutions for the alternative investment industry","Illinois; Indiana; California; New York; Texas; Connecticut; Canada","https://workforcenow.adp.com/mascsr/default/mdf/recruitment/recruitment.html?cid=e41b300f-ee2e-430d-9883-6c3608e6f85d&ccId=19000101_000001&type=MP&lang=en_US&selectedMenuKey=CareerCenter",2200,2003,{"$f":"_xlfn.CONCAT(Table3[[#This Row],[Company]:[Year Founded]]&\" \")","v":"Alter Domus Fintech Integrated solutions for the alternative investment industry Illinois; Indiana; California; New York; Texas; Connecticut; Canada https://workforcenow.adp.com/mascsr/default/mdf/recruitment/recruitment.html?cid=e41b300f-ee2e-430d-9883-6c3608e6f85d&ccId=19000101_000001&type=MP&lang=en_US&selectedMenuKey=CareerCenter 2200 2003 "},{"$f":"Table3[[#This Row],[Column26]]","v":"Senior Fund Manager (Private Equity)"},"Senior Fund Manager (Private Equity)","Alter Domus","NA","N"]
[null,"AvidXchange","Fintech","Account payable software that for invoice management and payment automation ","North Carolina; Alabama; Mississippi; New Jersey; Texas; Massachusetts; Utah","https://www.avidxchange.com/about/careers-new/",1500,2000,{"$f":"_xlfn.CONCAT(Table3[[#This Row],[Company]:[Year Founded]]&\" \")","v":"AvidXchange Fintech Account payable software that for invoice management and payment automation  North Carolina; Alabama; Mississippi; New Jersey; Texas; Massachusetts; Utah https://www.avidxchange.com/about/careers-new/ 1500 2000 "},{"$f":"Table3[[#This Row],[Column26]]","v":"NA"},"NA","AvidXchange","Y","Y","https://www.indeed.com/jobs?q=AvidXchange&l=United%20States&vjk=f3ea5fa398cecb6d"]
[null,"BitGo","FinTech","Digital currency transactions and payments","California","https://boards.greenhouse.io/bitgo",100,2011,{"$f":"_xlfn.CONCAT(Table3[[#This Row],[Company]:[Year Founded]]&\" \")","v":"BitGo FinTech Digital currency transactions and payments California https://boards.greenhouse.io/bitgo 100 2011 "},{"$f":"Table3[[#This Row],[Column26]]","v":"Relationship Manager"},"Relationship Manager","BitGo","Y","Y","https://www.indeed.com/jobs?q=BitGo&l=United%20States&vjk=00c16e855836213b"]
[null,"Blackline","FinTech"," Coud software to automate the financial close process. ","California; New York; Vancouver","https://www.blackline.com/careers/positions/",740,2001,{"$f":"_xlfn.CONCAT(Table3[[#This Row],[Company]:[Year Founded]]&\" \")","v":"Blackline FinTech  Coud software to automate the financial close process.  California; New York; Vancouver https://www.blackline.com/careers/positions/ 740 2001 "},{"$f":"Table3[[#This Row],[Column26]]","v":"Senior Product Manager"},"Senior Product Manager","Blackline","Y","Y","https://www.indeed.com/jobs?q=Blackline&explvl=senior_level&vjk=d5c0bc80d61cee8c"]
[null,"Blend","FinTech","Digital platform for homemortgages.","California; New York","https://blend.com/company/careers/#current-openings",530,2012,{"$f":"_xlfn.CONCAT(Table3[[#This Row],[Company]:[Year Founded]]&\" \")","v":"Blend FinTech Digital platform for homemortgages. California; New York https://blend.com/company/careers/#current-openings 530 2012 "},{"$f":"Table3[[#This Row],[Column26]]","v":"Deployment Lead"},"Deployment Lead","Blend","Y","Y","https://www.indeed.com/jobs?q=Blend&l=United%20States&vjk=50e8658b77001c39"]
[null,"BlockTower Capital","FinTech","crypto and blockchain investment ","Connecticut","https://www.blocktower.com/careers",30,2017,{"$f":"_xlfn.CONCAT(Table3[[#This Row],[Company]:[Year Founded]]&\" \")","v":"BlockTower Capital FinTech crypto and blockchain investment  Connecticut https://www.blocktower.com/careers 30 2017 "},{"$f":"Table3[[#This Row],[Column26]]","v":"NA"},"NA","BlockTower Capital","NA","N"]
[null,"Blucora, Inc","FinTech","SaaS-based platform for commercial wealth management","Texas; Washington; Iowa","https://www.blucora.com/careers",529,1996,{"$f":"_xlfn.CONCAT(Table3[[#This Row],[Company]:[Year Founded]]&\" \")","v":"Blucora, Inc FinTech SaaS-based platform for commercial wealth management Texas; Washington; Iowa https://www.blucora.com/careers 529 1996 "},{"$f":"Table3[[#This Row],[Column26]]","v":"Vice President, Enterprise Program Management & Agile Delivery"},"Vice President, Enterprise Program Management & Agile Delivery","Blucora, Inc","NA","N"]
[null,"Brex","FinTech","Digital banking platform for expense management and transactions","California; Utah; New York; Vancouver","https://www.brex.com/careers/",400,2017,{"$f":"_xlfn.CONCAT(Table3[[#This Row],[Company]:[Year Founded]]&\" \")","v":"Brex FinTech Digital banking platform for expense management and transactions California; Utah; New York; Vancouver https://www.brex.com/careers/ 400 2017 "},{"$f":"Table3[[#This Row],[Column26]]","v":"Senior Integrated Brand Manager "},"Senior Integrated Brand Manager ","Brex","NA","Y","https://www.indeed.com/jobs?q=Brex&l=United%20States&vjk=37c5a185422ecd5d"]
[null,"C2FO","FinTech","Online platform that provides working capital and cash flow management solutions","Kansas; Virginia; Georgia","https://c2fo.com/company/careers/",500,2008,{"$f":"_xlfn.CONCAT(Table3[[#This Row],[Company]:[Year Founded]]&\" \")","v":"C2FO FinTech Online platform that provides working capital and cash flow management solutions Kansas; Virginia; Georgia https://c2fo.com/company/careers/ 500 2008 "},{"$f":"Table3[[#This Row],[Column26]]","v":"Client & Data Insights Manager"},"Client & Data Insights Manager","C2FO","Y","Y","https://www.indeed.com/jobs?q=C2FO&l=United%20States&vjk=b96e321c9ceacb5f"]
[null,"Carta","FinTech","Online platform  to manage capitalization tables, valuations, portfolio investments and equity plans.","California; Pennsylvania; New Jersey; New York; Utah; Washington; Kitchener","https://boards.greenhouse.io/carta",600,2012,{"$f":"_xlfn.CONCAT(Table3[[#This Row],[Company]:[Year Founded]]&\" \")","v":"Carta FinTech Online platform  to manage capitalization tables, valuations, portfolio investments and equity plans. California; Pennsylvania; New Jersey; New York; Utah; Washington; Kitchener https://boards.greenhouse.io/carta 600 2012 "},{"$f":"Table3[[#This Row],[Column26]]","v":"Manager, Strategic Partnerships"},"Manager, Strategic Partnerships","Carta","NA","Y","https://www.indeed.com/jobs?q=Carta&l=United%20States&vjk=31607d4fa7dfc70a"]
[null,"Celero Solutions","FinTech"," IT solutions to credit unions and other financial institutions.","Calgary; Regina; Winnipeg","https://www.celero.ca/about-celero/working-here/",255,2003,{"$f":"_xlfn.CONCAT(Table3[[#This Row],[Company]:[Year Founded]]&\" \")","v":"Celero Solutions FinTech  IT solutions to credit unions and other financial institutions. Calgary; Regina; Winnipeg https://www.celero.ca/about-celero/working-here/ 255 2003 "},{"$f":"Table3[[#This Row],[Column26]]","v":"Banking Transformation Manager - Consumer Banking"},"Banking Transformation Manager - Consumer Banking","Celero Solutions","NA","N"]
[null,"Centric Consulting","FinTech","Consulting, digital and technology solutions for insurance, retail and travel industries.","Washington; Ohio","https://centricconsulting.com/about-us/careers/job-openings/",800,1999,{"$f":"_xlfn.CONCAT(Table3[[#This Row],[Company]:[Year Founded]]&\" \")","v":"Centric Consulting FinTech Consulting, digital and technology solutions for insurance, retail and travel industries. Washington; Ohio https://centricconsulting.com/about-us/careers/job-openings/ 800 1999 "},{"$f":"Table3[[#This Row],[Column26]]","v":"Business Process Consultants"},"Business Process Consultants","Centric Consulting","NA","N"]
[null,"Certn","FinTech","Background screening platform for ongoing risk monitoring, credential and employment verification","Victoria","https://certn.co/category/careers/",20,2016,{"$f":"_xlfn.CONCAT(Table3[[#This Row],[Company]:[Year Founded]]&\" \")","v":"Certn FinTech Background screening platform for ongoing risk monitoring, credential and employment verification Victoria https://certn.co/category/careers/ 20 2016 "},{"$f":"Table3[[#This Row],[Column26]]","v":"Technical Product Manager, Platform"},"Technical Product Manager, Platform","Certn","Y","N"]
[null,"Chainalysis","FinTech","blockchain data and analysis to government agencies, exchanges, and financial institutions across 40 countries","New York; Washington","https://boards.greenhouse.io/chainalysis",150,2014,{"$f":"_xlfn.CONCAT(Table3[[#This Row],[Company]:[Year Founded]]&\" \")","v":"Chainalysis FinTech blockchain data and analysis to government agencies, exchanges, and financial institutions across 40 countries New York; Washington https://boards.greenhouse.io/chainalysis 150 2014 "},{"$f":"Table3[[#This Row],[Column26]]","v":"Demand Generation Manager"},"Demand Generation Manager","Chainalysis","Y","Y","https://www.indeed.com/jobs?q=Chainalysis&explvl=senior_level&vjk=bb7b6a565713ec4c"]
[null,"Change Healthcare","FinTech","Payment cycle management, analytics, cost transparency and consumer engagement for the healthcare industry","Tennessee; Georgia; Massachusetts; Illinois; Minneapolis; Pennsylvania; California; South Carolina; Richmond; Vancouver","https://www.changehealthcare.com/careers",15000,2007,{"$f":"_xlfn.CONCAT(Table3[[#This Row],[Company]:[Year Founded]]&\" \")","v":"Change Healthcare FinTech Payment cycle management, analytics, cost transparency and consumer engagement for the healthcare industry Tennessee; Georgia; Massachusetts; Illinois; Minneapolis; Pennsylvania; California; South Carolina; Richmond; Vancouver https://www.changehealthcare.com/careers 15000 2007 "},{"$f":"Table3[[#This Row],[Column26]]","v":"Sr. Client Executive-Payer Account Management/Payment Integrity"},"Sr. Client Executive-Payer Account Management/Payment Integrity","Change Healthcare","Y","Y","https://www.indeed.com/jobs?q=Change%20Healthcare&l=United%20States&vjk=25b2b2349501fcec"]
[null,"Chime","Fintech","Digital banking for consumers.","California","https://www.chime.com/job-openings/",230,2013,{"$f":"_xlfn.CONCAT(Table3[[#This Row],[Company]:[Year Founded]]&\" \")","v":"Chime Fintech Digital banking for consumers. California https://www.chime.com/job-openings/ 230 2013 "},{"$f":"Table3[[#This Row],[Column26]]","v":"Senior Director, Growth Marketing Media & Partnerships"},"Senior Director, Growth Marketing Media & Partnerships","Chime","NA","N"]
[null,"Clearbanc","FinTech","Growth capital financing for early-stage startups.","Toronto","http://clearbanc.hrmdirect.com/employment/careers.php",120,2015,{"$f":"_xlfn.CONCAT(Table3[[#This Row],[Company]:[Year Founded]]&\" \")","v":"Clearbanc FinTech Growth capital financing for early-stage startups. Toronto http://clearbanc.hrmdirect.com/employment/careers.php 120 2015 "},{"$f":"Table3[[#This Row],[Column26]]","v":"NA"},"NA","Clearbanc","NA","N"]
[null,"Coinbase","Fintech","Digital currency exchange ","California; New York; Oregon","https://www.coinbase.com/careers/positions?department=Corporate%2520Development",1100,2012,{"$f":"_xlfn.CONCAT(Table3[[#This Row],[Company]:[Year Founded]]&\" \")","v":"Coinbase Fintech Digital currency exchange  California; New York; Oregon https://www.coinbase.com/careers/positions?department=Corporate%2520Development 1100 2012 "},{"$f":"Table3[[#This Row],[Column26]]","v":"NA"},"NA","Coinbase","Y","Y","https://www.indeed.com/jobs?q=Coinbase&l=United%20States&vjk=ff72c483efe8035a"]
[null,"CyberSource","FinTech","Online payment platform ","California","https://usa.visa.com/careers.html",693,1994,{"$f":"_xlfn.CONCAT(Table3[[#This Row],[Company]:[Year Founded]]&\" \")","v":"CyberSource FinTech Online payment platform  California https://usa.visa.com/careers.html 693 1994 "},{"$f":"Table3[[#This Row],[Column26]]","v":"Business Planning & Operations, Regional Product & Solutions Director"},"Business Planning & Operations, Regional Product & Solutions Director","CyberSource","NA","N"]
[null,"D3 Banking Technology","FinTech","Data-driven digital banking platform for banks and credit unions. ","Nebraska; Colorado","https://www.d3banking.com/",120,2007,{"$f":"_xlfn.CONCAT(Table3[[#This Row],[Company]:[Year Founded]]&\" \")","v":"D3 Banking Technology FinTech Data-driven digital banking platform for banks and credit unions.  Nebraska; Colorado https://www.d3banking.com/ 120 2007 "},{"$f":"Table3[[#This Row],[Column26]]","v":"NA"},"NA","D3 Banking Technology","NA","N"]
[null,"Drive Capital","Fintech","Venture capital investments in tech start-ups.","Ohio","https://jobs.drivecapital.com/",15,2013,{"$f":"_xlfn.CONCAT(Table3[[#This Row],[Company]:[Year Founded]]&\" \")","v":"Drive Capital Fintech Venture capital investments in tech start-ups. Ohio https://jobs.drivecapital.com/ 15 2013 "},{"$f":"Table3[[#This Row],[Column26]]","v":"Operations Program Manager"},"Operations Program Manager","Drive Capital","Y","N"]
[null,"DriveWealth","Fintech","Wealth management, investment advisory and brokerage services.","New Jersey","https://drivewealth.com/careers/",70,2012,{"$f":"_xlfn.CONCAT(Table3[[#This Row],[Company]:[Year Founded]]&\" \")","v":"DriveWealth Fintech Wealth management, investment advisory and brokerage services. New Jersey https://drivewealth.com/careers/ 70 2012 "},{"$f":"Table3[[#This Row],[Column26]]","v":"People Partner (HRBP), Technology"},"People Partner (HRBP), Technology","DriveWealth","Y","Y","https://www.indeed.com/jobs?q=DriveWealth&l=United%20States&vjk=896ac3cbdf5119ea"]
[null,"Earnest","FinTech","Online lending marketplace for student loans.","California","https://www.earnest.com/careers",175,2013,{"$f":"_xlfn.CONCAT(Table3[[#This Row],[Company]:[Year Founded]]&\" \")","v":"Earnest FinTech Online lending marketplace for student loans. California https://www.earnest.com/careers 175 2013 "},{"$f":"Table3[[#This Row],[Column26]]","v":"Senior Product Manager "},"Senior Product Manager ","Earnest","NA","Y","https://www.indeed.com/jobs?q=Earnest&explvl=senior_level&vjk=cc90211e236c9194"]
[null,"Ellevest","FinTech","Digital investment platform that for personal finance and investment advisory services","New York and various cities in the US","https://www.ellevest.com/careers",130,2014,{"$f":"_xlfn.CONCAT(Table3[[#This Row],[Company]:[Year Founded]]&\" \")","v":"Ellevest FinTech Digital investment platform that for personal finance and investment advisory services New York and various cities in the US https://www.ellevest.com/careers 130 2014 "},{"$f":"Table3[[#This Row],[Column26]]","v":"NA"},"NA","Ellevest","Y","N"]
[null,"Etoro","FinTech","Online  trading and investment marketplace to trade currencies, commodities and indices via CFD stocks.","New Jersey","https://www.etoro.com/about/careers/#main_jobs_content",1000,2006,{"$f":"_xlfn.CONCAT(Table3[[#This Row],[Company]:[Year Founded]]&\" \")","v":"Etoro FinTech Online  trading and investment marketplace to trade currencies, commodities and indices via CFD stocks. New Jersey https://www.etoro.com/about/careers/#main_jobs_content 1000 2006 "},{"$f":"Table3[[#This Row],[Column26]]","v":"NA"},"NA","Etoro","NA","N"]
[null,"Facet Wealth","Fintech","Personal finance platform ","Maryland","https://facetwealth.com/team/",27,2016,{"$f":"_xlfn.CONCAT(Table3[[#This Row],[Company]:[Year Founded]]&\" \")","v":"Facet Wealth Fintech Personal finance platform  Maryland https://facetwealth.com/team/ 27 2016 "},{"$f":"Table3[[#This Row],[Column26]]","v":"Product Manager"},"Product Manager","Facet Wealth","Y","N"]
[null,"Fattmerchant","FinTech","subscription-based payment platform that offers credit card payment processing, membership pricing and invoicing solutions","Florida","https://fattmerchant.com/careers/",100,2014,{"$f":"_xlfn.CONCAT(Table3[[#This Row],[Company]:[Year Founded]]&\" \")","v":"Fattmerchant FinTech subscription-based payment platform that offers credit card payment processing, membership pricing and invoicing solutions Florida https://fattmerchant.com/careers/ 100 2014 "},{"$f":"Table3[[#This Row],[Column26]]","v":"Partner Marketing Manager"},"Partner Marketing Manager","Fattmerchant","NA","N"]
[null,"Feedzai","Fintech","Machine learning technology to manage financial crime for banks, merchants, and processors.","California; Georgia; New York; ","https://careers.feedzai.com/",510,2008,{"$f":"_xlfn.CONCAT(Table3[[#This Row],[Company]:[Year Founded]]&\" \")","v":"Feedzai Fintech Machine learning technology to manage financial crime for banks, merchants, and processors. California; Georgia; New York;  https://careers.feedzai.com/ 510 2008 "},{"$f":"Table3[[#This Row],[Column26]]","v":"\nSales Operations Manager - North America"},"\nSales Operations Manager - North America","Feedzai","NA","N"]
[null,"Figure Technologies","FinTech"," AI- and blockchain-powered financial platform for home equity loans","California; Texas; Arizona; Nevada","https://www.figure.com/careers/",250,2018,{"$f":"_xlfn.CONCAT(Table3[[#This Row],[Company]:[Year Founded]]&\" \")","v":"Figure Technologies FinTech  AI- and blockchain-powered financial platform for home equity loans California; Texas; Arizona; Nevada https://www.figure.com/careers/ 250 2018 "},{"$f":"Table3[[#This Row],[Column26]]","v":"NA"},"NA","Figure Technologies","NA","N"]
[null,"Fiserv","FinTech","SaaS platform for consumer and commercial transactions, serving clients in more than 100 countries","Brookfield, Wisconsin","https://www.careers.fiserv.com/",24000,1984,{"$f":"_xlfn.CONCAT(Table3[[#This Row],[Company]:[Year Founded]]&\" \")","v":"Fiserv FinTech SaaS platform for consumer and commercial transactions, serving clients in more than 100 countries Brookfield, Wisconsin https://www.careers.fiserv.com/ 24000 1984 "},{"$f":"Table3[[#This Row],[Column26]]","v":"Sr Manager Credit Services Business Administration"},"Sr Manager Credit Services Business Administration","Fiserv","Y","Y","https://www.indeed.com/jobs?q=Fiserv&explvl=senior_level&vjk=067d318d0f800d77"]
[null,"FleetCor","FinTech"," Software platform for fuel payment and serving customers in over 80 countries.","Georgia ; Kansas; Toronto","https://www.fleetcor.com/careers/",7600,2000,{"$f":"_xlfn.CONCAT(Table3[[#This Row],[Company]:[Year Founded]]&\" \")","v":"FleetCor FinTech  Software platform for fuel payment and serving customers in over 80 countries. Georgia ; Kansas; Toronto https://www.fleetcor.com/careers/ 7600 2000 "},{"$f":"Table3[[#This Row],[Column26]]","v":"NA"},"NA","FleetCor","Y","Y","https://www.indeed.com/jobs?q=FleetCor&explvl=senior_level&vjk=0be4516729317d09"]
[null,"Floating Point Group","FinTech","Floating Point Group was founded in 2018 to redefine finance.","New Jersey","https://boards.greenhouse.io/fpg",40,2018,{"$f":"_xlfn.CONCAT(Table3[[#This Row],[Company]:[Year Founded]]&\" \")","v":"Floating Point Group FinTech Floating Point Group was founded in 2018 to redefine finance. New Jersey https://boards.greenhouse.io/fpg 40 2018 "},{"$f":"Table3[[#This Row],[Column26]]","v":"Marketing Director"},"Marketing Director","Floating Point Group"]
[null,"Fundera","FinTech","Online credit marketplace for small business loans.","New York; remote","https://www.fundera.com/about/careers",128,2013,{"$f":"_xlfn.CONCAT(Table3[[#This Row],[Company]:[Year Founded]]&\" \")","v":"Fundera FinTech Online credit marketplace for small business loans. New York; remote https://www.fundera.com/about/careers 128 2013 "},{"$f":"Table3[[#This Row],[Column26]]","v":"Category Manager (New Markets)"},"Category Manager (New Markets)","Fundera","Y","N"]
[null,"Global Payments","FinTech","Payroll administration, point of sale, e-Commerce and payment processing ","Georgia; Nevada; Illinois; Maryland; New York; Longueil; Vancouver; Toronto","https://www.globalpaymentsinc.com/en-us/about-us/careers",11000,2000,{"$f":"_xlfn.CONCAT(Table3[[#This Row],[Company]:[Year Founded]]&\" \")","v":"Global Payments FinTech Payroll administration, point of sale, e-Commerce and payment processing  Georgia; Nevada; Illinois; Maryland; New York; Longueil; Vancouver; Toronto https://www.globalpaymentsinc.com/en-us/about-us/careers 11000 2000 "},{"$f":"Table3[[#This Row],[Column26]]","v":"Senior Account Manager"},"Senior Account Manager","Global Payments","NA","N"]
[null,"Gocardless","FinTech","Online direct debit platform ","California","https://boards.greenhouse.io/gocardless",393,2011,{"$f":"_xlfn.CONCAT(Table3[[#This Row],[Company]:[Year Founded]]&\" \")","v":"Gocardless FinTech Online direct debit platform  California https://boards.greenhouse.io/gocardless 393 2011 "},{"$f":"Table3[[#This Row],[Column26]]","v":"NA"},"NA","Gocardless","NA","N"]
[null,"Greenlight","FinTech","Smart debit card designed so parents can monitor their children's spending","Georgia","https://www.greenlightcard.com/",130,2014,{"$f":"_xlfn.CONCAT(Table3[[#This Row],[Company]:[Year Founded]]&\" \")","v":"Greenlight FinTech Smart debit card designed so parents can monitor their children's spending Georgia https://www.greenlightcard.com/ 130 2014 "},{"$f":"Table3[[#This Row],[Column26]]","v":"Business Operations Manager"},"Business Operations Manager","Greenlight","NA","N"]
[null,"Health iPASS, Inc.","FinTech","SaaS-based for patient revenue cycle management ","Illinois","https://healthipass.com/careers/",75,2013,{"$f":"_xlfn.CONCAT(Table3[[#This Row],[Company]:[Year Founded]]&\" \")","v":"Health iPASS, Inc. FinTech SaaS-based for patient revenue cycle management  Illinois https://healthipass.com/careers/ 75 2013 "},{"$f":"Table3[[#This Row],[Column26]]","v":"Implementation Project Manager"},"Implementation Project Manager","Health iPASS, Inc.","Y","Y","https://www.indeed.com/jobs?q=Health%20iPASS&l=United%20States&vjk=9579e22f590b248b"]
[null,"Highnote","FinTech","Highnote’s modern card platform is purpose-built to grow customer loyalty, engagement, and revenue through embedded card issuance.","California","https://highnoteplatform.com/careers#openings",200,2020,{"$f":"_xlfn.CONCAT(Table3[[#This Row],[Company]:[Year Founded]]&\" \")","v":"Highnote FinTech Highnote’s modern card platform is purpose-built to grow customer loyalty, engagement, and revenue through embedded card issuance. California https://highnoteplatform.com/careers#openings 200 2020 "},{"$f":"Table3[[#This Row],[Column26]]","v":"Risk Manager"},"Risk Manager","Highnote"]
[null,"Intuit","FinTech","Financial software that includes proprietary products, TurboTax and QuickBooks.","California","https://jobs.intuit.com/search-jobs/united%20states",7900,1983,{"$f":"_xlfn.CONCAT(Table3[[#This Row],[Company]:[Year Founded]]&\" \")","v":"Intuit FinTech Financial software that includes proprietary products, TurboTax and QuickBooks. California https://jobs.intuit.com/search-jobs/united%20states 7900 1983 "},{"$f":"Table3[[#This Row],[Column26]]","v":"Product Manager II, Mid-Market Financials"},"Product Manager II, Mid-Market Financials","Intuit","NA","Y","https://www.indeed.com/jobs?q=Intuit&explvl=senior_level&vjk=85601027811e8fcc"]
[null,"Invoice2go","FinTech","Web and mobile-based application that allows business owners and freelancers to create, streamline and send professional invoices.","California","https://invoice.2go.com/open-positions/",113,2002,{"$f":"_xlfn.CONCAT(Table3[[#This Row],[Company]:[Year Founded]]&\" \")","v":"Invoice2go FinTech Web and mobile-based application that allows business owners and freelancers to create, streamline and send professional invoices. California https://invoice.2go.com/open-positions/ 113 2002 "},{"$f":"Table3[[#This Row],[Column26]]","v":"Service Delivery Lead"},"Service Delivery Lead","Invoice2go","NA","N"]
[null,"Ipreo","FinTech","Market intelligence, data and technology for banks, publicly traded companies, institutional and individual investors.","New York; North Carolina; Tennessee","https://careers.ihsmarkit.com/search.php?searchkeyword=&searchlocation=&fromstudent=&filter%5Bcountry%5D=United%20States%20of%20America&ob=",1400,2006,{"$f":"_xlfn.CONCAT(Table3[[#This Row],[Company]:[Year Founded]]&\" \")","v":"Ipreo FinTech Market intelligence, data and technology for banks, publicly traded companies, institutional and individual investors. New York; North Carolina; Tennessee https://careers.ihsmarkit.com/search.php?searchkeyword=&searchlocation=&fromstudent=&filter%5Bcountry%5D=United%20States%20of%20America&ob= 1400 2006 "},{"$f":"Table3[[#This Row],[Column26]]","v":"Associate Director, Client Delivery Manager"},"Associate Director, Client Delivery Manager","Ipreo","NA","N"]
[null,"Jack Henry & Associates, Inc.","FinTech","Provides technology solutions and payment processing services primarily to the financial services sector.","Monett, Missouri","https://jackhenry.avature.net/careers/SearchJobs",6400,1976,{"$f":"_xlfn.CONCAT(Table3[[#This Row],[Company]:[Year Founded]]&\" \")","v":"Jack Henry & Associates, Inc. FinTech Provides technology solutions and payment processing services primarily to the financial services sector. Monett, Missouri https://jackhenry.avature.net/careers/SearchJobs 6400 1976 "},{"$f":"Table3[[#This Row],[Column26]]","v":"Senior Manager Digital Marketing"},"Senior Manager Digital Marketing","Jack Henry & Associates, Inc.","Y","Y","https://www.indeed.com/jobs?q=Jack%20Henry%20%26%20Associates%2C%20Inc.&explvl=senior_level&vjk=264d7f9db297621f"]
[null,"JDX Consulting","FinTech","Consulting services focused on change management, remediation, and technology in financial services and insurance sectors.","New York ; London,Manchester,Birmingham, England; \nDublin; HongKong;  Singapore","https://www.jdxconsulting.com/",615,2012,{"$f":"_xlfn.CONCAT(Table3[[#This Row],[Company]:[Year Founded]]&\" \")","v":"JDX Consulting FinTech Consulting services focused on change management, remediation, and technology in financial services and insurance sectors. New York ; London,Manchester,Birmingham, England; \nDublin; HongKong;  Singapore https://www.jdxconsulting.com/ 615 2012 "},{"$f":"Table3[[#This Row],[Column26]]","v":"NA"},"NA","JDX Consulting","NA","N"]
[null,"Kabbage","Fintech","Online commercial loan service ","Georgia; New York; California; Colorado","https://www.kabbage.com/company/careers/positions",500,2008,{"$f":"_xlfn.CONCAT(Table3[[#This Row],[Company]:[Year Founded]]&\" \")","v":"Kabbage Fintech Online commercial loan service  Georgia; New York; California; Colorado https://www.kabbage.com/company/careers/positions 500 2008 "},{"$f":"Table3[[#This Row],[Column26]]","v":"Senior Manager, Product Development Kabbage, Application and Onboarding (Cross-Product)"},"Senior Manager, Product Development Kabbage, Application and Onboarding (Cross-Product)","Kabbage","NA","N"]
[null,"Kasisto","FinTech","Digital experience platform that develops conversational AI interacting solutions for the financial sector","California; New York","https://kasisto.com/careers/",83,2013,{"$f":"_xlfn.CONCAT(Table3[[#This Row],[Company]:[Year Founded]]&\" \")","v":"Kasisto FinTech Digital experience platform that develops conversational AI interacting solutions for the financial sector California; New York https://kasisto.com/careers/ 83 2013 "},{"$f":"Table3[[#This Row],[Column26]]","v":"Technical Project Manager"},"Technical Project Manager","Kasisto","NA","N"]
[null,"Kin Insurance","FinTech","Online platform that offers insurance products and services for homeowners.","Illinois; Florida; Georgia","https://www.kin.com/careers",91,2016,{"$f":"_xlfn.CONCAT(Table3[[#This Row],[Company]:[Year Founded]]&\" \")","v":"Kin Insurance FinTech Online platform that offers insurance products and services for homeowners. Illinois; Florida; Georgia https://www.kin.com/careers 91 2016 "},{"$f":"Table3[[#This Row],[Column26]]","v":"Product Manager"},"Product Manager","Kin Insurance","NA","Y","https://www.indeed.com/jobs?q=Kin%20Insurance&l=United%20States&vjk=7dd4fea46bda64da"]
[null,"Klarna","FinTech","Financial services including card and payment processing and loyalty apps ","HQ: Stockholm, Sweden; California; Ohio; New York","https://www.klarna.com/careers/",3000,2005,{"$f":"_xlfn.CONCAT(Table3[[#This Row],[Company]:[Year Founded]]&\" \")","v":"Klarna FinTech Financial services including card and payment processing and loyalty apps  HQ: Stockholm, Sweden; California; Ohio; New York https://www.klarna.com/careers/ 3000 2005 "},{"$f":"Table3[[#This Row],[Column26]]","v":"NA"},"NA","Klarna","Y","Y","https://www.indeed.com/jobs?q=Klarna&l=United%20States&vjk=5700977e3dd594a8"]
[null,"Klue","FinTech","Market and competitive intelligence software for competitor research and delivery of sales battlecards to B2B Sales teams","Vancouver","https://klue.com/jobs",26,2015,{"$f":"_xlfn.CONCAT(Table3[[#This Row],[Company]:[Year Founded]]&\" \")","v":"Klue FinTech Market and competitive intelligence software for competitor research and delivery of sales battlecards to B2B Sales teams Vancouver https://klue.com/jobs 26 2015 "},{"$f":"Table3[[#This Row],[Column26]]","v":"Customer Success Manager"},"Customer Success Manager","Klue","NA","N"]
[null,"LendingHome","FinTech","Online platform for residential mortgages","California; Pennsylvania","https://www.kin.com/careers",300,2013,{"$f":"_xlfn.CONCAT(Table3[[#This Row],[Company]:[Year Founded]]&\" \")","v":"LendingHome FinTech Online platform for residential mortgages California; Pennsylvania https://www.kin.com/careers 300 2013 "},{"$f":"Table3[[#This Row],[Column26]]","v":"NA"},"NA","LendingHome","NA","N"]
[null,"LendingTree","FinTech","Online marketplace that allows users to search and manage home loans, mortgage, and other financial services.","North Carolina","https://www.lendingtree.com/careers/jobs/?offices&departments",909,1996,{"$f":"_xlfn.CONCAT(Table3[[#This Row],[Company]:[Year Founded]]&\" \")","v":"LendingTree FinTech Online marketplace that allows users to search and manage home loans, mortgage, and other financial services. North Carolina https://www.lendingtree.com/careers/jobs/?offices&departments 909 1996 "},{"$f":"Table3[[#This Row],[Column26]]","v":"Senior Manager, Strategic Analytics"},"Senior Manager, Strategic Analytics","LendingTree","Y","Y","https://www.indeed.com/jobs?q=LendingTree&l=United%20States&vjk=69d2172a91b183f9"]
[null,"Lendio","Fintech","Peer-to-peer lending marketplace that provides capital solutions for small and medium-sized businesses.","Utah","https://www.lendio.com/careers/",300,2011,{"$f":"_xlfn.CONCAT(Table3[[#This Row],[Company]:[Year Founded]]&\" \")","v":"Lendio Fintech Peer-to-peer lending marketplace that provides capital solutions for small and medium-sized businesses. Utah https://www.lendio.com/careers/ 300 2011 "},{"$f":"Table3[[#This Row],[Column26]]","v":"Sr. Manager - Marketing Automation and Operations"},"Sr. Manager - Marketing Automation and Operations","Lendio","Y","Y","https://www.indeed.com/jobs?q=Lendio&l=United%20States&vjk=b2e90ff81fd5e77d"]
[null,"LeverEdge","Fintech","Uses group buying power to negotiate student loan rates","Massachusetts","https://jobs.lever.co/leveredge",21,2018,{"$f":"_xlfn.CONCAT(Table3[[#This Row],[Company]:[Year Founded]]&\" \")","v":"LeverEdge Fintech Uses group buying power to negotiate student loan rates Massachusetts https://jobs.lever.co/leveredge 21 2018 "},{"$f":"Table3[[#This Row],[Column26]]","v":"NA"},"NA","LeverEdge","NA","N"]
[null,"Loan Street","FinTech","Our mission is to help more Americans access capital through local lenders by supporting lenders with advanced tools and modern technology.","New York","https://loan-street.com/careers/",83,2013,{"$f":"_xlfn.CONCAT(Table3[[#This Row],[Company]:[Year Founded]]&\" \")","v":"Loan Street FinTech Our mission is to help more Americans access capital through local lenders by supporting lenders with advanced tools and modern technology. New York https://loan-street.com/careers/ 83 2013 "},{"$f":"Table3[[#This Row],[Column26]]","v":"Senior Product Manager"},"Senior Product Manager","Loan Street"]
[null,"Majesco","FinTech","Insurance technology solutions and services for policy administration, underwriting, new business processing, billing, claims, product modeling, incentive compensation, and producer lifecycle management.","New Jersey; Connecticut; Kansas","https://fa-emad-saasfaprod1.fa.ocs.oraclecloud.com/hcmUI/CandidateExperience/en/sites/CX_1001/requisitions/preview/149",2682,1982,{"$f":"_xlfn.CONCAT(Table3[[#This Row],[Company]:[Year Founded]]&\" \")","v":"Majesco FinTech Insurance technology solutions and services for policy administration, underwriting, new business processing, billing, claims, product modeling, incentive compensation, and producer lifecycle management. New Jersey; Connecticut; Kansas https://fa-emad-saasfaprod1.fa.ocs.oraclecloud.com/hcmUI/CandidateExperience/en/sites/CX_1001/requisitions/preview/149 2682 1982 "},{"$f":"Table3[[#This Row],[Column26]]","v":"Project Manager"},"Project Manager","Majesco","NA","N"]
[null,"Marqeta","FinTech","API for credit card issuing and payment processing","California; Remote","https://www.marqeta.com/company/careers/all-jobs",425,2010,{"$f":"_xlfn.CONCAT(Table3[[#This Row],[Company]:[Year Founded]]&\" \")","v":"Marqeta FinTech API for credit card issuing and payment processing California; Remote https://www.marqeta.com/company/careers/all-jobs 425 2010 "},{"$f":"Table3[[#This Row],[Column26]]","v":"Account Executive, Startups"},"Account Executive, Startups","Marqeta","Y","Y","https://www.indeed.com/jobs?q=Marqeta&l=United%20States&vjk=0ac5527344be09a1"]
[null,"MineralTree","Fintech","Automated invoice and payment processing solutions.","Massachusetts","https://www.mineraltree.com/careers/",125,2010,{"$f":"_xlfn.CONCAT(Table3[[#This Row],[Company]:[Year Founded]]&\" \")","v":"MineralTree Fintech Automated invoice and payment processing solutions. Massachusetts https://www.mineraltree.com/careers/ 125 2010 "},{"$f":"Table3[[#This Row],[Column26]]","v":"Implementation Manager"},"Implementation Manager","MineralTree","NA","Y","https://www.indeed.com/jobs?q=MineralTree&l=United%20States&vjk=a4a2c84f02f02ddb"]
[null,"NCR Corporation","FinTech","Digital banking and sales, with propriety products that include Emerald, Aloha, and RealPos.","Atlanta, Georgia","https://www.ncr.com/careers",34000,1884,{"$f":"_xlfn.CONCAT(Table3[[#This Row],[Company]:[Year Founded]]&\" \")","v":"NCR Corporation FinTech Digital banking and sales, with propriety products that include Emerald, Aloha, and RealPos. Atlanta, Georgia https://www.ncr.com/careers 34000 1884 "},{"$f":"Table3[[#This Row],[Column26]]","v":"Business Development Manager – Hospitality"},"Business Development Manager – Hospitality","NCR Corporation","Y","N"]
[null,"NetImpact Strategies","Fintech","Portfolio management, PMO consulting, enterprise architecture and performance measurement","Virginia","https://www.netimpactstrategies.com/careers.html#openjobs",178,2009,{"$f":"_xlfn.CONCAT(Table3[[#This Row],[Company]:[Year Founded]]&\" \")","v":"NetImpact Strategies Fintech Portfolio management, PMO consulting, enterprise architecture and performance measurement Virginia https://www.netimpactstrategies.com/careers.html#openjobs 178 2009 "},{"$f":"Table3[[#This Row],[Column26]]","v":"Product Manager"},"Product Manager","NetImpact Strategies","NA","Y","https://www.indeed.com/jobs?q=NetImpact%20Strategies&l=United%20States&vjk=49d2b6a95462981f"]
[null,"Nuvei","FinTech","Electronic payment processing.  Canada's largest private, non-bank payment processor.","Montreal; Arizona","https://nuvei.com/en-us/company/careers/",800,2003,{"$f":"_xlfn.CONCAT(Table3[[#This Row],[Company]:[Year Founded]]&\" \")","v":"Nuvei FinTech Electronic payment processing.  Canada's largest private, non-bank payment processor. Montreal; Arizona https://nuvei.com/en-us/company/careers/ 800 2003 "},{"$f":"Table3[[#This Row],[Column26]]","v":"Client Relations Manager"},"Client Relations Manager","Nuvei","Y","Y","https://www.indeed.com/jobs?q=Nuvei&l=United%20States&vjk=ce11fde3786e5b42"]
[null,"One Stream Software","Fintech","Online platform that provides account reconciliation, planning, budgeting, tax provision and financial data.","Rochester, Michigan","https://onestreamsoftware.applicantpro.com/jobs/",522,2010,{"$f":"_xlfn.CONCAT(Table3[[#This Row],[Company]:[Year Founded]]&\" \")","v":"One Stream Software Fintech Online platform that provides account reconciliation, planning, budgeting, tax provision and financial data. Rochester, Michigan https://onestreamsoftware.applicantpro.com/jobs/ 522 2010 "},{"$f":"Table3[[#This Row],[Column26]]","v":"Email Marketing Manager"},"Email Marketing Manager","One Stream Software","NA","Y","https://www.indeed.com/jobs?q=One%20Stream%20Software&explvl=senior_level&vjk=e1eb2b1fdbfa4283"]
[null,"Open Dealer Exchange","Fintech","Automotive finance and insurance software. Proprietary products include The Digital Deal.","Farmington Hills, Michigan","https://opendealerexchange.com/careers/",136,2009,{"$f":"_xlfn.CONCAT(Table3[[#This Row],[Company]:[Year Founded]]&\" \")","v":"Open Dealer Exchange Fintech Automotive finance and insurance software. Proprietary products include The Digital Deal. Farmington Hills, Michigan https://opendealerexchange.com/careers/ 136 2009 "},{"$f":"Table3[[#This Row],[Column26]]","v":"Director of Application Development"},"Director of Application Development","Open Dealer Exchange","NA","Y","https://www.indeed.com/jobs?q=Open%20Dealer%20Exchange&l&vjk=ef44face851d8ca6"]
[null,"Oportun","FinTech","Data analytics to support consumer loans","California","https://oportun.com/about/careers/",2600,2005,{"$f":"_xlfn.CONCAT(Table3[[#This Row],[Company]:[Year Founded]]&\" \")","v":"Oportun FinTech Data analytics to support consumer loans California https://oportun.com/about/careers/ 2600 2005 "},{"$f":"Table3[[#This Row],[Column26]]","v":"Sr. Manager, Product Analytics"},"Sr. Manager, Product Analytics","Oportun","NA","Y","https://www.indeed.com/jobs?q=Oportun&l=United%20States&vjk=2e146443a43f37ac"]
[null,"Oscar","Fintech","Web and mobile-based medical insurance platform ","New York; California; Texas; Ohio; Michigan; Tennessee; Florida; Arizona; New Jersey","https://www.hioscar.com/careers/search",1200,2012,{"$f":"_xlfn.CONCAT(Table3[[#This Row],[Company]:[Year Founded]]&\" \")","v":"Oscar Fintech Web and mobile-based medical insurance platform  New York; California; Texas; Ohio; Michigan; Tennessee; Florida; Arizona; New Jersey https://www.hioscar.com/careers/search 1200 2012 "},{"$f":"Table3[[#This Row],[Column26]]","v":"Sr. Manager, Insurance Product–Strategy"},"Sr. Manager, Insurance Product–Strategy","Oscar","NA","N"]
[null,"Own Up","FinTech","Online platform to compare and apply for residential mortgages","Massachusetts","https://www.ownup.com/",15,2016,{"$f":"_xlfn.CONCAT(Table3[[#This Row],[Company]:[Year Founded]]&\" \")","v":"Own Up FinTech Online platform to compare and apply for residential mortgages Massachusetts https://www.ownup.com/ 15 2016 "},{"$f":"Table3[[#This Row],[Column26]]","v":"NA"},"NA","Own Up","NA","N"]
[null,"PayLease","FinTech","Online payments, resident billing and utility expense processing in the real estate sector.","California","https://www.gozego.com/company/careers/",281,2003,{"$f":"_xlfn.CONCAT(Table3[[#This Row],[Company]:[Year Founded]]&\" \")","v":"PayLease FinTech Online payments, resident billing and utility expense processing in the real estate sector. California https://www.gozego.com/company/careers/ 281 2003 "},{"$f":"Table3[[#This Row],[Column26]]","v":"Partnerships Manager"},"Partnerships Manager","PayLease","NA","N"]
[null,"Payoneer","FinTech","Online money transfer and cross-border payment solutions for small and medium-sized businesses.","New York; California","https://www.payoneer.com/careers/#positions",1500,2005,{"$f":"_xlfn.CONCAT(Table3[[#This Row],[Company]:[Year Founded]]&\" \")","v":"Payoneer FinTech Online money transfer and cross-border payment solutions for small and medium-sized businesses. New York; California https://www.payoneer.com/careers/#positions 1500 2005 "},{"$f":"Table3[[#This Row],[Column26]]","v":"CHANNEL PARTNERSHIPS LEAD"},"CHANNEL PARTNERSHIPS LEAD","Payoneer","Y","Y","https://www.indeed.com/jobs?q=Payoneer&l=United%20States&vjk=743f9eb4d61f6cb4"]
[null,"Paypal","Fintech","Online payments system partnered with eBay.","California; Texas; Arizona; Maryland; Massachusetts; Illinois; Pennsylvania; New York; Nebraska; Utah; DC; Delaware; Toronto; Vancouver","https://www.paypal.com/ph/webapps/mpp/jobs/locations",21800,1998,{"$f":"_xlfn.CONCAT(Table3[[#This Row],[Company]:[Year Founded]]&\" \")","v":"Paypal Fintech Online payments system partnered with eBay. California; Texas; Arizona; Maryland; Massachusetts; Illinois; Pennsylvania; New York; Nebraska; Utah; DC; Delaware; Toronto; Vancouver https://www.paypal.com/ph/webapps/mpp/jobs/locations 21800 1998 "},{"$f":"Table3[[#This Row],[Column26]]","v":"Business Operations Manager - Workforce"},"Business Operations Manager - Workforce","Paypal","Y","Y","https://www.indeed.com/jobs?q=Paypal&l=United%20States&vjk=e64d913d64152e42"]
[null,"PeerStreet","Fintech","Investment marketplace that allows investors to purchase real estate loans. ","California","https://www.peerstreet.com/careers?ps_src=footer#current-openings",146,2013,{"$f":"_xlfn.CONCAT(Table3[[#This Row],[Company]:[Year Founded]]&\" \")","v":"PeerStreet Fintech Investment marketplace that allows investors to purchase real estate loans.  California https://www.peerstreet.com/careers?ps_src=footer#current-openings 146 2013 "},{"$f":"Table3[[#This Row],[Column26]]","v":"Director of Strategy, Marketing Analysis, and Growth"},"Director of Strategy, Marketing Analysis, and Growth","PeerStreet","NA","N"]
[null,"Personal Capital","FinTech","Digital wealth management","California; Georgia; Illinois; Texas; Colorado; New York","https://www.personalcapital.com/company/jobs",800,2009,{"$f":"_xlfn.CONCAT(Table3[[#This Row],[Company]:[Year Founded]]&\" \")","v":"Personal Capital FinTech Digital wealth management California; Georgia; Illinois; Texas; Colorado; New York https://www.personalcapital.com/company/jobs 800 2009 "},{"$f":"Table3[[#This Row],[Column26]]","v":"Account Executive"},"Account Executive","Personal Capital","NA","Y","https://www.indeed.com/jobs?q=Personal%20Capital&l=United%20States&explvl=senior_level&start=20&vjk=a9aeda3a560a0bb1"]
[null,"Petal","FinTech","Petal is a credit card company that utilizes behavioral science to help consumers manage financial decisions and debt loads.","New York; Georgia; California","https://www.petalcard.com/careers",60,2016,{"$f":"_xlfn.CONCAT(Table3[[#This Row],[Company]:[Year Founded]]&\" \")","v":"Petal FinTech Petal is a credit card company that utilizes behavioral science to help consumers manage financial decisions and debt loads. New York; Georgia; California https://www.petalcard.com/careers 60 2016 "},{"$f":"Table3[[#This Row],[Column26]]","v":"Product Marketing Manager (Remote optional)"},"Product Marketing Manager (Remote optional)","Petal","NA","N"]
[null,"Plaid","Fintech","SaaS-based platform for linking consumers' bank accounts to mobile applications.","California; New York; Utah; ","https://plaid.com/careers/openings/all-departments/remote/",500,2012,{"$f":"_xlfn.CONCAT(Table3[[#This Row],[Company]:[Year Founded]]&\" \")","v":"Plaid Fintech SaaS-based platform for linking consumers' bank accounts to mobile applications. California; New York; Utah;  https://plaid.com/careers/openings/all-departments/remote/ 500 2012 "},{"$f":"Table3[[#This Row],[Column26]]","v":"Account Management Leader - Startup and Mid-Market"},"Account Management Leader - Startup and Mid-Market","Plaid","Y","N"]
[null,"Point","FinTech","Point helps homeowners unlock the equity in their homes without taking on further debt.","California","https://point.com/careers",200,2015,{"$f":"_xlfn.CONCAT(Table3[[#This Row],[Company]:[Year Founded]]&\" \")","v":"Point FinTech Point helps homeowners unlock the equity in their homes without taking on further debt. California https://point.com/careers 200 2015 "},{"$f":"Table3[[#This Row],[Column26]]","v":"Business Development Manager (Partnerships)"},"Business Development Manager (Partnerships)","Point"]
[null,"Rapyd","FinTech","Fintech-as-a-Service, providing a full stack of integrated payments, commerce and financial services capabilities that can be embedded into any application.","California","https://www.rapyd.net/",200,2015,{"$f":"_xlfn.CONCAT(Table3[[#This Row],[Company]:[Year Founded]]&\" \")","v":"Rapyd FinTech Fintech-as-a-Service, providing a full stack of integrated payments, commerce and financial services capabilities that can be embedded into any application. California https://www.rapyd.net/ 200 2015 "},{"$f":"Table3[[#This Row],[Column26]]","v":"NA"},"NA","Rapyd","NA","N"]
[null,"Realty Mogul","FinTech","Online real estate crowdfunding - marketplace for accredited investors to pool money online and buy shares of pre-vetted investment properties.","California","https://www.realtymogul.com/careers",80,2012,{"$f":"_xlfn.CONCAT(Table3[[#This Row],[Company]:[Year Founded]]&\" \")","v":"Realty Mogul FinTech Online real estate crowdfunding - marketplace for accredited investors to pool money online and buy shares of pre-vetted investment properties. California https://www.realtymogul.com/careers 80 2012 "},{"$f":"Table3[[#This Row],[Column26]]","v":"Director of Acquisitions – Midwest and Rust Belt Multifamily"},"Director of Acquisitions – Midwest and Rust Belt Multifamily","Realty Mogul","NA","N"]
[null,"Refinitiv","FinTech","Technology business data, news, analysis and insights","Massachusetts; Wisconsin; Illinois; Missouri; Minnesota; New Jersey; Texas, California; Pennsylvania; New York; Maryland; Connecticut; Washington; Calgary; Montreal; Vancouver; Toronto","https://www.refinitiv.com/en/careers",19000,2018,{"$f":"_xlfn.CONCAT(Table3[[#This Row],[Company]:[Year Founded]]&\" \")","v":"Refinitiv FinTech Technology business data, news, analysis and insights Massachusetts; Wisconsin; Illinois; Missouri; Minnesota; New Jersey; Texas, California; Pennsylvania; New York; Maryland; Connecticut; Washington; Calgary; Montreal; Vancouver; Toronto https://www.refinitiv.com/en/careers 19000 2018 "},{"$f":"Table3[[#This Row],[Column26]]","v":"Partnership Manager"},"Partnership Manager","Refinitiv","NA","N"]
[null,"Remitly","Fintech","Cross-border transactions and payment solutions for individuals and businesses.","Washington","https://www.remitly.com/us/en/careers/in/customer%20success",1000,2011,{"$f":"_xlfn.CONCAT(Table3[[#This Row],[Company]:[Year Founded]]&\" \")","v":"Remitly Fintech Cross-border transactions and payment solutions for individuals and businesses. Washington https://www.remitly.com/us/en/careers/in/customer%20success 1000 2011 "},{"$f":"Table3[[#This Row],[Column26]]","v":"Program Manager, Risk Operations"},"Program Manager, Risk Operations","Remitly","NA","N"]
[null,"Ripple","Fintech","Blockchain and platform for international transactions. ","California; New York","https://ripple.com/company/careers/all-jobs",534,2012,{"$f":"_xlfn.CONCAT(Table3[[#This Row],[Company]:[Year Founded]]&\" \")","v":"Ripple Fintech Blockchain and platform for international transactions.  California; New York https://ripple.com/company/careers/all-jobs 534 2012 "},{"$f":"Table3[[#This Row],[Column26]]","v":"Senior Project Manager"},"Senior Project Manager","Ripple","NA","N"]
[null,"Robinhood","Fintech","Banking, automated investment management and financial advisory solutions for consumers and businesses.","California","https://careers.robinhood.com/openings",1200,2012,{"$f":"_xlfn.CONCAT(Table3[[#This Row],[Company]:[Year Founded]]&\" \")","v":"Robinhood Fintech Banking, automated investment management and financial advisory solutions for consumers and businesses. California https://careers.robinhood.com/openings 1200 2012 "},{"$f":"Table3[[#This Row],[Column26]]","v":"Manager of Disputes"},"Manager of Disputes","Robinhood","NA","N"]
[null,"SoFi","Fintech","Online lending platform for student-loan refinancing and consumer mortgages and personal loans.","New York; San Francisco; Utah; California; Washington; Delaware; Montana; Texas; Florida; Virginia","https://www.sofi.com/careers/",1400,2011,{"$f":"_xlfn.CONCAT(Table3[[#This Row],[Company]:[Year Founded]]&\" \")","v":"SoFi Fintech Online lending platform for student-loan refinancing and consumer mortgages and personal loans. New York; San Francisco; Utah; California; Washington; Delaware; Montana; Texas; Florida; Virginia https://www.sofi.com/careers/ 1400 2011 "},{"$f":"Table3[[#This Row],[Column26]]","v":"Business Operations Manager - Banks"},"Business Operations Manager - Banks","SoFi","NA","Y","https://www.indeed.com/jobs?q=SoFi&explvl=senior_level&vjk=bb7279e074b3e0b6"]
[null,"Softerware","Fintech","Fundraising and camp management software for  non-profit organizations.","Pennsylvania","https://www.softerware.com/employment/",205,1981,{"$f":"_xlfn.CONCAT(Table3[[#This Row],[Company]:[Year Founded]]&\" \")","v":"Softerware Fintech Fundraising and camp management software for  non-profit organizations. Pennsylvania https://www.softerware.com/employment/ 205 1981 "},{"$f":"Table3[[#This Row],[Column26]]","v":"NA"},"NA","Softerware","Y","N"]
[null,"Solstice Consulting LLC","Fintech","Mobile-based digital product design and engineering services.","Illinois","https://www.solstice.com/careers?hsCtaTracking=f03534fb-2f07-4438-93e1-77a5c87aaee2%7Caaf8e26a-deb7-4768-9a8b-6036dbc00e7d",540,2001,{"$f":"_xlfn.CONCAT(Table3[[#This Row],[Company]:[Year Founded]]&\" \")","v":"Solstice Consulting LLC Fintech Mobile-based digital product design and engineering services. Illinois https://www.solstice.com/careers?hsCtaTracking=f03534fb-2f07-4438-93e1-77a5c87aaee2%7Caaf8e26a-deb7-4768-9a8b-6036dbc00e7d 540 2001 "},{"$f":"Table3[[#This Row],[Column26]]","v":"Delivery Operations Leader, East"},"Delivery Operations Leader, East","Solstice Consulting LLC","NA","N"]
[null,"Square","FinTech","credit card reader applications for cellular telephones","Arizona; California; Georgia; Montana; New York; Oregon; Utah; Washington; Kitchener; Toronto","https://careers.squareup.com/us/en",3350,2009,{"$f":"_xlfn.CONCAT(Table3[[#This Row],[Company]:[Year Founded]]&\" \")","v":"Square FinTech credit card reader applications for cellular telephones Arizona; California; Georgia; Montana; New York; Oregon; Utah; Washington; Kitchener; Toronto https://careers.squareup.com/us/en 3350 2009 "},{"$f":"Table3[[#This Row],[Column26]]","v":"Customer Success Manager"},"Customer Success Manager","Square","Y","Y","https://www.indeed.com/jobs?q=Square&l&vjk=15fb5781a1c2e296"]
[null,"Square, Inc","Fintech","Credit card reader applications for mobile devices.","California","https://careers.squareup.com/us/en",8500,2009,{"$f":"_xlfn.CONCAT(Table3[[#This Row],[Company]:[Year Founded]]&\" \")","v":"Square, Inc Fintech Credit card reader applications for mobile devices. California https://careers.squareup.com/us/en 8500 2009 "},{"$f":"Table3[[#This Row],[Column26]]","v":"Senior Manager, Global Sales Analytics"},"Senior Manager, Global Sales Analytics","Square, Inc","Y","N"]
[null,"Step","Fintech","FinTech targeted at teens and young adults","California","https://www.step.com/careers",42,2018,{"$f":"_xlfn.CONCAT(Table3[[#This Row],[Company]:[Year Founded]]&\" \")","v":"Step Fintech FinTech targeted at teens and young adults California https://www.step.com/careers 42 2018 "},{"$f":"Table3[[#This Row],[Column26]]","v":"Partnerships Lead\n"},"Partnerships Lead\n","Step","Y","N"]
[null,"Stripe","Fintech","Web and mobile-based payment processing platform for consumers and businesses.","California","https://stripe.com/jobs/search",2800,2010,{"$f":"_xlfn.CONCAT(Table3[[#This Row],[Company]:[Year Founded]]&\" \")","v":"Stripe Fintech Web and mobile-based payment processing platform for consumers and businesses. California https://stripe.com/jobs/search 2800 2010 "},{"$f":"Table3[[#This Row],[Column26]]","v":"Corporate Strategy"},"Corporate Strategy","Stripe","Y","Y","https://www.indeed.com/jobs?q=Stripe&l&vjk=4db1c553baad138d"]
[null,"SynapseFi","FinTech"," API-based banking platform for automated account creation, payment processing and compliance screening solutions.","California","https://synapsefi.com/about#careers",126,2014,{"$f":"_xlfn.CONCAT(Table3[[#This Row],[Company]:[Year Founded]]&\" \")","v":"SynapseFi FinTech  API-based banking platform for automated account creation, payment processing and compliance screening solutions. California https://synapsefi.com/about#careers 126 2014 "},{"$f":"Table3[[#This Row],[Column26]]","v":"Customer Growth Manager"},"Customer Growth Manager","SynapseFi","NA","N"]
[null,"Synnex Corporation","Fintech","Technology solutions for the IT and consumer electronics markets. Owns Westcon-Comstor, Hyve Solutions, and Concentrix.","California","https://www.synnexcorp.com/careers/",235000,1980,{"$f":"_xlfn.CONCAT(Table3[[#This Row],[Company]:[Year Founded]]&\" \")","v":"Synnex Corporation Fintech Technology solutions for the IT and consumer electronics markets. Owns Westcon-Comstor, Hyve Solutions, and Concentrix. California https://www.synnexcorp.com/careers/ 235000 1980 "},{"$f":"Table3[[#This Row],[Column26]]","v":"Business Development Manager I - Training Sales (Remote)"},"Business Development Manager I - Training Sales (Remote)","Synnex Corporation","NA","N"]
[null,"Tala","Fintech","Mobile-based application for underserved populations to apply for loans, credit, savings accounts, insurance"," California","https://tala.co/careers/",350,2012,{"$f":"_xlfn.CONCAT(Table3[[#This Row],[Company]:[Year Founded]]&\" \")","v":"Tala Fintech Mobile-based application for underserved populations to apply for loans, credit, savings accounts, insurance  California https://tala.co/careers/ 350 2012 "},{"$f":"Table3[[#This Row],[Column26]]","v":"Strategy Operations Manager"},"Strategy Operations Manager","Tala","Y","N"]
[null,"Transferwise","FinTech","Cross border currency exchange by smart phone","New York; Florida","https://www.transferwise.jobs/search/?t=&o=New%20York",2200,2011,{"$f":"_xlfn.CONCAT(Table3[[#This Row],[Company]:[Year Founded]]&\" \")","v":"Transferwise FinTech Cross border currency exchange by smart phone New York; Florida https://www.transferwise.jobs/search/?t=&o=New%20York 2200 2011 "},{"$f":"Table3[[#This Row],[Column26]]","v":"NA"},"NA","Transferwise","NA","N"]
[null,"Truebill","Fintech","Mobile-based application for personal financial management.","California; Maryland","https://www.truebill.com/careers",35,2015,{"$f":"_xlfn.CONCAT(Table3[[#This Row],[Company]:[Year Founded]]&\" \")","v":"Truebill Fintech Mobile-based application for personal financial management. California; Maryland https://www.truebill.com/careers 35 2015 "},{"$f":"Table3[[#This Row],[Column26]]","v":"Growth Marketing Manager, Digital"},"Growth Marketing Manager, Digital","Truebill","Y","N"]
[null,"Trumid","FinTech","Electronic credit trading platform that provides corporate bond trading solutions for buyers and prime brokers.","New York","https://www.trumid.com/careers.html",57,2014,{"$f":"_xlfn.CONCAT(Table3[[#This Row],[Company]:[Year Founded]]&\" \")","v":"Trumid FinTech Electronic credit trading platform that provides corporate bond trading solutions for buyers and prime brokers. New York https://www.trumid.com/careers.html 57 2014 "},{"$f":"Table3[[#This Row],[Column26]]","v":"Business Management Lead – Sales Strategy"},"Business Management Lead – Sales Strategy","Trumid","NA","N"]
[null,"Upgrade","FinTech","Online lending platform for refinancing, debt consolidation and personal loans.","California; Illinois; Arizona; Montreal","https://www.upgrade.com/careers/",260,2016,{"$f":"_xlfn.CONCAT(Table3[[#This Row],[Company]:[Year Founded]]&\" \")","v":"Upgrade FinTech Online lending platform for refinancing, debt consolidation and personal loans. California; Illinois; Arizona; Montreal https://www.upgrade.com/careers/ 260 2016 "},{"$f":"Table3[[#This Row],[Column26]]","v":"Project Manager, Operations"},"Project Manager, Operations","Upgrade","Y","Y","https://www.indeed.com/jobs?q=Upgrade&l=United%20States&vjk=0194bca4cc9ae3ac"]
[null,"Veem","FinTech","Online financial platformfor small businesses to send and receive payments. ","California; Maryland; Ottawa","https://www.veem.com/careers/openings/",125,2014,{"$f":"_xlfn.CONCAT(Table3[[#This Row],[Company]:[Year Founded]]&\" \")","v":"Veem FinTech Online financial platformfor small businesses to send and receive payments.  California; Maryland; Ottawa https://www.veem.com/careers/openings/ 125 2014 "},{"$f":"Table3[[#This Row],[Column26]]","v":"NA"},"NA","Veem","NA","N"]
[null,"Vic.ai","FinTech","AI platform to process accounting documents and transactions","New York","https://vic-ai.breezy.hr/",33,2016,{"$f":"_xlfn.CONCAT(Table3[[#This Row],[Company]:[Year Founded]]&\" \")","v":"Vic.ai FinTech AI platform to process accounting documents and transactions New York https://vic-ai.breezy.hr/ 33 2016 "},{"$f":"Table3[[#This Row],[Column26]]","v":"NA"},"NA","Vic.ai","Y","Y","https://www.indeed.com/jobs?q=Vic.ai&l=United%20States&vjk=4437a623607a00a2"]
[null,"Wepay","FinTech","Integrated payment processing  for online platforms and marketplaces.","New York","https://go.wepay.com/careers/",350,2008,{"$f":"_xlfn.CONCAT(Table3[[#This Row],[Company]:[Year Founded]]&\" \")","v":"Wepay FinTech Integrated payment processing  for online platforms and marketplaces. New York https://go.wepay.com/careers/ 350 2008 "},{"$f":"Table3[[#This Row],[Column26]]","v":"Head of Relationship Management (Enterprise Partnerships)"},"Head of Relationship Management (Enterprise Partnerships)","Wepay","Y","Y","https://www.indeed.com/jobs?q=Wepay&l=United%20States&vjk=10e23d9af71a2a6e"]
[null,"West Creek","Fintech","Point-of-sale financing for the retailer sector","DC; Virginia; Utah; California","https://westcreekfin.isolvedhire.com/jobs/",200,2014,{"$f":"_xlfn.CONCAT(Table3[[#This Row],[Company]:[Year Founded]]&\" \")","v":"West Creek Fintech Point-of-sale financing for the retailer sector DC; Virginia; Utah; California https://westcreekfin.isolvedhire.com/jobs/ 200 2014 "},{"$f":"Table3[[#This Row],[Column26]]","v":"NA"},"NA","West Creek","NA","N"]
[null,"WEX Inc","Fintech","Saas across a range of industries, including transportation, travel, insurance, and healthcare.","Connecticut; Florida; Maine; Minnesota; Nebraska; North Dakota; Oregon; Tennessee; Texas; Utah; Virginia","https://www.wexinc.com/about/careers/",3700,1895,{"$f":"_xlfn.CONCAT(Table3[[#This Row],[Company]:[Year Founded]]&\" \")","v":"WEX Inc Fintech Saas across a range of industries, including transportation, travel, insurance, and healthcare. Connecticut; Florida; Maine; Minnesota; Nebraska; North Dakota; Oregon; Tennessee; Texas; Utah; Virginia https://www.wexinc.com/about/careers/ 3700 1895 "},{"$f":"Table3[[#This Row],[Column26]]","v":"Director, Acceptance Strategy and Partnership Development"},"Director, Acceptance Strategy and Partnership Development","WEX Inc","Y","Y","https://www.indeed.com/jobs?q=WEX%20Inc&l&vjk=6a52b78eaaecb52e"]
[null,"WorkFusion","FinTech","Automation platform for financial institutions","New York","https://www.workfusion.com/careers/",286,2011,{"$f":"_xlfn.CONCAT(Table3[[#This Row],[Company]:[Year Founded]]&\" \")","v":"WorkFusion FinTech Automation platform for financial institutions New York https://www.workfusion.com/careers/ 286 2011 "},{"$f":"Table3[[#This Row],[Column26]]","v":"Project Manager - Remote"},"Project Manager - Remote","WorkFusion","NA","N"]
[null,"Worldpay","FinTech","Credit card payment processing and in-store point-of-sale solutions for e-commerce, retail and healthcare sectors.","Georgia; Nevada; Illinois; Maryland; New York; Longueil; Vancouver; Toronto","https://www.fisglobal.com/en/careers",8500,1993,{"$f":"_xlfn.CONCAT(Table3[[#This Row],[Company]:[Year Founded]]&\" \")","v":"Worldpay FinTech Credit card payment processing and in-store point-of-sale solutions for e-commerce, retail and healthcare sectors. Georgia; Nevada; Illinois; Maryland; New York; Longueil; Vancouver; Toronto https://www.fisglobal.com/en/careers 8500 1993 "},{"$f":"Table3[[#This Row],[Column26]]","v":"Senior Project Manager "},"Senior Project Manager ","Worldpay","NA","N"]
[null,"Worldremit","FinTech","Online remittance platform to transfer money, pay bills and recharge airtime top-up.","Colorado; Florida; Toronto","https://www.worldremit.com/en/careers?office=Denver%2C+USA#our-opportunities",800,2009,{"$f":"_xlfn.CONCAT(Table3[[#This Row],[Company]:[Year Founded]]&\" \")","v":"Worldremit FinTech Online remittance platform to transfer money, pay bills and recharge airtime top-up. Colorado; Florida; Toronto https://www.worldremit.com/en/careers?office=Denver%2C+USA#our-opportunities 800 2009 "},{"$f":"Table3[[#This Row],[Column26]]","v":"NA"},"NA","Worldremit","NA","N"]
[null,"Zuora Inc","Fintech","Online solutions for the subscription economy.","California; Georgia; Massachusetts; Texas; Colorado; New York","https://www.zuora.com/about/careers/",1200,2007,{"$f":"_xlfn.CONCAT(Table3[[#This Row],[Company]:[Year Founded]]&\" \")","v":"Zuora Inc Fintech Online solutions for the subscription economy. California; Georgia; Massachusetts; Texas; Colorado; New York https://www.zuora.com/about/careers/ 1200 2007 "},{"$f":"Table3[[#This Row],[Column26]]","v":"Director, Product Marketing"},"Director, Product Marketing","Zuora Inc","Y","N"]
[null,"Activision","Gaming","Develops and publishes games for video game consoles, personal computers and mobile devices.","California","https://careers.activision.com/search-results?from=20&s=1&rk=l-market-and-sell-great-games",9900,2008,{"$f":"_xlfn.CONCAT(Table3[[#This Row],[Company]:[Year Founded]]&\" \")","v":"Activision Gaming Develops and publishes games for video game consoles, personal computers and mobile devices. California https://careers.activision.com/search-results?from=20&s=1&rk=l-market-and-sell-great-games 9900 2008 "},{"$f":"Table3[[#This Row],[Column26]]","v":"Senior Marketing Coordinator"},"Senior Marketing Coordinator","Activision","NA","N"]
[null,"Behaviour Interactive","Gaming","Operates perates as a video game development studio. The Company specializes in the production of 2D and 3D action and adventure games for handheld game consoles and personal computers.","Montreal","https://www.bhvr.com/jobs/",550,1992,{"$f":"_xlfn.CONCAT(Table3[[#This Row],[Company]:[Year Founded]]&\" \")","v":"Behaviour Interactive Gaming Operates perates as a video game development studio. The Company specializes in the production of 2D and 3D action and adventure games for handheld game consoles and personal computers. Montreal https://www.bhvr.com/jobs/ 550 1992 "},{"$f":"Table3[[#This Row],[Column26]]","v":"Associate Brand Manager"},"Associate Brand Manager","Behaviour Interactive","NA","N"]
[null,"Discord","Gaming","SaaS-based social networking serving gamers.","California","https://discord.com/jobs",400,2012,{"$f":"_xlfn.CONCAT(Table3[[#This Row],[Company]:[Year Founded]]&\" \")","v":"Discord Gaming SaaS-based social networking serving gamers. California https://discord.com/jobs 400 2012 "},{"$f":"Table3[[#This Row],[Column26]]","v":"MANAGER, CREATOR PROGRAMS"},"MANAGER, CREATOR PROGRAMS","Discord","Y","N"]
[null,"Epic Games","Gaming"," video game and software developer and publisher. Proprietary products include Fortnite.","North Carolina; California","https://www.epicgames.com/site/en-US/careers",2200,1991,{"$f":"_xlfn.CONCAT(Table3[[#This Row],[Company]:[Year Founded]]&\" \")","v":"Epic Games Gaming  video game and software developer and publisher. Proprietary products include Fortnite. North Carolina; California https://www.epicgames.com/site/en-US/careers 2200 1991 "},{"$f":"Table3[[#This Row],[Column26]]","v":"BUSINESS OPERATIONS MANAGER, CONSUMER PRODUCTS (R23005)"},"BUSINESS OPERATIONS MANAGER, CONSUMER PRODUCTS (R23005)","Epic Games","NA","N"]
[null,"Nvidia","Gaming","Designs and manufactures GPU's serving the gaming, automobile, and information sectors; its propriety products include Shield Tablet.","Ontario, California, Texas, Oregon, Washington, Massachusetts, New Jersey, Michigan, Virginia, Florida","https://nvidia.wd5.myworkdayjobs.com/en-US/NVIDIAExternalCareerSite/details/Director--Finance---Operations_JR1962182?locationHierarchy2=0c3f5f117e9a0101f6422f0fe79d0000&locationHierarchy1=2fcb99c455831013ea52fb338f2932d8&jobFamilyGroup=0c40f6bd1d8f10ae43ffcac5bbec7e90&jobFamilyGroup=0c40f6bd1d8f10ae43ffc19725ec7e88&jobFamilyGroup=0c40f6bd1d8f10ae43ffc668c6847e8c&jobFamilyGroup=0c40f6bd1d8f10ae43ffc3fc7d8c7e8a&jobFamilyGroup=0c40f6bd1d8f10ae43ffb5dd06f47e7e&jobFamilyGroup=0c40f6bd1d8f10ae43ffac5fdfac7e76&jobFamilyGroup=0c40f6bd1d8f10ae43ffaa1e1d6c7e74",13000,1993,{"$f":"_xlfn.CONCAT(Table3[[#This Row],[Company]:[Year Founded]]&\" \")","v":"Nvidia Gaming Designs and manufactures GPU's serving the gaming, automobile, and information sectors; its propriety products include Shield Tablet. Ontario, California, Texas, Oregon, Washington, Massachusetts, New Jersey, Michigan, Virginia, Florida https://nvidia.wd5.myworkdayjobs.com/en-US/NVIDIAExternalCareerSite/details/Director--Finance---Operations_JR1962182?locationHierarchy2=0c3f5f117e9a0101f6422f0fe79d0000&locationHierarchy1=2fcb99c455831013ea52fb338f2932d8&jobFamilyGroup=0c40f6bd1d8f10ae43ffcac5bbec7e90&jobFamilyGroup=0c40f6bd1d8f10ae43ffc19725ec7e88&jobFamilyGroup=0c40f6bd1d8f10ae43ffc668c6847e8c&jobFamilyGroup=0c40f6bd1d8f10ae43ffc3fc7d8c7e8a&jobFamilyGroup=0c40f6bd1d8f10ae43ffb5dd06f47e7e&jobFamilyGroup=0c40f6bd1d8f10ae43ffac5fdfac7e76&jobFamilyGroup=0c40f6bd1d8f10ae43ffaa1e1d6c7e74 13000 1993 "},{"$f":"Table3[[#This Row],[Column26]]","v":"Director, Product Management"},"Director, Product Management","Nvidia","Y","Y","https://www.indeed.com/jobs?q=Nvidia&start=20&vjk=c056d75fe88f58fb"]
[null,"Roblox","Gaming","Online game platform and game creation system","California","https://corp.roblox.com/careers/",565,2005,{"$f":"_xlfn.CONCAT(Table3[[#This Row],[Company]:[Year Founded]]&\" \")","v":"Roblox Gaming Online game platform and game creation system California https://corp.roblox.com/careers/ 565 2005 "},{"$f":"Table3[[#This Row],[Column26]]","v":"Growth Marketing Manager"},"Growth Marketing Manager","Roblox","NA","Y","https://www.indeed.com/jobs?q=Roblox&l=United%20States&start=10&vjk=3e02e21d5fed6946"]
[null,"Take Two","Gaming","Video games and peripherals. Subsidiaries include Rockstar Games and 2K.","New York","https://boards.greenhouse.io/taketwo",5200,1993,{"$f":"_xlfn.CONCAT(Table3[[#This Row],[Company]:[Year Founded]]&\" \")","v":"Take Two Gaming Video games and peripherals. Subsidiaries include Rockstar Games and 2K. New York https://boards.greenhouse.io/taketwo 5200 1993 "},{"$f":"Table3[[#This Row],[Column26]]","v":"Senior Product Manager"},"Senior Product Manager","Take Two","NA","N"]
[null,"Twitch.tv","Gaming","Twitch is a company that develops a social video platform and community for gamers, video game culture and the creative arts.\nLive streaming video game platform.","California","https://www.twitch.tv/jobs/#jobs",5900,2011,{"$f":"_xlfn.CONCAT(Table3[[#This Row],[Company]:[Year Founded]]&\" \")","v":"Twitch.tv Gaming Twitch is a company that develops a social video platform and community for gamers, video game culture and the creative arts.\nLive streaming video game platform. California https://www.twitch.tv/jobs/#jobs 5900 2011 "},{"$f":"Table3[[#This Row],[Column26]]","v":"Creator Marketing Lead"},"Creator Marketing Lead","Twitch.tv","NA","N"]
[null,"Unity Technologies","Gaming","Gaming studio for mobile and PC online video games","California; Texas; Washington; Pennsylvania; Montreal","https://careers.unity.com/?_ga=2.241713154.12437352.1593091230-1690556468.1593091230",3300,2004,{"$f":"_xlfn.CONCAT(Table3[[#This Row],[Company]:[Year Founded]]&\" \")","v":"Unity Technologies Gaming Gaming studio for mobile and PC online video games California; Texas; Washington; Pennsylvania; Montreal https://careers.unity.com/?_ga=2.241713154.12437352.1593091230-1690556468.1593091230 3300 2004 "},{"$f":"Table3[[#This Row],[Column26]]","v":"Senior Manager, Strategic Partnerships, Consumer"},"Senior Manager, Strategic Partnerships, Consumer","Unity Technologies","NA","N"]
[null,"Apixio","HealthTech","Data analytics solutions for clinical and billing information in healthcare markets.","California","https://www.apixio.com/join-apixio/",150,2009,{"$f":"_xlfn.CONCAT(Table3[[#This Row],[Company]:[Year Founded]]&\" \")","v":"Apixio HealthTech Data analytics solutions for clinical and billing information in healthcare markets. California https://www.apixio.com/join-apixio/ 150 2009 "},{"$f":"Table3[[#This Row],[Column26]]","v":"CUSTOMER SUCCESS MANAGER"},"CUSTOMER SUCCESS MANAGER","Apixio","NA","N"]
[null,"Azzur Group","HealthTech","Project management, process engineering, compliance, IT, training and laboratory services to the life sciences sector.","San Diego; Boston; Los Angeles; Philadelphia; Princeton; Raleigh; San Francisco; Washington DC; Worcester","https://azzur.com/careers/jobs",155,2010,{"$f":"_xlfn.CONCAT(Table3[[#This Row],[Company]:[Year Founded]]&\" \")","v":"Azzur Group HealthTech Project management, process engineering, compliance, IT, training and laboratory services to the life sciences sector. San Diego; Boston; Los Angeles; Philadelphia; Princeton; Raleigh; San Francisco; Washington DC; Worcester https://azzur.com/careers/jobs 155 2010 "},{"$f":"Table3[[#This Row],[Column26]]","v":"Global Project Manager"},"Global Project Manager","Azzur Group","Y","Y","https://www.indeed.com/jobs?q=Azzur%20Group&explvl=senior_level&vjk=50c66520b80f299b"]
[null,"Bayer","Healthtech","Pharmaceuticals, consumer health and crop science. Proprietary products include Xarelto, Mirena. First company to commercialize Aspirin.","New Jersey; Mississauga","https://career.bayer.com/en/jobs-search?field_job_career_level=2171&field_job_functional_area=2466&field_job_country=9101&field_job_location=All&field_job_division=All&search_api_fulltext=",103000,1863,{"$f":"_xlfn.CONCAT(Table3[[#This Row],[Company]:[Year Founded]]&\" \")","v":"Bayer Healthtech Pharmaceuticals, consumer health and crop science. Proprietary products include Xarelto, Mirena. First company to commercialize Aspirin. New Jersey; Mississauga https://career.bayer.com/en/jobs-search?field_job_career_level=2171&field_job_functional_area=2466&field_job_country=9101&field_job_location=All&field_job_division=All&search_api_fulltext= 103000 1863 "},{"$f":"Table3[[#This Row],[Column26]]","v":"Market Research Lead\t"},"Market Research Lead\t","Bayer","Y","Y","https://www.indeed.com/jobs?q=Bayer&l=United%20States&vjk=6558344ac4441e37"]
[null,"Calm","HealthTech","Mobile-based application that offers guided-meditation and breathing exercises.","California","https://www.calm.com/",100,2012,{"$f":"_xlfn.CONCAT(Table3[[#This Row],[Company]:[Year Founded]]&\" \")","v":"Calm HealthTech Mobile-based application that offers guided-meditation and breathing exercises. California https://www.calm.com/ 100 2012 "},{"$f":"Table3[[#This Row],[Column26]]","v":"Senior Performance Marketing Manager, B2B"},"Senior Performance Marketing Manager, B2B","Calm","Y","N"]
[null,"CoverMyMeds","HealthTech","Electronic prior authorization platform.","Ohio","https://experience.covermymeds.com/open-positions",1000,2008,{"$f":"_xlfn.CONCAT(Table3[[#This Row],[Company]:[Year Founded]]&\" \")","v":"CoverMyMeds HealthTech Electronic prior authorization platform. Ohio https://experience.covermymeds.com/open-positions 1000 2008 "},{"$f":"Table3[[#This Row],[Column26]]","v":"Implementation Manager"},"Implementation Manager","CoverMyMeds","Y","N"]
[null,"Epic Systems","HealthTech","Electronic medical record software. Proprietary products include Epic EMR and Chronicles database management system.","Verona, Wisconsin","https://careers.epic.com/",10000,1979,{"$f":"_xlfn.CONCAT(Table3[[#This Row],[Company]:[Year Founded]]&\" \")","v":"Epic Systems HealthTech Electronic medical record software. Proprietary products include Epic EMR and Chronicles database management system. Verona, Wisconsin https://careers.epic.com/ 10000 1979 "},{"$f":"Table3[[#This Row],[Column26]]","v":"Project Manager"},"Project Manager","Epic Systems","NA","N"]
[null,"Greenway Health","HealthTech","Electronic health record, practice management and revenue cycle management solutions for the healthcare industry.","Florida; Georgia","https://www.greenwayhealth.com/careers",1300,1989,{"$f":"_xlfn.CONCAT(Table3[[#This Row],[Company]:[Year Founded]]&\" \")","v":"Greenway Health HealthTech Electronic health record, practice management and revenue cycle management solutions for the healthcare industry. Florida; Georgia https://www.greenwayhealth.com/careers 1300 1989 "},{"$f":"Table3[[#This Row],[Column26]]","v":"Digital Marketing Manager "},"Digital Marketing Manager ","Greenway Health","Y","Y","https://www.indeed.com/jobs?q=Greenway%20Health&explvl=senior_level&vjk=f27b7cebeb801e97"]
[null,"HEALTH[at]SCALE Technologies","HealthTech","AI healthcare application to match treatments to patients' needs","California","https://apply.workable.com/healthatscale/",14,2015,{"$f":"_xlfn.CONCAT(Table3[[#This Row],[Company]:[Year Founded]]&\" \")","v":"HEALTH[at]SCALE Technologies HealthTech AI healthcare application to match treatments to patients' needs California https://apply.workable.com/healthatscale/ 14 2015 "},{"$f":"Table3[[#This Row],[Column26]]","v":"NA"},"NA","HEALTH[at]SCALE Technologies","NA","N"]
[null,"HealthStream","Healthtech","\nHealthStream (NASDAQ: HSTM) is dedicated to improving patient outcomes through the development of healthcare organizations'​ greatest asset: their people.","Tennessee; Maryland","https://www.healthstream.com/careers/careers-at-healthstream",757,1990,{"$f":"_xlfn.CONCAT(Table3[[#This Row],[Company]:[Year Founded]]&\" \")","v":"HealthStream Healthtech \nHealthStream (NASDAQ: HSTM) is dedicated to improving patient outcomes through the development of healthcare organizations'​ greatest asset: their people. Tennessee; Maryland https://www.healthstream.com/careers/careers-at-healthstream 757 1990 "},{"$f":"Table3[[#This Row],[Column26]]","v":"Product Manager"},"Product Manager","HealthStream","NA","Y","https://www.indeed.com/jobs?q=HealthStream&l=United%20States&vjk=14e026ffd1182c30"]
[null,"League","Healthtech","All-in-one health benefits digital platform","Toronto; Illinois","https://league.com/ca/careers-at-league/jobs/",250,2014,{"$f":"_xlfn.CONCAT(Table3[[#This Row],[Company]:[Year Founded]]&\" \")","v":"League Healthtech All-in-one health benefits digital platform Toronto; Illinois https://league.com/ca/careers-at-league/jobs/ 250 2014 "},{"$f":"Table3[[#This Row],[Column26]]","v":"Application Product Manager (Sr) – Remote"},"Application Product Manager (Sr) – Remote","League","NA","N"]
[null,"Maven Clinic","Healthtech","Digital healthcare platform for employers to support employee health and wellness","New York","https://www.mavenclinic.com/",250,2014,{"$f":"_xlfn.CONCAT(Table3[[#This Row],[Company]:[Year Founded]]&\" \")","v":"Maven Clinic Healthtech Digital healthcare platform for employers to support employee health and wellness New York https://www.mavenclinic.com/ 250 2014 "},{"$f":"Table3[[#This Row],[Column26]]","v":"Director, Client Success - Payers"},"Director, Client Success - Payers","Maven Clinic","NA","Y","https://www.indeed.com/jobs?q=Maven%20Clinic&l=United%20States&vjk=6807ffc977262a18"]
[null,"Medtouch","HealthTech","Search engine marketing, digital campaigns and content writing for the healthcare sector.","Massachusetts; Iowa","https://www.medtouch.com/careers#open-positions",101,2004,{"$f":"_xlfn.CONCAT(Table3[[#This Row],[Company]:[Year Founded]]&\" \")","v":"Medtouch HealthTech Search engine marketing, digital campaigns and content writing for the healthcare sector. Massachusetts; Iowa https://www.medtouch.com/careers#open-positions 101 2004 "},{"$f":"Table3[[#This Row],[Column26]]","v":"Client Strategist"},"Client Strategist","Medtouch","NA","N"]
[null,"Noom","HealthTech","Mobile-based healthcare application for weight loss management and dieting programs for individuals.","New York","https://www.noom.com/careers/jobs",1800,2006,{"$f":"_xlfn.CONCAT(Table3[[#This Row],[Company]:[Year Founded]]&\" \")","v":"Noom HealthTech Mobile-based healthcare application for weight loss management and dieting programs for individuals. New York https://www.noom.com/careers/jobs 1800 2006 "},{"$f":"Table3[[#This Row],[Column26]]","v":"Senior Manager, Growth"},"Senior Manager, Growth","Noom","NA","N"]
[null,"Olive","HealthTech","AI and robotic process automation for healthcare sector.","Ohio","https://oliveai.com/careers/",279,2012,{"$f":"_xlfn.CONCAT(Table3[[#This Row],[Company]:[Year Founded]]&\" \")","v":"Olive HealthTech AI and robotic process automation for healthcare sector. Ohio https://oliveai.com/careers/ 279 2012 "},{"$f":"Table3[[#This Row],[Column26]]","v":"Executive Director - Payer Market (Remote)"},"Executive Director - Payer Market (Remote)","Olive","Y","N"]
[null,"Omnicell, Inc","HealthTech","Automation and analytics software for the healthcare industry","California; Pennsylvania; North Carolina; Florida; Illinois","https://chp.tbe.taleo.net/chp03/ats/careers/v2/searchResults?org=OMNICELL&cws=40",2400,1992,{"$f":"_xlfn.CONCAT(Table3[[#This Row],[Company]:[Year Founded]]&\" \")","v":"Omnicell, Inc HealthTech Automation and analytics software for the healthcare industry California; Pennsylvania; North Carolina; Florida; Illinois https://chp.tbe.taleo.net/chp03/ats/careers/v2/searchResults?org=OMNICELL&cws=40 2400 1992 "},{"$f":"Table3[[#This Row],[Column26]]","v":"Sr. Director, Transformation"},"Sr. Director, Transformation","Omnicell, Inc","NA","N"]
[null,"Peloton","Healthtech","Exercise equipment that includes screens that allow users to access live & on-demand fitness classes while exercising.","New York","https://www.onepeloton.com/careers/field-operations",2300,2012,{"$f":"_xlfn.CONCAT(Table3[[#This Row],[Company]:[Year Founded]]&\" \")","v":"Peloton Healthtech Exercise equipment that includes screens that allow users to access live & on-demand fitness classes while exercising. New York https://www.onepeloton.com/careers/field-operations 2300 2012 "},{"$f":"Table3[[#This Row],[Column26]]","v":"NA"},"NA","Peloton","NA","Y","https://www.indeed.com/jobs?q=Peloton&l=United%20States&start=20&vjk=c7fd40af9309619a"]
[null,"RApidSOS","Healthtech","RapidSOS is an advanced emergency technology company that develops and provides solutions to predict and preempt emergencies before they occur.","New York","https://rapidsos.wd1.myworkdayjobs.com/RapidSOS",196,2013,{"$f":"_xlfn.CONCAT(Table3[[#This Row],[Company]:[Year Founded]]&\" \")","v":"RApidSOS Healthtech RapidSOS is an advanced emergency technology company that develops and provides solutions to predict and preempt emergencies before they occur. New York https://rapidsos.wd1.myworkdayjobs.com/RapidSOS 196 2013 "},{"$f":"Table3[[#This Row],[Column26]]","v":"Senior Product Operations Manager"},"Senior Product Operations Manager","RapidSoS"]
[null,"Relatient","HealthTech","SaaS-based patient engagement and health management for the healthcare industry.","Tennessee","https://www2.relatient.net/careers/",116,2012,{"$f":"_xlfn.CONCAT(Table3[[#This Row],[Company]:[Year Founded]]&\" \")","v":"Relatient HealthTech SaaS-based patient engagement and health management for the healthcare industry. Tennessee https://www2.relatient.net/careers/ 116 2012 "},{"$f":"Table3[[#This Row],[Column26]]","v":"Marketing Communications Manager"},"Marketing Communications Manager","Relatient","Y","Y","https://www.indeed.com/jobs?q=Relatient&l=United%20States&vjk=c7497877b954e678"]
[null,"Sapphire Digital","Healthtech","Consumer engagement platform for patients to find healthcare and book appointments online","New Jersey; New York; Remote","https://careers.sapphire-digital.com/jobs",192,2019,{"$f":"_xlfn.CONCAT(Table3[[#This Row],[Company]:[Year Founded]]&\" \")","v":"Sapphire Digital Healthtech Consumer engagement platform for patients to find healthcare and book appointments online New Jersey; New York; Remote https://careers.sapphire-digital.com/jobs 192 2019 "},{"$f":"Table3[[#This Row],[Column26]]","v":"Strategic Account Manager, Payments"},"Strategic Account Manager, Payments","Sapphire Digital","NA","N"]
[null,"Sharecare","HealthTech","Digital health and wellness","Georgia","https://recruiting.adp.com/srccar/public/RTI.home?c=2176007&d=ExternalCareerSite",3200,2009,{"$f":"_xlfn.CONCAT(Table3[[#This Row],[Company]:[Year Founded]]&\" \")","v":"Sharecare HealthTech Digital health and wellness Georgia https://recruiting.adp.com/srccar/public/RTI.home?c=2176007&d=ExternalCareerSite 3200 2009 "},{"$f":"Table3[[#This Row],[Column26]]","v":"VP, Enterprise Sales - Remote"},"VP, Enterprise Sales - Remote","Sharecare","Y","Y","https://www.indeed.com/jobs?q=Sharecare&l=United%20States&explvl=senior_level&vjk=dd38752f8e02c123"]
[null,"SOLV","HealthTech","Healthcare search and booking platform","California","https://www.solvhealth.com/careers",55,2016,{"$f":"_xlfn.CONCAT(Table3[[#This Row],[Company]:[Year Founded]]&\" \")","v":"SOLV HealthTech Healthcare search and booking platform California https://www.solvhealth.com/careers 55 2016 "},{"$f":"Table3[[#This Row],[Column26]]","v":"Principal Product Manager, Consumer"},"Principal Product Manager, Consumer","SOLV","NA","N"]
[null,"Springbuk","HealthTech","Data warehousing, reporting and analytics for healthcare sector","Indiana","https://www.springbuk.com/company/careers",109,2015,{"$f":"_xlfn.CONCAT(Table3[[#This Row],[Company]:[Year Founded]]&\" \")","v":"Springbuk HealthTech Data warehousing, reporting and analytics for healthcare sector Indiana https://www.springbuk.com/company/careers 109 2015 "},{"$f":"Table3[[#This Row],[Column26]]","v":"Account Executive, Enterprise"},"Account Executive, Enterprise","Springbuk","NA","N"]
[null,"Vicarious Surgical","Healthtech","VR-based image visualization and surgery guidance products for the healthcare sector.","Massachusetts","https://www.vicarioussurgical.com/open-positions",50,2014,{"$f":"_xlfn.CONCAT(Table3[[#This Row],[Company]:[Year Founded]]&\" \")","v":"Vicarious Surgical Healthtech VR-based image visualization and surgery guidance products for the healthcare sector. Massachusetts https://www.vicarioussurgical.com/open-positions 50 2014 "},{"$f":"Table3[[#This Row],[Column26]]","v":"Senior Manager of Downstream Marketing"},"Senior Manager of Downstream Marketing","Vicarious Surgical","NA","Y","https://www.indeed.com/jobs?q=Vicarious%20Surgical&l=United%20States&vjk=83aac7f25f3bdbe0"]
[null,"Welltok","HealthTech","Digital health and wellness care programs for corporate employees","Colorado; Massachusetts; New Jersey; California; Georgia","https://welltok.applytojob.com/apply/YlytP5CCPg/Regional-Vice-President-Sales",424,2009,{"$f":"_xlfn.CONCAT(Table3[[#This Row],[Company]:[Year Founded]]&\" \")","v":"Welltok HealthTech Digital health and wellness care programs for corporate employees Colorado; Massachusetts; New Jersey; California; Georgia https://welltok.applytojob.com/apply/YlytP5CCPg/Regional-Vice-President-Sales 424 2009 "},{"$f":"Table3[[#This Row],[Column26]]","v":"Strategic Partner Manager"},"Strategic Partner Manager","Welltok","NA","N"]
[null,"Whoop","Healthtech","WHOOP develops a coaching platform that offers biometric sleep tracking and burnout management solutions for athletes","Massachusetts","https://www.whoop.com/careers/",80,2012,{"$f":"_xlfn.CONCAT(Table3[[#This Row],[Company]:[Year Founded]]&\" \")","v":"Whoop Healthtech WHOOP develops a coaching platform that offers biometric sleep tracking and burnout management solutions for athletes Massachusetts https://www.whoop.com/careers/ 80 2012 "},{"$f":"Table3[[#This Row],[Column26]]","v":"Director of Wholesale Marketing"},"Director of Wholesale Marketing","Whoop","NA","N"]
[null,"Astrix Technology Group","HRTech","Informatics consulting and staffing for the scientific and engineering sectors.","New Jersey","https://astrixinc.com/?s=careers",500,1995,{"$f":"_xlfn.CONCAT(Table3[[#This Row],[Company]:[Year Founded]]&\" \")","v":"Astrix Technology Group HRTech Informatics consulting and staffing for the scientific and engineering sectors. New Jersey https://astrixinc.com/?s=careers 500 1995 "},{"$f":"Table3[[#This Row],[Column26]]","v":"Senior Marketing Manager"},"Senior Marketing Manager","Astrix Technology Group","NA","N"]
[null,"Businessolver","HRTech","SaaS-based platform for human resources","Iowa ; Colorado; Illinois; North Carolina; Seattle; Dallas","https://www.businessolver.com/who-we-are/careers/open-positions",800,1998,{"$f":"_xlfn.CONCAT(Table3[[#This Row],[Company]:[Year Founded]]&\" \")","v":"Businessolver HRTech SaaS-based platform for human resources Iowa ; Colorado; Illinois; North Carolina; Seattle; Dallas https://www.businessolver.com/who-we-are/careers/open-positions 800 1998 "},{"$f":"Table3[[#This Row],[Column26]]","v":"Client Operations Lead (Remote)"},"Client Operations Lead (Remote)","Businessolver","Y","Y","https://www.indeed.com/jobs?q=Businessolver&l=United%20States&vjk=a790ff0cba6d2a30"]
[null,"ClearCompany","HRTech","Online recruitment platform that provides applicant tracking, onboarding and performance management ","Massachusetts; Colorado; California","https://www.clearcompany.com/careers",172,2004,{"$f":"_xlfn.CONCAT(Table3[[#This Row],[Company]:[Year Founded]]&\" \")","v":"ClearCompany HRTech Online recruitment platform that provides applicant tracking, onboarding and performance management  Massachusetts; Colorado; California https://www.clearcompany.com/careers 172 2004 "},{"$f":"Table3[[#This Row],[Column26]]","v":"Strategic Partner Manager"},"Strategic Partner Manager","ClearCompany","Y","Y","https://www.indeed.com/jobs?q=ClearCompany&l=United%20States&vjk=093a519ae26f6c1d"]
[null,"Dynamic Signal","HRTech","Online platform for employee communication and advocacy","California; Illinois; New York","https://dynamicsignal.com/job-listings/",281,2010,{"$f":"_xlfn.CONCAT(Table3[[#This Row],[Company]:[Year Founded]]&\" \")","v":"Dynamic Signal HRTech Online platform for employee communication and advocacy California; Illinois; New York https://dynamicsignal.com/job-listings/ 281 2010 "},{"$f":"Table3[[#This Row],[Column26]]","v":"Demand Gen Manager"},"Demand Gen Manager","Dynamic Signal","NA","N"]
[null,"Hireology","HRTech","Web-based platform for hiring and talent management ","Illinois","https://hireology.com/careers/",200,2010,{"$f":"_xlfn.CONCAT(Table3[[#This Row],[Company]:[Year Founded]]&\" \")","v":"Hireology HRTech Web-based platform for hiring and talent management  Illinois https://hireology.com/careers/ 200 2010 "},{"$f":"Table3[[#This Row],[Column26]]","v":"Strategic Account Executive"},"Strategic Account Executive","Hireology","NA","Y"]
[null,"Lever","HRTech","Lever builds modern recruiting software for teams to source, interview, and hire top talent.","California; Toronto","Lever builds modern recruiting software for teams to source, interview, and hire top talent.",280,2012,{"$f":"_xlfn.CONCAT(Table3[[#This Row],[Company]:[Year Founded]]&\" \")","v":"Lever HRTech Lever builds modern recruiting software for teams to source, interview, and hire top talent. California; Toronto Lever builds modern recruiting software for teams to source, interview, and hire top talent. 280 2012 "},{"$f":"Table3[[#This Row],[Column26]]","v":"Senior Project Marketing Manager"},"Senior Project Marketing Manager","Lever"]
[null,"Papayaglobal","HRTech"," SaaS-based platform for payroll and workforce management ","New York","https://papayaglobal.com/careers/",150,2016,{"$f":"_xlfn.CONCAT(Table3[[#This Row],[Company]:[Year Founded]]&\" \")","v":"Papayaglobal HRTech  SaaS-based platform for payroll and workforce management  New York https://papayaglobal.com/careers/ 150 2016 "},{"$f":"Table3[[#This Row],[Column26]]","v":"Customer Success Operations Manager"},"Customer Success Operations Manager","Papayaglobal","Y","Y","https://www.indeed.com/jobs?q=Papaya%20global&l=United%20States&vjk=13dfbe2660b9297b"]
[null,"Paychex","HRTech","Paychex is a company providing human capital management solutions for payroll, benefits, human resources, and insurance services.","New York; New Mexico; Pennsylvania; Wisconsin; Georgia; Maine; Massachusetts; Texas; California; Louisiana; Oregon; New Hampshire; Maryland; Alabama; North Carolina; Virginia; Missouri Illinois; Colorado; Florida; Ohio; Minnesota; Rhode Island; New Jersey; Michigan; South Carolina; Indiana; Nevada; Kansas; Maine; Arizona; Kentucky; Wisconsin; Tennessee; Delaware; Connecticut; Nebraska; Washington; Utah; Oklahoma; ","https://paychex.recsolu.com/job_boards/bMMxAXjFgvU0PrJcH0lNgw",15600,1971,{"$f":"_xlfn.CONCAT(Table3[[#This Row],[Company]:[Year Founded]]&\" \")","v":"Paychex HRTech Paychex is a company providing human capital management solutions for payroll, benefits, human resources, and insurance services. New York; New Mexico; Pennsylvania; Wisconsin; Georgia; Maine; Massachusetts; Texas; California; Louisiana; Oregon; New Hampshire; Maryland; Alabama; North Carolina; Virginia; Missouri Illinois; Colorado; Florida; Ohio; Minnesota; Rhode Island; New Jersey; Michigan; South Carolina; Indiana; Nevada; Kansas; Maine; Arizona; Kentucky; Wisconsin; Tennessee; Delaware; Connecticut; Nebraska; Washington; Utah; Oklahoma;  https://paychex.recsolu.com/job_boards/bMMxAXjFgvU0PrJcH0lNgw 15600 1971 "},{"$f":"Table3[[#This Row],[Column26]]","v":"NA"},"NA","Paychex","NA","N"]
[null,"Paycom","HRTech","Online payroll and human resources platform.","Oklahoma","https://paycomcareers.com/",3000,1998,{"$f":"_xlfn.CONCAT(Table3[[#This Row],[Company]:[Year Founded]]&\" \")","v":"Paycom HRTech Online payroll and human resources platform. Oklahoma https://paycomcareers.com/ 3000 1998 "},{"$f":"Table3[[#This Row],[Column26]]","v":"Transition Project Manager"},"Transition Project Manager","Paycom","NA","Y"]
[null,"Salary.com","HRTech","On-demand compensation and talent management software products ","Massachusetts; Kansas","https://www.salary.com/about-us/careers/",232,1999,{"$f":"_xlfn.CONCAT(Table3[[#This Row],[Company]:[Year Founded]]&\" \")","v":"Salary.com HRTech On-demand compensation and talent management software products  Massachusetts; Kansas https://www.salary.com/about-us/careers/ 232 1999 "},{"$f":"Table3[[#This Row],[Column26]]","v":"Customer Success Management"},"Customer Success Management","Salary.com","NA","N"]
[null,"SilkRoad","HRTech","Talent management software that offers recruiting, onboarding, performance and learning management","Illinois; Georgia; Massachusetts; South Carolina; Texas; Colorado; Florida; Minneapolis; New York; California; Washington; North Carolina; Edmonton","https://silkroadtechnology.com/careers/open-positions/",339,2002,{"$f":"_xlfn.CONCAT(Table3[[#This Row],[Company]:[Year Founded]]&\" \")","v":"SilkRoad HRTech Talent management software that offers recruiting, onboarding, performance and learning management Illinois; Georgia; Massachusetts; South Carolina; Texas; Colorado; Florida; Minneapolis; New York; California; Washington; North Carolina; Edmonton https://silkroadtechnology.com/careers/open-positions/ 339 2002 "},{"$f":"Table3[[#This Row],[Column26]]","v":"Director, Client Success"},"Director, Client Success","SilkRoad","NA","Y","https://www.indeed.com/jobs?q=SilkRoad&l=United%20States&vjk=9463e97cc711d632"]
[null,"Textio","HRTech","Augmented writing platformto analyze and optimize job posting texts ","Washington","https://www.textio.com/careers/job/?id=4125670003",100,2014,{"$f":"_xlfn.CONCAT(Table3[[#This Row],[Company]:[Year Founded]]&\" \")","v":"Textio HRTech Augmented writing platformto analyze and optimize job posting texts  Washington https://www.textio.com/careers/job/?id=4125670003 100 2014 "},{"$f":"Table3[[#This Row],[Column26]]","v":"Manager of Customer Success"},"Manager of Customer Success","Textio","NA","Y","https://www.indeed.com/jobs?q=Textio&l=United%20States&vjk=fefffe3e133364f3"]
[null,"Upwork","HRTech","Platform for freelancers  to connect and conduct business.","California; Illinois","https://careers.upwork.com/jobs/search",430,2003,{"$f":"_xlfn.CONCAT(Table3[[#This Row],[Company]:[Year Founded]]&\" \")","v":"Upwork HRTech Platform for freelancers  to connect and conduct business. California; Illinois https://careers.upwork.com/jobs/search 430 2003 "},{"$f":"Table3[[#This Row],[Column26]]","v":"Manager, Product Analytics"},"Manager, Product Analytics","Upwork","Y","N"]
[null,"Visier","HRTech","Workforce analytics platform, serving 5,000 customers in 75 countries","Vancouver; Nevada; Illinois; New York; California","https://www.visier.com/company/careers/jobs/",450,2010,{"$f":"_xlfn.CONCAT(Table3[[#This Row],[Company]:[Year Founded]]&\" \")","v":"Visier HRTech Workforce analytics platform, serving 5,000 customers in 75 countries Vancouver; Nevada; Illinois; New York; California https://www.visier.com/company/careers/jobs/ 450 2010 "},{"$f":"Table3[[#This Row],[Column26]]","v":"Customer Success Manager"},"Customer Success Manager","Visier","NA","N"]
[null,"Formlabs","Infotech - Hardware","SLA and SLS 3D printers","Massachusetts; North Carolina; Ohio","https://careers.formlabs.com/all-open-roles/",600,2011,{"$f":"_xlfn.CONCAT(Table3[[#This Row],[Company]:[Year Founded]]&\" \")","v":"Formlabs Infotech - Hardware SLA and SLS 3D printers Massachusetts; North Carolina; Ohio https://careers.formlabs.com/all-open-roles/ 600 2011 "},{"$f":"Table3[[#This Row],[Column26]]","v":"Demand Generation Manager"},"Demand Generation Manager","Formlabs","NA","N"]
[null,"FourKites","InfoTech - Hardware","Using predictive analytics and GPS-connected devices, FourKites provides a real-time tracking platform that enables freight brokers, shippers and and third-party logistics to track and manage their freight ","Illinois","https://www.fourkites.com/careers/chicago/",500,2014,{"$f":"_xlfn.CONCAT(Table3[[#This Row],[Company]:[Year Founded]]&\" \")","v":"FourKites InfoTech - Hardware Using predictive analytics and GPS-connected devices, FourKites provides a real-time tracking platform that enables freight brokers, shippers and and third-party logistics to track and manage their freight  Illinois https://www.fourkites.com/careers/chicago/ 500 2014 "},{"$f":"Table3[[#This Row],[Column26]]","v":"Dynamic Yard Implementation Manager"},"Dynamic Yard Implementation Manager","FourKites","Y","N"]
[null,"HP","InfoTech - Hardware","Top MBA recruiter; IT infrastructure, hardware and storage solutions.","California; Texas; Mississauga","https://www.hpe.com/us/en/about/jobs.html",55000,1939,{"$f":"_xlfn.CONCAT(Table3[[#This Row],[Company]:[Year Founded]]&\" \")","v":"HP InfoTech - Hardware Top MBA recruiter; IT infrastructure, hardware and storage solutions. California; Texas; Mississauga https://www.hpe.com/us/en/about/jobs.html 55000 1939 "},{"$f":"Table3[[#This Row],[Column26]]","v":"Technical Marketing Manager"},"Technical Marketing Manager","HP","Y","Y","https://www.indeed.com/jobs?q=HP&l&vjk=b5371fa73c825fa7"]
[null,"Intel","InfoTech - Hardware","Top MBA recruiter: Computer hardware, middleware and software, offers infrastructure, hosting and consulting services.","California; Pennsylvania; Oregon; Georgia; Texas; Washington; Minnesota; Colorado; California; North Carolina; Arizona; Florida; Maryland; Virginia; New Jersey; Massachusetts; New Hampshire; Michigan; New Mexico; illinois; Connecticut; Brossard; Ottawa; Toronto; Vancouver","https://jobs.intel.com/",107000,1968,{"$f":"_xlfn.CONCAT(Table3[[#This Row],[Company]:[Year Founded]]&\" \")","v":"Intel InfoTech - Hardware Top MBA recruiter: Computer hardware, middleware and software, offers infrastructure, hosting and consulting services. California; Pennsylvania; Oregon; Georgia; Texas; Washington; Minnesota; Colorado; California; North Carolina; Arizona; Florida; Maryland; Virginia; New Jersey; Massachusetts; New Hampshire; Michigan; New Mexico; illinois; Connecticut; Brossard; Ottawa; Toronto; Vancouver https://jobs.intel.com/ 107000 1968 "},{"$f":"Table3[[#This Row],[Column26]]","v":"Project Manager"},"Project Manager","Intel","Y","Y","https://www.indeed.com/jobs?q=Intel&l&vjk=14c32c23236c83a4"]
[null,"Magic Leap","Infotech - Hardware","Designs and develops head-mountable mixed reality retinal glasses.","Plantation, Florida","https://www.magicleap.com/en-us/careers",1400,2010,{"$f":"_xlfn.CONCAT(Table3[[#This Row],[Company]:[Year Founded]]&\" \")","v":"Magic Leap Infotech - Hardware Designs and develops head-mountable mixed reality retinal glasses. Plantation, Florida https://www.magicleap.com/en-us/careers 1400 2010 "},{"$f":"Table3[[#This Row],[Column26]]","v":"Manager, Technical Demo Operations"},"Manager, Technical Demo Operations","Magic Leap","NA","N"]
[null,"MakerBot","InfoTech - Hardware","MakerBot is setting the standard in reliable and affordable desktop 3D printing, scanning, and entertainment.","New York","https://www.makerbot.com/careers/",250,2009,{"$f":"_xlfn.CONCAT(Table3[[#This Row],[Company]:[Year Founded]]&\" \")","v":"MakerBot InfoTech - Hardware MakerBot is setting the standard in reliable and affordable desktop 3D printing, scanning, and entertainment. New York https://www.makerbot.com/careers/ 250 2009 "},{"$f":"Table3[[#This Row],[Column26]]","v":"NA"},"NA","MakerBot","NA","N"]
[null,"Markforged","Infotech - Hardware","Metal and carbon fiber 3D printers for the industrial sector.","Massachusetts","https://markforged.com/careers/",300,2013,{"$f":"_xlfn.CONCAT(Table3[[#This Row],[Company]:[Year Founded]]&\" \")","v":"Markforged Infotech - Hardware Metal and carbon fiber 3D printers for the industrial sector. Massachusetts https://markforged.com/careers/ 300 2013 "},{"$f":"Table3[[#This Row],[Column26]]","v":"Creative Project Manager"},"Creative Project Manager","Markforged","NA","N"]
[null,"Microsoft","InfoTech - Hardware","Top MBA recruiter: Develops, manufactures, licenses, supports and sells computer software and consumer electronics. Proprietary products include Windows and XBOX","Washington; Mississauga","https://www.microsoft.com/en-us/itshowcase/careers",144000,1975,{"$f":"_xlfn.CONCAT(Table3[[#This Row],[Company]:[Year Founded]]&\" \")","v":"Microsoft InfoTech - Hardware Top MBA recruiter: Develops, manufactures, licenses, supports and sells computer software and consumer electronics. Proprietary products include Windows and XBOX Washington; Mississauga https://www.microsoft.com/en-us/itshowcase/careers 144000 1975 "},{"$f":"Table3[[#This Row],[Column26]]","v":"Director of Strategy Sales Enablement"},"Director of Strategy Sales Enablement","Microsoft","Y","Y","https://www.indeed.com/jobs?q=Microsoft&explvl=senior_level&vjk=68bde9f32e52a276"]
[null,"Ready Robotics","Infotech - Hardware","Ready Robotics is a company providing the productivity and potential of robotic manufacturing to small to medium-sized","Ohio","https://www.ready-robotics.com/about/careers",50,2016,{"$f":"_xlfn.CONCAT(Table3[[#This Row],[Company]:[Year Founded]]&\" \")","v":"Ready Robotics Infotech - Hardware Ready Robotics is a company providing the productivity and potential of robotic manufacturing to small to medium-sized Ohio https://www.ready-robotics.com/about/careers 50 2016 "},{"$f":"Table3[[#This Row],[Column26]]","v":"Enterprise Account Executive"},"Enterprise Account Executive","Ready Robotics","NA","N"]
[null,"Realwear","Infotech - Hardware","Designs and manufactures hands-free, helmet-mounted tablets for industrial workers.","Vancouver; California","https://chm.tbe.taleo.net/chm04/ats/careers/v2/searchResults?org=DDNMYB&cws=37",115,2015,{"$f":"_xlfn.CONCAT(Table3[[#This Row],[Company]:[Year Founded]]&\" \")","v":"Realwear Infotech - Hardware Designs and manufactures hands-free, helmet-mounted tablets for industrial workers. Vancouver; California https://chm.tbe.taleo.net/chm04/ats/careers/v2/searchResults?org=DDNMYB&cws=37 115 2015 "},{"$f":"Table3[[#This Row],[Column26]]","v":"NA"},"NA","Realwear","NA","N"]
[null,"Roam Robotics","Infotech - Hardware","Roam Robotics manufactures exoskeletons, a wearable device for knees.","California","https://www.roamrobotics.com/careers-openpositions",41,2014,{"$f":"_xlfn.CONCAT(Table3[[#This Row],[Company]:[Year Founded]]&\" \")","v":"Roam Robotics Infotech - Hardware Roam Robotics manufactures exoskeletons, a wearable device for knees. California https://www.roamrobotics.com/careers-openpositions 41 2014 "},{"$f":"Table3[[#This Row],[Column26]]","v":"NA"},"NA","Roam Robotics","NA","N"]
[null,"ThingMagic, a JADAK brand","Infotech - Hardware","Radio frequency identification reader engines to OEM's for medical, logistics and retail applications","Massachusetts","https://digikey.wd5.myworkdayjobs.com/Digi-Key",21,2000,{"$f":"_xlfn.CONCAT(Table3[[#This Row],[Company]:[Year Founded]]&\" \")","v":"ThingMagic, a JADAK brand Infotech - Hardware Radio frequency identification reader engines to OEM's for medical, logistics and retail applications Massachusetts https://digikey.wd5.myworkdayjobs.com/Digi-Key 21 2000 "},{"$f":"Table3[[#This Row],[Column26]]","v":"Digital Business Engagement Manager"},"Digital Business Engagement Manager","ThingMagic, a JADAK brand","NA","N"]
[null,"Tile","Infotech - Hardware","Bluetooth enabled location tracking device that measure distance and locate lost items","California; Vancouver","https://www.thetileapp.com/en-us/tile-careers",125,2012,{"$f":"_xlfn.CONCAT(Table3[[#This Row],[Company]:[Year Founded]]&\" \")","v":"Tile Infotech - Hardware Bluetooth enabled location tracking device that measure distance and locate lost items California; Vancouver https://www.thetileapp.com/en-us/tile-careers 125 2012 "},{"$f":"Table3[[#This Row],[Column26]]","v":"NA"},"NA","Tile","NA","N"]
[null,"Ubtech Robotics","Infotech - Hardware","Ubtech Robotics is a company that manufactures and sells humanoid robots.","California","https://www.ubtrobot.com/pages/about-ubtech?ls=en",480,2012,{"$f":"_xlfn.CONCAT(Table3[[#This Row],[Company]:[Year Founded]]&\" \")","v":"Ubtech Robotics Infotech - Hardware Ubtech Robotics is a company that manufactures and sells humanoid robots. California https://www.ubtrobot.com/pages/about-ubtech?ls=en 480 2012 "},{"$f":"Table3[[#This Row],[Column26]]","v":"NA"},"NA","Ubtech Robotics","NA","N"]
[null,"Western Digital","Infotech - Hardware","Computer and digital hardware","California","https://jobs.westerndigital.com/professional",61800,1970,{"$f":"_xlfn.CONCAT(Table3[[#This Row],[Company]:[Year Founded]]&\" \")","v":"Western Digital Infotech - Hardware Computer and digital hardware California https://jobs.westerndigital.com/professional 61800 1970 "},{"$f":"Table3[[#This Row],[Column26]]","v":"Account Manager, Customer Operations"},"Account Manager, Customer Operations","Western Digital","NA","N"]
[null,"Xerox","Infotech - Hardware"," Print and digital document products and services in more than 160 countries. Brought the first copier machine to market in 1959.","Norwalk, CT","https://www.xerox.com/en-us/jobs",32400,1906,{"$f":"_xlfn.CONCAT(Table3[[#This Row],[Company]:[Year Founded]]&\" \")","v":"Xerox Infotech - Hardware  Print and digital document products and services in more than 160 countries. Brought the first copier machine to market in 1959. Norwalk, CT https://www.xerox.com/en-us/jobs 32400 1906 "},{"$f":"Table3[[#This Row],[Column26]]","v":"Customer Success Manager"},"Customer Success Manager","Xerox","NA","Y","https://www.indeed.com/jobs?q=Xerox&l=United%20States&start=10&vjk=60e6fe22ec3feb9e"]
[null,"Advanced Automated Systems","InfoTech - Services","Building automation and energy management ","California","http://advancedautomated.com/careers",75,1992,{"$f":"_xlfn.CONCAT(Table3[[#This Row],[Company]:[Year Founded]]&\" \")","v":"Advanced Automated Systems InfoTech - Services Building automation and energy management  California http://advancedautomated.com/careers 75 1992 "},{"$f":"Table3[[#This Row],[Column26]]","v":"NA"},"NA","Advanced Automated Systems","NA","N"]
[null,"Alphabet Inc.","Infotech - Services","Google holding company; its entities include Google X and Google Ventures.","California","https://www.alphabet.com/en-ww/career",99000,2015,{"$f":"_xlfn.CONCAT(Table3[[#This Row],[Company]:[Year Founded]]&\" \")","v":"Alphabet Inc. Infotech - Services Google holding company; its entities include Google X and Google Ventures. California https://www.alphabet.com/en-ww/career 99000 2015 "},{"$f":"Table3[[#This Row],[Column26]]","v":"NA"},"NA","Alphabet Inc.","NA","N"]
[null,"Anaplan","Infotech - Services","Commercial planning and performance management platform.","California; Massachusetts; Illinois; New York; Minnesota","https://careers.anaplan.com/job-listing/?search=",1200,2006,{"$f":"_xlfn.CONCAT(Table3[[#This Row],[Company]:[Year Founded]]&\" \")","v":"Anaplan Infotech - Services Commercial planning and performance management platform. California; Massachusetts; Illinois; New York; Minnesota https://careers.anaplan.com/job-listing/?search= 1200 2006 "},{"$f":"Table3[[#This Row],[Column26]]","v":"Customer Success Business Partner"},"Customer Success Business Partner","Anaplan","NA","N"]
[null,"Apple","InfoTech - Services","Top MBA recruiter:  consumer electronic products and a range of related accessories, software and services.","California; Texas; Toronto","https://www.apple.com/jobs/us/",132000,1976,{"$f":"_xlfn.CONCAT(Table3[[#This Row],[Company]:[Year Founded]]&\" \")","v":"Apple InfoTech - Services Top MBA recruiter:  consumer electronic products and a range of related accessories, software and services. California; Texas; Toronto https://www.apple.com/jobs/us/ 132000 1976 "},{"$f":"Table3[[#This Row],[Column26]]","v":"Content Development Manager"},"Content Development Manager","Apple","Y","Y","https://www.indeed.com/jobs?q=Apple&l&vjk=0de8bff97a3c5a11"]
[null,"Applied Materials","Infotech - Services","Software, hardware and support services for the manufacture of semiconductor, flat panel display and solar products.","California; New York; Texas; Idaho; Michigan; Massachusetts; Oregon; Montana; Virginia; Arizona; Utah; Sunnyvale; Toronto","https://www.appliedmaterials.com/company/careers",21000,1967,{"$f":"_xlfn.CONCAT(Table3[[#This Row],[Company]:[Year Founded]]&\" \")","v":"Applied Materials Infotech - Services Software, hardware and support services for the manufacture of semiconductor, flat panel display and solar products. California; New York; Texas; Idaho; Michigan; Massachusetts; Oregon; Montana; Virginia; Arizona; Utah; Sunnyvale; Toronto https://www.appliedmaterials.com/company/careers 21000 1967 "},{"$f":"K578","v":"Director, Financial Analysis - (M6)"},"Director, Financial Analysis - (M6)","Applied Materials","Y","N"]
[null,"ATTAbotics","Infotech - Services","Order fulfillment, automated storage and retrieval systems to store, access and move warehoused goods.","Calgary","https://www.attabotics.com/",220,2015,{"$f":"_xlfn.CONCAT(Table3[[#This Row],[Company]:[Year Founded]]&\" \")","v":"ATTAbotics Infotech - Services Order fulfillment, automated storage and retrieval systems to store, access and move warehoused goods. Calgary https://www.attabotics.com/ 220 2015 "},{"$f":"K579","v":"Technical Program Manager (Software)"},"Technical Program Manager (Software)","ATTAbotics","Y","Y","https://www.indeed.com/jobs?q=ATTAbotics&l=United%20States&vjk=13d28a4477326667"]
[null,"Avanade","InfoTech - Services","Infotech for consulting and analytics, cloud, security and managed services.","Washington; Georgia; Massachusetts; North Carolina; Illinois; Colorado; California; Texas; Minnesota; New York; Arizona; California; Calgary; Edmonton; Montreal; Ottawa; Toronto; Vancouver","https://careers.avanade.com/jobsen/SearchJobs/management?3_56_3=19946&3_67_3=5060741",38000,2000,{"$f":"_xlfn.CONCAT(Table3[[#This Row],[Company]:[Year Founded]]&\" \")","v":"Avanade InfoTech - Services Infotech for consulting and analytics, cloud, security and managed services. Washington; Georgia; Massachusetts; North Carolina; Illinois; Colorado; California; Texas; Minnesota; New York; Arizona; California; Calgary; Edmonton; Montreal; Ottawa; Toronto; Vancouver https://careers.avanade.com/jobsen/SearchJobs/management?3_56_3=19946&3_67_3=5060741 38000 2000 "},"Most Valuable Partner Lead – Adobe","Most Valuable Partner Lead – Adobe","Avanade","NA","Y","https://www.indeed.com/jobs?q=Avanade&explvl=senior_level&vjk=4d02d2c52b1e7f2e"]
[null,"Axonify","InfoTech - Services","SaaS-based for learning and onboarding solutions for  retail, healthcare and hospitality industries.","Waterloo","https://axonify.com/careers/",165,2011,{"$f":"_xlfn.CONCAT(Table3[[#This Row],[Company]:[Year Founded]]&\" \")","v":"Axonify InfoTech - Services SaaS-based for learning and onboarding solutions for  retail, healthcare and hospitality industries. Waterloo https://axonify.com/careers/ 165 2011 "},"Principal Product Manager","Principal Product Manager","Axonify","NA","N"]
[null,"Boundless Immigration","Infotech - Services","At Boundless Immigration, our mission is to empower every family to navigate the immigration system more confidently, rapidly, and affordably.","Nevada; Washington","https://careers.boundless.com/careers/",101,2017,{"$f":"_xlfn.CONCAT(Table3[[#This Row],[Company]:[Year Founded]]&\" \")","v":"Boundless Immigration Infotech - Services At Boundless Immigration, our mission is to empower every family to navigate the immigration system more confidently, rapidly, and affordably. Nevada; Washington https://careers.boundless.com/careers/ 101 2017 "},"NA","NA","Boundless Immigration"]
[null,"Brillient Corporation","Infotech - Services","Big data analytics, business process management, cloud integration and IT support services","Virginia","https://www.brillient.net/join-us/job-openings/",603,2006,{"$f":"_xlfn.CONCAT(Table3[[#This Row],[Company]:[Year Founded]]&\" \")","v":"Brillient Corporation Infotech - Services Big data analytics, business process management, cloud integration and IT support services Virginia https://www.brillient.net/join-us/job-openings/ 603 2006 "},"Project Manager","Project Manager","Brillient Corporation","Y","Y","https://www.indeed.com/jobs?q=Brillient%20Corporation&l=United%20States&vjk=1d65618080afd440"]
[null,"Celestica","InfoTech - Services","Supply chain software and services","Toronto; Mississauga; Newmarket; Pennsylvania; Massachusetts; California; Oregon; Minnesota; Arizona","https://www.celestica.com/careers/working-at-celestica",26400,1994,{"$f":"_xlfn.CONCAT(Table3[[#This Row],[Company]:[Year Founded]]&\" \")","v":"Celestica InfoTech - Services Supply chain software and services Toronto; Mississauga; Newmarket; Pennsylvania; Massachusetts; California; Oregon; Minnesota; Arizona https://www.celestica.com/careers/working-at-celestica 26400 1994 "},"Customer Program Manager","Customer Program Manager","Celestica","Y","Y","https://www.indeed.com/jobs?q=Celestica&explvl=senior_level&vjk=244bc1be74a832ee"]
[null,"Ciklum","Infotech - Services","Application development, data analytics and testing services. ","New York; Texas; Oregon; California","https://jobs.ciklum.com/",3500,2002,{"$f":"_xlfn.CONCAT(Table3[[#This Row],[Company]:[Year Founded]]&\" \")","v":"Ciklum Infotech - Services Application development, data analytics and testing services.  New York; Texas; Oregon; California https://jobs.ciklum.com/ 3500 2002 "},"AVP Customer Success","AVP Customer Success","Ciklum","Y","Y","https://www.indeed.com/jobs?q=Ciklum&l=United%20States&vjk=59341e65c9254f1f"]
[null,"Cobalt","Infotech - Services","Cobalt.io PtaaS platform coupled with an exclusive community of pentesters delivers real-time insights to remediate risk quickly and innovate securely","California; Texas; Massachusetts","https://boards.greenhouse.io/cobaltio/",398,2013,{"$f":"_xlfn.CONCAT(Table3[[#This Row],[Company]:[Year Founded]]&\" \")","v":"Cobalt Infotech - Services Cobalt.io PtaaS platform coupled with an exclusive community of pentesters delivers real-time insights to remediate risk quickly and innovate securely California; Texas; Massachusetts https://boards.greenhouse.io/cobaltio/ 398 2013 "},"Sales Enablement Program Manager","Sales Enablement Program Manager","Cobalt"]
[null,"Cognizant","Infotech - Services","IT, business consulting, enterprise applications and business process services.","New Jersey","https://careers.cognizant.com/ph/en",281000,1994,{"$f":"_xlfn.CONCAT(Table3[[#This Row],[Company]:[Year Founded]]&\" \")","v":"Cognizant Infotech - Services IT, business consulting, enterprise applications and business process services. New Jersey https://careers.cognizant.com/ph/en 281000 1994 "},"Service Delivery Manager","Service Delivery Manager","Cognizant","Y","Y","https://www.indeed.com/jobs?q=Cognizant&explvl=senior_level&vjk=e3c0b125492f8386"]
[null,"Computer Sciences Corporation","Infotech - Services","IT, systems design, business process outsourcing, software and application hosting services.","Virginia","https://hczw.fa.us2.oraclecloud.com/hcmUI/CandidateExperience/en/sites/CX_1001",60000,1959,{"$f":"_xlfn.CONCAT(Table3[[#This Row],[Company]:[Year Founded]]&\" \")","v":"Computer Sciences Corporation Infotech - Services IT, systems design, business process outsourcing, software and application hosting services. Virginia https://hczw.fa.us2.oraclecloud.com/hcmUI/CandidateExperience/en/sites/CX_1001 60000 1959 "},"Client Service Partner","Client Service Partner","Computer Sciences Corporation","NA","N"]
[null,"Datadog Inc","Infotech - Services","A cloud monitoring and analytics company, beat both earnings and revenue expectations. The stock fell 1.7% on lackluster guidance.","New York; Washington; Massachusetts; California; Illinois; Colorado; Texas; Oregon","https://www.datadoghq.com/careers/",1400,2010,{"$f":"_xlfn.CONCAT(Table3[[#This Row],[Company]:[Year Founded]]&\" \")","v":"Datadog Inc Infotech - Services A cloud monitoring and analytics company, beat both earnings and revenue expectations. The stock fell 1.7% on lackluster guidance. New York; Washington; Massachusetts; California; Illinois; Colorado; Texas; Oregon https://www.datadoghq.com/careers/ 1400 2010 "},"Field Marketing Manager","Field Marketing Manager","Datadog Inc","Y","N"]
[null,"Dell Technologies","Infotech - Services","Software and hardware for consumers, non-profits, and businesses.","One Dell Way Round Rock, TX","https://jobs.dell.com/search-jobs",138000,2016,{"$f":"_xlfn.CONCAT(Table3[[#This Row],[Company]:[Year Founded]]&\" \")","v":"Dell Technologies Infotech - Services Software and hardware for consumers, non-profits, and businesses. One Dell Way Round Rock, TX https://jobs.dell.com/search-jobs 138000 2016 "},"Customer Growth Project Manager - Remote, U.S.","Customer Growth Project Manager - Remote, U.S.","Dell Technologies","Y","N"]
[null,"Devbridge","Infotech - Services","Web development and product design services.","Illinois; New York","https://www.devbridge.com/tech-jobs-chicago-london-toronto-kaunas-vilnius/#chicago",433,2008,{"$f":"_xlfn.CONCAT(Table3[[#This Row],[Company]:[Year Founded]]&\" \")","v":"Devbridge Infotech - Services Web development and product design services. Illinois; New York https://www.devbridge.com/tech-jobs-chicago-london-toronto-kaunas-vilnius/#chicago 433 2008 "},"Senior Product Manager","Senior Product Manager","Devbridge","Y","N"]
[null,"Diebold Nixdorf","Infotech - Services","Technology for cash management, store transformation, and security solutions.","Ohio; New Mexico; New York; Texas; Pennsylvania; California; Maryland; Massachusetts; Alabama; Florida; Idaho; Massachusetts; Vermont; Illinois; North Carolina; Tennessee; Colorado; South Carolina; Iowa; Michigan; Virginia; Indiana; Connecticut; Missouri; Nevada; Kentucky; Nebraska; Minnesota; Oklahoma; Washington; Kansas; Arizona; Oregon; Rhode Island; Utah; Delaware; Mississauga","https://dieboldnixdorf.recsolu.com/jobs/f6xQdlZlcMKhmHWi3ii0_w",23000,1859,{"$f":"_xlfn.CONCAT(Table3[[#This Row],[Company]:[Year Founded]]&\" \")","v":"Diebold Nixdorf Infotech - Services Technology for cash management, store transformation, and security solutions. Ohio; New Mexico; New York; Texas; Pennsylvania; California; Maryland; Massachusetts; Alabama; Florida; Idaho; Massachusetts; Vermont; Illinois; North Carolina; Tennessee; Colorado; South Carolina; Iowa; Michigan; Virginia; Indiana; Connecticut; Missouri; Nevada; Kentucky; Nebraska; Minnesota; Oklahoma; Washington; Kansas; Arizona; Oregon; Rhode Island; Utah; Delaware; Mississauga https://dieboldnixdorf.recsolu.com/jobs/f6xQdlZlcMKhmHWi3ii0_w 23000 1859 "},"Principal Solution Architect - Payments","Principal Solution Architect - Payments","Diebold Nixdorf","NA","Y","https://www.indeed.com/jobs?q=Diebold%20Nixdorf&l=United%20States&vjk=60863a3209e66222"]
[null,"Diverse Lynx","Infotech - Services","Mobile application development, web designing, consulting and quality assurance services.","New Jersey","https://www.diverselynx.com/career-with-us/",700,2002,{"$f":"_xlfn.CONCAT(Table3[[#This Row],[Company]:[Year Founded]]&\" \")","v":"Diverse Lynx Infotech - Services Mobile application development, web designing, consulting and quality assurance services. New Jersey https://www.diverselynx.com/career-with-us/ 700 2002 "},"Delivery Manager","Delivery Manager","Diverse Lynx","NA","N"]
[null,"Dooly","Infotech - Services","Dooly is a connected workspace for revenue teams.","Canada","https://jobs.lever.co/doolyresearch",99,2018,{"$f":"_xlfn.CONCAT(Table3[[#This Row],[Company]:[Year Founded]]&\" \")","v":"Dooly Infotech - Services Dooly is a connected workspace for revenue teams. Canada https://jobs.lever.co/doolyresearch 99 2018 "},"VP of Product","VP of Product","Dooly"]
[null,"Druva","InfoTech - Services","SaaS-based for data protection, information management, disaster recovery and archival solutions","California; Colorado","https://www.druva.com/about/careers/",800,2008,{"$f":"_xlfn.CONCAT(Table3[[#This Row],[Company]:[Year Founded]]&\" \")","v":"Druva InfoTech - Services SaaS-based for data protection, information management, disaster recovery and archival solutions California; Colorado https://www.druva.com/about/careers/ 800 2008 "},"Customer Success Manager","Customer Success Manager","Druva","Y","Y","https://www.indeed.com/jobs?q=Druva&l=United%20States&vjk=de3c2ffa34a2c5ae"]
[null,"DXC Technology","Infotech - Services","IT for business consulting, infrastructure management, application, cloud, and security service.","Virginia","https://jobs.dxc.technology/ListJobs/keyword/manager",130000,2017,{"$f":"_xlfn.CONCAT(Table3[[#This Row],[Company]:[Year Founded]]&\" \")","v":"DXC Technology Infotech - Services IT for business consulting, infrastructure management, application, cloud, and security service. Virginia https://jobs.dxc.technology/ListJobs/keyword/manager 130000 2017 "},"Marketing and Communications Lead","Marketing and Communications Lead","DXC Technology","Y","N"]
[null,"Eagleview","Infotech - Services","Aerial imagery company that sells images, data analytics, and geographic information systems to the commercial, government and public utility sectors.","Washington; New York","https://www.eagleview.com/careers/job-postings/",850,2008,{"$f":"_xlfn.CONCAT(Table3[[#This Row],[Company]:[Year Founded]]&\" \")","v":"Eagleview Infotech - Services Aerial imagery company that sells images, data analytics, and geographic information systems to the commercial, government and public utility sectors. Washington; New York https://www.eagleview.com/careers/job-postings/ 850 2008 "},"Senior Content Strategist","Senior Content Strategist","Eagleview","NA","Y","https://www.indeed.com/jobs?q=Eagleview&l=United%20States&vjk=21d51bfab04b265b"]
[null,"Electric AI, Inc.","Infotech - Services","IT support, systems administration, on-site assistance and device management ","New York","https://www.electric.ai/company/careers",275,2016,{"$f":"_xlfn.CONCAT(Table3[[#This Row],[Company]:[Year Founded]]&\" \")","v":"Electric AI, Inc. Infotech - Services IT support, systems administration, on-site assistance and device management  New York https://www.electric.ai/company/careers 275 2016 "},"Email Marketing Manager","Email Marketing Manager","Electric AI, Inc.","Y","Y","https://www.indeed.com/jobs?q=Electric%20AI&l=United%20States&vjk=224be1a10dde1dde"]
[null,"ELEKS Software","InfoTech - Services","An international company that provides custom software engineering and consulting services.","Illinois; Nevada; Ontario","https://careers.eleks.com/",1400,1991,{"$f":"_xlfn.CONCAT(Table3[[#This Row],[Company]:[Year Founded]]&\" \")","v":"ELEKS Software InfoTech - Services An international company that provides custom software engineering and consulting services. Illinois; Nevada; Ontario https://careers.eleks.com/ 1400 1991 "},"NA","NA","ELEKS Software","NA","N"]
[null,"EPAM","Infotech - Services","Software engineering, product design, and Infotech consulting services across a range of industries to help business undergo digital transformation.","Pennsylvania","https://www.epam.com/careers",30000,1993,{"$f":"_xlfn.CONCAT(Table3[[#This Row],[Company]:[Year Founded]]&\" \")","v":"EPAM Infotech - Services Software engineering, product design, and Infotech consulting services across a range of industries to help business undergo digital transformation. Pennsylvania https://www.epam.com/careers 30000 1993 "},"Account Management Director for Healthcare and Life Sciences","Account Management Director for Healthcare and Life Sciences","EPAM","Y","N"]
[null,"Fincons Group","Infotech - Services","IT services for clients in various sectors, including government, media, financial services, energy and utilities, manufacturing, and transportation. ","New York; California","https://www.finconsgroup.com/culture-and-careers/job-offers/apply.kl",1000,1983,{"$f":"_xlfn.CONCAT(Table3[[#This Row],[Company]:[Year Founded]]&\" \")","v":"Fincons Group Infotech - Services IT services for clients in various sectors, including government, media, financial services, energy and utilities, manufacturing, and transportation.  New York; California https://www.finconsgroup.com/culture-and-careers/job-offers/apply.kl 1000 1983 "},"NA","NA","Fincons Group","NA","N"]
[null,"Formstack","InfoTech - Services","Data management platform that lets businesses and individuals collect information through custom digital forms, including surveys, job applications, and payment forms.","Indiana; Remote; Massachusetts","https://www.formstack.com/careers",210,2006,{"$f":"_xlfn.CONCAT(Table3[[#This Row],[Company]:[Year Founded]]&\" \")","v":"Formstack InfoTech - Services Data management platform that lets businesses and individuals collect information through custom digital forms, including surveys, job applications, and payment forms. Indiana; Remote; Massachusetts https://www.formstack.com/careers 210 2006 "},"Customer Success Manager","Customer Success Manager","Formstack","Y","Y","https://www.indeed.com/jobs?q=Formstack&l=United%20States&vjk=4ac74e66cf3a3835"]
[null,"Google","InfoTech - Services","Top MBA recruiter: Internet-related services","California; Michigan; Georgia; Texas; Colorado; Massachusetts; North Carolina; Illinois; Michigan; Washington; Wisconsin; Florida; New York; Pennsylvania; Oregon; Virginia; Kitchener; Montreal; Toronto ","https://careers.google.com/?src=Online/LinkedIn/linkedin_profilepage&utm_source=linkedin&utm_medium=profilepage&utm_campaign=profilepage",127000,1998,{"$f":"_xlfn.CONCAT(Table3[[#This Row],[Company]:[Year Founded]]&\" \")","v":"Google InfoTech - Services Top MBA recruiter: Internet-related services California; Michigan; Georgia; Texas; Colorado; Massachusetts; North Carolina; Illinois; Michigan; Washington; Wisconsin; Florida; New York; Pennsylvania; Oregon; Virginia; Kitchener; Montreal; Toronto  https://careers.google.com/?src=Online/LinkedIn/linkedin_profilepage&utm_source=linkedin&utm_medium=profilepage&utm_campaign=profilepage 127000 1998 "},"Strategic Development Partner Manager, Fitbit","Strategic Development Partner Manager, Fitbit","Google","Y","Y","https://www.indeed.com/jobs?q=Google&explvl=senior_level&start=40&vjk=64ceef2513c598f6"]
[null,"HashCash Consultants","Infotech - Services","Blockchain and IT services ","California","https://www.hashcashconsultants.com/opportunities",40,2015,{"$f":"_xlfn.CONCAT(Table3[[#This Row],[Company]:[Year Founded]]&\" \")","v":"HashCash Consultants Infotech - Services Blockchain and IT services  California https://www.hashcashconsultants.com/opportunities 40 2015 "},"V.P. Business Development (Banking Products)","V.P. Business Development (Banking Products)","HashCash Consultants","NA","N"]
[null,"Honeywell","Infotech - Services","Software, electronics, control systems and security solutions for a range of industries, including aerospace, energy, and consumer electronics.","Norcross, Georgia; Fort Mill, South Carolina;\nSkaneateles Falls, New York\nMount Laurel, New Jersey; Pittsburgh, Pennsylvania; Seattle, Washington\n","https://careers.honeywell.com/us/en/",114000,1906,{"$f":"_xlfn.CONCAT(Table3[[#This Row],[Company]:[Year Founded]]&\" \")","v":"Honeywell Infotech - Services Software, electronics, control systems and security solutions for a range of industries, including aerospace, energy, and consumer electronics. Norcross, Georgia; Fort Mill, South Carolina;\nSkaneateles Falls, New York\nMount Laurel, New Jersey; Pittsburgh, Pennsylvania; Seattle, Washington\n https://careers.honeywell.com/us/en/ 114000 1906 "},"Project Manager","Project Manager","Honeywell","Y","Y","https://www.indeed.com/jobs?q=Honeywell&explvl=senior_level&vjk=838b16b26a575139"]
[null,"IBM","InfoTech - Services","Top MBA recruiter: computer hardware, middleware and software, offers infrastructure, hosting and consulting services.","New York; Illinois; Texas; North Carolina; Alabama; Minnesota; California; Georgia; Connecticut; Washington DC; Markham\n","https://www.ibm.com/employment/",350000,1911,{"$f":"_xlfn.CONCAT(Table3[[#This Row],[Company]:[Year Founded]]&\" \")","v":"IBM InfoTech - Services Top MBA recruiter: computer hardware, middleware and software, offers infrastructure, hosting and consulting services. New York; Illinois; Texas; North Carolina; Alabama; Minnesota; California; Georgia; Connecticut; Washington DC; Markham\n https://www.ibm.com/employment/ 350000 1911 "},"Insurance Accounting/GL Lead","Insurance Accounting/GL Lead","IBM","Y","Y","https://www.indeed.com/jobs?q=IBM&l&vjk=afd4b54b73963be7"]
[null,"IDEO.org","Infotech - Services","Non-profit organization that shares software, design products, and services  to improve the lives of people in poor and vulnerable communities.","California; New York","https://www.ideo.com/jobs",45,2011,{"$f":"_xlfn.CONCAT(Table3[[#This Row],[Company]:[Year Founded]]&\" \")","v":"IDEO.org Infotech - Services Non-profit organization that shares software, design products, and services  to improve the lives of people in poor and vulnerable communities. California; New York https://www.ideo.com/jobs 45 2011 "},"Head of Marketing","Head of Marketing","IDEO.org","NA","N"]
[null,"Infosys","Infotech - Services","Business consulting, application development, engineering, testing and outsourcing services. Its proprietary product Finacle is widely used by banks in over 100 countries.","Rockville, Maryland","https://www.infosys.com/careers.html",239000,1981,{"$f":"_xlfn.CONCAT(Table3[[#This Row],[Company]:[Year Founded]]&\" \")","v":"Infosys Infotech - Services Business consulting, application development, engineering, testing and outsourcing services. Its proprietary product Finacle is widely used by banks in over 100 countries. Rockville, Maryland https://www.infosys.com/careers.html 239000 1981 "},"Associate Client Partner, Financial Services","Associate Client Partner, Financial Services","Infosys","Y","Y","https://www.indeed.com/jobs?q=Infosys&explvl=senior_level&start=10&vjk=0443e22527ea7aed"]
[null,"Jabil Circuit","Infotech - Services","Electronics manufacturing services and support services, serving various industries, including telecommunications, energy and aerospace.","St. Petersburg, Florida","https://careers.jabil.com/en/",200000,1966,{"$f":"_xlfn.CONCAT(Table3[[#This Row],[Company]:[Year Founded]]&\" \")","v":"Jabil Circuit Infotech - Services Electronics manufacturing services and support services, serving various industries, including telecommunications, energy and aerospace. St. Petersburg, Florida https://careers.jabil.com/en/ 200000 1966 "},"Operations Manager","Operations Manager","Jabil Circuit","Y","N"]
[null,"Lambda Labs, Inc.","Infotech - Services","A company providing computation solutions.","California","https://lambdalabs.com/careers",80,2012,{"$f":"_xlfn.CONCAT(Table3[[#This Row],[Company]:[Year Founded]]&\" \")","v":"Lambda Labs, Inc. Infotech - Services A company providing computation solutions. California https://lambdalabs.com/careers 80 2012 "},"Product Marketing Manager - Hardware","Product Marketing Manager - Hardware","Lambda Labs, Inc.","Y","Y","https://www.indeed.com/jobs?q=Lambda+Labs%2C+Inc.&explvl=senior_level&start=40"]
[null,"LatentView","Infotech - Services","Data engineering for marketing, supply chain and business analytics ","New Jersey","https://www.latentview.com/careers/director/",645,2006,{"$f":"_xlfn.CONCAT(Table3[[#This Row],[Company]:[Year Founded]]&\" \")","v":"LatentView Infotech - Services Data engineering for marketing, supply chain and business analytics  New Jersey https://www.latentview.com/careers/director/ 645 2006 "},"NA","NA","LatentView","NA","N"]
[null,"Leanplum","InfoTech - Services","digital marketing platform for consumer brands that uses customer data and A/B testing to optimize marketing campaigns across mobile, web, and email channels.","California; Colorado","https://jobs.lever.co/clevertap",130,2012,{"$f":"_xlfn.CONCAT(Table3[[#This Row],[Company]:[Year Founded]]&\" \")","v":"Leanplum InfoTech - Services digital marketing platform for consumer brands that uses customer data and A/B testing to optimize marketing campaigns across mobile, web, and email channels. California; Colorado https://jobs.lever.co/clevertap 130 2012 "},"Account Executive","Account Executive","Leanplum","Y","N"]
[null,"Leidos Inc","Infotech - Services","Research, engineering, systems integration and technical services for various industries and government, including defense and intelligence. Owns aerospace company, Dyntetics.","Virginia","https://careers.leidos.com/search/jobs?q=director",32000,1969,{"$f":"_xlfn.CONCAT(Table3[[#This Row],[Company]:[Year Founded]]&\" \")","v":"Leidos Inc Infotech - Services Research, engineering, systems integration and technical services for various industries and government, including defense and intelligence. Owns aerospace company, Dyntetics. Virginia https://careers.leidos.com/search/jobs?q=director 32000 1969 "},"Service Delivery Manager","Service Delivery Manager","Leidos Inc","NA","N"]
[null,"LogRhythm ","Infotech - Services","Log management, security information and event management ","Colorado","https://logrhythm.com/about/careers/",551,2003,{"$f":"_xlfn.CONCAT(Table3[[#This Row],[Company]:[Year Founded]]&\" \")","v":"LogRhythm  Infotech - Services Log management, security information and event management  Colorado https://logrhythm.com/about/careers/ 551 2003 "},"Manager, Global Support Services","Manager, Global Support Services","LogRhythm ","NA","N"]
[null,"Medallia","Infotech - Services","SaaS platform that offers customer experience management solutions for the automotive, healthcare and hospitality sectors.","California; Texas; Virginia; New York; Toronto","https://jobs.medallia.com/?_ga=2.263513228.144665426.1593168406-448835948.1593168406",1500,2001,{"$f":"_xlfn.CONCAT(Table3[[#This Row],[Company]:[Year Founded]]&\" \")","v":"Medallia Infotech - Services SaaS platform that offers customer experience management solutions for the automotive, healthcare and hospitality sectors. California; Texas; Virginia; New York; Toronto https://jobs.medallia.com/?_ga=2.263513228.144665426.1593168406-448835948.1593168406 1500 2001 "},"Senior Manager, Strategy Analytics","Senior Manager, Strategy Analytics","Medallia","Y","Y","https://www.indeed.com/jobs?q=Medallia&l=United%20States&vjk=0aa7527e2ac60b4d"]
[null,"Micro Focus","Infotech - Services","Enterprise software for digital transformation.","US: California, Colorado, Illinois, Massachusetts, New York, Oregon, Texas, Washington, Washington DC. Canada: Ontario","https://jobs.microfocus.com/global/en",12000,1976,{"$f":"_xlfn.CONCAT(Table3[[#This Row],[Company]:[Year Founded]]&\" \")","v":"Micro Focus Infotech - Services Enterprise software for digital transformation. US: California, Colorado, Illinois, Massachusetts, New York, Oregon, Texas, Washington, Washington DC. Canada: Ontario https://jobs.microfocus.com/global/en 12000 1976 "},"CUSTOMER SUCCESS MANAGER","CUSTOMER SUCCESS MANAGER","Micro Focus","NA","N"]
[null,"Myers-Holum, Inc.","InfoTech - Services","End-to-end strategy, architecture, and implementation of enterprise applications and data management","California; Texas; Illinois; Colorado; California; New York; Remote; Toronto","https://workforcenow.adp.com/mascsr/default/mdf/recruitment/recruitment.html?cid=2bb550b3-a3cd-4705-b08a-981be5cbec4e&ccId=19000101_000001&type=MP&lang=en_US",31,1981,{"$f":"_xlfn.CONCAT(Table3[[#This Row],[Company]:[Year Founded]]&\" \")","v":"Myers-Holum, Inc. InfoTech - Services End-to-end strategy, architecture, and implementation of enterprise applications and data management California; Texas; Illinois; Colorado; California; New York; Remote; Toronto https://workforcenow.adp.com/mascsr/default/mdf/recruitment/recruitment.html?cid=2bb550b3-a3cd-4705-b08a-981be5cbec4e&ccId=19000101_000001&type=MP&lang=en_US 31 1981 "},"Director of Talent and Professional Development","Director of Talent and Professional Development","Myers-Holum, Inc.","NA","Y","https://www.indeed.com/jobs?q=Myers-Holum%2C%20Inc.&vjk=e15bdab36fe0fe05"]
[null,"NTT Data Services","Infotech - Services","IT services, including digital strategy, process optimization, business intelligence strategy, and organizational change management. ","Texas","https://us.nttdata.com/en/careers",133000,1967,{"$f":"_xlfn.CONCAT(Table3[[#This Row],[Company]:[Year Founded]]&\" \")","v":"NTT Data Services Infotech - Services IT services, including digital strategy, process optimization, business intelligence strategy, and organizational change management.  Texas https://us.nttdata.com/en/careers 133000 1967 "},"Sales Development Executive","Sales Development Executive","NTT Data Services","Y","N"]
[null,"OpenText","Infotech - Services","Enterprise information, business process, content discovery and management solutions for large companies, governments, and professional services firms.","Waterloo","https://www.opentext.com/about/careers",14000,1991,{"$f":"_xlfn.CONCAT(Table3[[#This Row],[Company]:[Year Founded]]&\" \")","v":"OpenText Infotech - Services Enterprise information, business process, content discovery and management solutions for large companies, governments, and professional services firms. Waterloo https://www.opentext.com/about/careers 14000 1991 "},"Sr Customer Success Manager","Sr Customer Success Manager","OpenText","Y","Y"]
[null,"Oracle","InfoTech - Services","Top MBA recruiter:  IT infrastructure, business intelligence, server and storage systems","California; Maryland; Virginia; Georgia; Texas; Ohio; Massachusetts; Washington; Minnesota; Colorado; Montana; New Jersey; Missouri; Illinois; North Carolina; New Hampshire; Oregon; Florida; Nevada; Utah; New York; Kansas; Pennsylvania; Arizona; Connecticut; Michigan; Iowa; Calgary; Kitchener; Markham; Mississauga; Montreal; Quebec; Toronto; Vancouver","https://www.oracle.com/apac/corporate/careers/",136000,1977,{"$f":"_xlfn.CONCAT(Table3[[#This Row],[Company]:[Year Founded]]&\" \")","v":"Oracle InfoTech - Services Top MBA recruiter:  IT infrastructure, business intelligence, server and storage systems California; Maryland; Virginia; Georgia; Texas; Ohio; Massachusetts; Washington; Minnesota; Colorado; Montana; New Jersey; Missouri; Illinois; North Carolina; New Hampshire; Oregon; Florida; Nevada; Utah; New York; Kansas; Pennsylvania; Arizona; Connecticut; Michigan; Iowa; Calgary; Kitchener; Markham; Mississauga; Montreal; Quebec; Toronto; Vancouver https://www.oracle.com/apac/corporate/careers/ 136000 1977 "},{"$f":"Table3[[#This Row],[Column26]]","v":"Project Manager"},"Project Manager","Oracle","Y","Y","https://www.indeed.com/jobs?q=Oracle&l&vjk=322988c6cb45e3f3"]
[null,"PagerDuty","Infotech - Services","Operations management platform.","California; Georgia; Washington; Toronto","https://www.pagerduty.com/careers/",669,2009,{"$f":"_xlfn.CONCAT(Table3[[#This Row],[Company]:[Year Founded]]&\" \")","v":"PagerDuty Infotech - Services Operations management platform. California; Georgia; Washington; Toronto https://www.pagerduty.com/careers/ 669 2009 "},{"$f":"K620","v":"Project Manager"},"Sr. Manager Corporate Strategy","PagerDuty","Y","N"]
[null,"Pentaho","Infotech - Services","Open source-based platform that offers reporting, analysis, dashboard and data mining solutions for big data deployments.","Florida; Washington; Massachusetts; Illinois; Colorado; California; New York; Ottawa; Toronto","https://www.hitachivantara.com/en-us/company/careers/job-search.html",650,2004,{"$f":"_xlfn.CONCAT(Table3[[#This Row],[Company]:[Year Founded]]&\" \")","v":"Pentaho Infotech - Services Open source-based platform that offers reporting, analysis, dashboard and data mining solutions for big data deployments. Florida; Washington; Massachusetts; Illinois; Colorado; California; New York; Ottawa; Toronto https://www.hitachivantara.com/en-us/company/careers/job-search.html 650 2004 "},{"$f":"Table3[[#This Row],[Column26]]","v":"Field Marketing Campaigns Manager"},"Field Marketing Campaigns Manager","Pentaho","NA","N"]
[null,"Pitney Bowes","Infotech - Services","Pitney Bowes is a global technology company providing commerce solutions.","Connecticut","https://careers.pitneybowes.com/",12200,1920,{"$f":"_xlfn.CONCAT(Table3[[#This Row],[Company]:[Year Founded]]&\" \")","v":"Pitney Bowes Infotech - Services Pitney Bowes is a global technology company providing commerce solutions. Connecticut https://careers.pitneybowes.com/ 12200 1920 "},{"$f":"K621","v":"Sr. Manager Corporate Strategy"},"Implementation Manager (Remote based anywhere in US)","Pitney Bowes","NA","N"]
[null,"Samasource","Infotech - Services","A company that provides a digital enterprise platform designed to offer data and content management services.","California; New York; Montreal","https://samasource.applytojob.com/apply",2900,2008,{"$f":"_xlfn.CONCAT(Table3[[#This Row],[Company]:[Year Founded]]&\" \")","v":"Samasource Infotech - Services A company that provides a digital enterprise platform designed to offer data and content management services. California; New York; Montreal https://samasource.applytojob.com/apply 2900 2008 "},{"$f":"Table3[[#This Row],[Column26]]","v":"Talent Acquisition and People Operations - Senior Director"},"Talent Acquisition and People Operations - Senior Director","Samasource","Y","N"]
[null,"Sanmina","Infotech - Services","Product design, prototyping and test analytics services for medical, defense and aerospace industries. Manufactures printed circuit boards and backplanes.","California; Texas; South Carolina; Alabama; New Hampshire; Wisconsin; Utah;","https://www.sanmina.com/careers/your-job-search/?job-location=all#jobs",34000,1980,{"$f":"_xlfn.CONCAT(Table3[[#This Row],[Company]:[Year Founded]]&\" \")","v":"Sanmina Infotech - Services Product design, prototyping and test analytics services for medical, defense and aerospace industries. Manufactures printed circuit boards and backplanes. California; Texas; South Carolina; Alabama; New Hampshire; Wisconsin; Utah; https://www.sanmina.com/careers/your-job-search/?job-location=all#jobs 34000 1980 "},{"$f":"K622","v":"Field Marketing Campaigns Manager"},"Business Development Manager","Sanmina","NA","N"]
[null,"Second Measure","Infotech - Services","Software for investors and businesses to answer real-time questions on company performance and consumer behavior","California","https://secondmeasure.com/jobs/",55,2015,{"$f":"_xlfn.CONCAT(Table3[[#This Row],[Company]:[Year Founded]]&\" \")","v":"Second Measure Infotech - Services Software for investors and businesses to answer real-time questions on company performance and consumer behavior California https://secondmeasure.com/jobs/ 55 2015 "},{"$f":"K623","v":"Implementation Manager (Remote based anywhere in US)"},"Client Engagement Manager","Second Measure","NA","N"]
[null,"Single Digits","Infotech - Services","Guest network deployments, management software, and technical support solutions.","New Hampshire; North Carolina; New York; Massachusetts; Louisiana; Texas; Arkansas; Alabama; Kentucky","https://www.singledigits.com/about-us/careers/",293,2003,{"$f":"_xlfn.CONCAT(Table3[[#This Row],[Company]:[Year Founded]]&\" \")","v":"Single Digits Infotech - Services Guest network deployments, management software, and technical support solutions. New Hampshire; North Carolina; New York; Massachusetts; Louisiana; Texas; Arkansas; Alabama; Kentucky https://www.singledigits.com/about-us/careers/ 293 2003 "},{"$f":"K624","v":"Talent Acquisition and People Operations - Senior Director"},"Project Manager","Single Digits","NA","Y"]
[null,"Smarsh","Infotech - Services","SaaS for regulated industries and government sector.","Portland, Oregon","https://www.smarsh.com/careers/us-emea-openings",623,2001,{"$f":"_xlfn.CONCAT(Table3[[#This Row],[Company]:[Year Founded]]&\" \")","v":"Smarsh Infotech - Services SaaS for regulated industries and government sector. Portland, Oregon https://www.smarsh.com/careers/us-emea-openings 623 2001 "},{"$f":"Table3[[#This Row],[Column26]]","v":"Enablement Content Manager"},"Enablement Content Manager","Smarsh","Y","N"]
[null,"SmartAction","Infotech - Services","AI-based voice automation services to financial, healthcare, telecommunication and media sectorxs.","California","https://smartaction.breezy.hr/",93,2002,{"$f":"_xlfn.CONCAT(Table3[[#This Row],[Company]:[Year Founded]]&\" \")","v":"SmartAction Infotech - Services AI-based voice automation services to financial, healthcare, telecommunication and media sectorxs. California https://smartaction.breezy.hr/ 93 2002 "},{"$f":"K625","v":"Business Development Manager"},"Implementation Project Manager","SmartAction","NA"]
[null,"Sony Corporation of America","Infotech - Services","Electronics, gaming, entertainment and financial services.","New York; New Jersey; Toronto","https://www.sonyjobs.com/",114000,1946,{"$f":"_xlfn.CONCAT(Table3[[#This Row],[Company]:[Year Founded]]&\" \")","v":"Sony Corporation of America Infotech - Services Electronics, gaming, entertainment and financial services. New York; New Jersey; Toronto https://www.sonyjobs.com/ 114000 1946 "},{"$f":"K626","v":"Client Engagement Manager"},"Senior Manager, Strategic Sourcing","Sony Corporation of America","Y","Y","https://www.indeed.com/jobs?q=Sony%20Corporation%20of%20America&l=United%20States&vjk=367a4bf8cff0fe28"]
[null,"Team International","Infotech - Services","Commercial application development, quality assurance, testing, and consulting.","Lake Mary, Florida","https://career.teaminternational.com/",550,1991,{"$f":"_xlfn.CONCAT(Table3[[#This Row],[Company]:[Year Founded]]&\" \")","v":"Team International Infotech - Services Commercial application development, quality assurance, testing, and consulting. Lake Mary, Florida https://career.teaminternational.com/ 550 1991 "},{"$f":"K627","v":"Project Manager"},"NA","Team International","NA","N"]
[null,"ThinkCSC","Infotech - Services"," IT services","Ohio","https://www.thinkcsc.com/contact/careers/",30,1992,{"$f":"_xlfn.CONCAT(Table3[[#This Row],[Company]:[Year Founded]]&\" \")","v":"ThinkCSC Infotech - Services  IT services Ohio https://www.thinkcsc.com/contact/careers/ 30 1992 "},{"$f":"K628","v":"Enablement Content Manager"},"NA","ThinkCSC","NA","Y","https://www.indeed.com/jobs?q=ThinkCSC&l=United%20States&vjk=c81c771d6fea4d53"]
[null,"Towersemi","Infotech - Services","Manufactures analog-integrated circuits for automotive, medical, industrial and aerospace sectors.","California; Texas\n","https://careers.towersemi.com/",5500,1993,{"$f":"_xlfn.CONCAT(Table3[[#This Row],[Company]:[Year Founded]]&\" \")","v":"Towersemi Infotech - Services Manufactures analog-integrated circuits for automotive, medical, industrial and aerospace sectors. California; Texas\n https://careers.towersemi.com/ 5500 1993 "},"Customer Account Manager, Expert","Customer Account Manager, Expert","Towersemi","NA","N"]
[null,"Trace3","InfoTech - Services","IT security, network infrastructure, data risk management and disaster recovery solutions for retail, healthcare and insurance sectors.","California; Arizona; Colorado; Georgia; Indiana; Kentucky; Michigan","https://www.trace3.com/about/careers",550,2002,{"$f":"_xlfn.CONCAT(Table3[[#This Row],[Company]:[Year Founded]]&\" \")","v":"Trace3 InfoTech - Services IT security, network infrastructure, data risk management and disaster recovery solutions for retail, healthcare and insurance sectors. California; Arizona; Colorado; Georgia; Indiana; Kentucky; Michigan https://www.trace3.com/about/careers 550 2002 "},{"$f":"Table3[[#This Row],[Column26]]","v":"Sr. Transition Manager"},"Sr. Transition Manager","Trace3","Y","Y","https://www.indeed.com/jobs?q=Trace3&l&vjk=64578f130ee90991"]
[null,"Two95 International Inc.","Infotech - Services","Process management, mobility, cloud, analytics, eCommerce and social networking solutions.","California, New Jersey","https://www.two95intl.com/find-job/",100,2009,{"$f":"_xlfn.CONCAT(Table3[[#This Row],[Company]:[Year Founded]]&\" \")","v":"Two95 International Inc. Infotech - Services Process management, mobility, cloud, analytics, eCommerce and social networking solutions. California, New Jersey https://www.two95intl.com/find-job/ 100 2009 "},{"$f":"K629","v":"Implementation Project Manager"},"Sales Director","Two95 International Inc.","NA","N"]
[null,"Vertex","Infotech - Services","Corporate tax processing software and consulting services","Pennsylvania; Illinois; Florida","https://vertexinc.referrals.selectminds.com/jobs/search/366182",1100,1978,{"$f":"_xlfn.CONCAT(Table3[[#This Row],[Company]:[Year Founded]]&\" \")","v":"Vertex Infotech - Services Corporate tax processing software and consulting services Pennsylvania; Illinois; Florida https://vertexinc.referrals.selectminds.com/jobs/search/366182 1100 1978 "},{"$f":"K630","v":"Senior Manager, Strategic Sourcing"},"Customer Success Manager","Vertex","NA","Y","https://www.indeed.com/jobs?q=Vertex&l=United%20States&vjk=8dc6144fa8bf05d5"]
[null,"Wipro","Infotech - Services","IT, consulting and outsourcing services.","California","https://careers.wipro.com/careers-home/jobs?location=united%20states&stretch=10&stretchUnit=MILES&page=1",150000,1945,{"$f":"_xlfn.CONCAT(Table3[[#This Row],[Company]:[Year Founded]]&\" \")","v":"Wipro Infotech - Services IT, consulting and outsourcing services. California https://careers.wipro.com/careers-home/jobs?location=united%20states&stretch=10&stretchUnit=MILES&page=1 150000 1945 "},"Client Executive","Client Executive","Wipro","NA","N"]
[null,"Xanadu.ai","Infotech - Services","Integrated quantum computing systems for finance, healthcare, IT and insurance sectors.","Toronto","https://www.xanadu.ai/careers/",28,2016,{"$f":"_xlfn.CONCAT(Table3[[#This Row],[Company]:[Year Founded]]&\" \")","v":"Xanadu.ai Infotech - Services Integrated quantum computing systems for finance, healthcare, IT and insurance sectors. Toronto https://www.xanadu.ai/careers/ 28 2016 "},{"$f":"K631","v":"NA"},"Product Manager","Xanadu.ai","NA","N"]
[null,"Zapier","InfoTech - Services","allows end users to integrate their web applications","California; Remote","https://zapier.com/jobs/",300,2011,{"$f":"_xlfn.CONCAT(Table3[[#This Row],[Company]:[Year Founded]]&\" \")","v":"Zapier InfoTech - Services allows end users to integrate their web applications California; Remote https://zapier.com/jobs/ 300 2011 "},{"$f":"K632","v":"NA"},"Business Operations Director ","Zapier","NA","Y","https://www.indeed.com/jobs?q=Zapier&explvl=senior_level&vjk=c608d1e40107cba1"]
[null,"1Password","Infotech - Software","Mobile and web-based platform for password management","REMOTE; Toronto","https://1password.com/jobs/",200,2005,{"$f":"_xlfn.CONCAT(Table3[[#This Row],[Company]:[Year Founded]]&\" \")","v":"1Password Infotech - Software Mobile and web-based platform for password management REMOTE; Toronto https://1password.com/jobs/ 200 2005 "},{"$f":"Table3[[#This Row],[Column26]]","v":"Senior Customer Success Manager"},"Senior Customer Success Manager","1Password","Y","Y","https://www.indeed.com/jobs?q=1Password&l=United%20States&start=10&vjk=18a9133bb046103c"]
[null,"3Pillar Global","Infotech - Software","Quality assurance, testing solutions, software product lifecycle management and development services.","Virginia","https://www.3pillarglobal.com/job-opportunities",899,2006,{"$f":"_xlfn.CONCAT(Table3[[#This Row],[Company]:[Year Founded]]&\" \")","v":"3Pillar Global Infotech - Software Quality assurance, testing solutions, software product lifecycle management and development services. Virginia https://www.3pillarglobal.com/job-opportunities 899 2006 "},{"$f":"Table3[[#This Row],[Column26]]","v":"Client Partner"},"Client Partner","3Pillar Global","Y","Y","https://www.indeed.com/jobs?q=3Pillar%20Global&l&vjk=a522f0fadc998c37"]
[null,"ABB","Infotech - Software","ABB is a company providing electrification, automation, robotics, and digitalization solutions to industrial customers.","Tennessee; New Mexico; Georgia; Maine; Michigan; Oklahoma; South Carolina; Virginia; Connecticut; Illinois; Colorado; Mississippi; California; North Carolina; Arizona; Texas; Missouri; Louisiana; New Jersey; Ohio; Washington; Florida;  New York; West Virginia; Kansas; Wisconsin; Pennsylvania; Massachusetts; Iowa; Brampton; Burlington; Calgary; Dartmouth; Edmonton; Greater Sudbury; Montreal; Quebec; Red Deer; Richmond; Rocky Mountain House; St. John's; Surrey; Varennes; Whitby; Winnipeg","https://global.abb/group/en/careers/opportunities/experienced-professionals",132000,1883,{"$f":"_xlfn.CONCAT(Table3[[#This Row],[Company]:[Year Founded]]&\" \")","v":"ABB Infotech - Software ABB is a company providing electrification, automation, robotics, and digitalization solutions to industrial customers. Tennessee; New Mexico; Georgia; Maine; Michigan; Oklahoma; South Carolina; Virginia; Connecticut; Illinois; Colorado; Mississippi; California; North Carolina; Arizona; Texas; Missouri; Louisiana; New Jersey; Ohio; Washington; Florida;  New York; West Virginia; Kansas; Wisconsin; Pennsylvania; Massachusetts; Iowa; Brampton; Burlington; Calgary; Dartmouth; Edmonton; Greater Sudbury; Montreal; Quebec; Red Deer; Richmond; Rocky Mountain House; St. John's; Surrey; Varennes; Whitby; Winnipeg https://global.abb/group/en/careers/opportunities/experienced-professionals 132000 1883 "},{"$f":"Table3[[#This Row],[Column26]]","v":"Product Marketing Manager"},"Product Marketing Manager","ABB","Y","Y","https://www.indeed.com/jobs?q=ABB&l=United%20States&vjk=1d266643792fe878"]
[null,"Adobe","Infotech - Software","Proprietary products include Adobe Flash, Adobe Illustrator, Acrobat Reader, the Portable Document Format (PDF), and Adobe Creative Cloud.","California","https://www.adobe.com/careers.html",21300,1982,{"$f":"_xlfn.CONCAT(Table3[[#This Row],[Company]:[Year Founded]]&\" \")","v":"Adobe Infotech - Software Proprietary products include Adobe Flash, Adobe Illustrator, Acrobat Reader, the Portable Document Format (PDF), and Adobe Creative Cloud. California https://www.adobe.com/careers.html 21300 1982 "},{"$f":"Table3[[#This Row],[Column26]]","v":"Director, Strategic Partner Development"},"Director, Strategic Partner Development","Adobe","Y","Y","https://www.indeed.com/jobs?q=Adobe&l&vjk=61ef2f067d306a28"]
[null,"Airtable","Infotech - Software","Low-code platform for building collaborative apps","California","https://airtable.com/careers",215,2012,{"$f":"_xlfn.CONCAT(Table3[[#This Row],[Company]:[Year Founded]]&\" \")","v":"Airtable Infotech - Software Low-code platform for building collaborative apps California https://airtable.com/careers 215 2012 "},{"$f":"Table3[[#This Row],[Column26]]","v":"Customer Success Manager"},"Customer Success Manager","Airtable","Y","N"]
[null,"Airwatch","Infotech - Software","Enterprise grade software for secure delivery of content, applications and email.","Georgia","http://www.air-watch.com/",1600,2003,{"$f":"_xlfn.CONCAT(Table3[[#This Row],[Company]:[Year Founded]]&\" \")","v":"Airwatch Infotech - Software Enterprise grade software for secure delivery of content, applications and email. Georgia http://www.air-watch.com/ 1600 2003 "},{"$f":"Table3[[#This Row],[Column26]]","v":"Technical Project Manager"},"Technical Project Manager","Airwatch","NA","N"]
[null,"Algolia","Infotech - Software","SaaS API for web app developers ","California; Georgia; New York","https://www.algolia.com/careers/",294,2012,{"$f":"_xlfn.CONCAT(Table3[[#This Row],[Company]:[Year Founded]]&\" \")","v":"Algolia Infotech - Software SaaS API for web app developers  California; Georgia; New York https://www.algolia.com/careers/ 294 2012 "},{"$f":"Table3[[#This Row],[Column26]]","v":"Customer Success Advocate - Remote"},"Customer Success Advocate - Remote","Algolia","NA","N"]
[null,"Alteryx","InfoTech - Software","Data analytics platform for business.","California","https://www.alteryx.com/careers",1200,2010,{"$f":"_xlfn.CONCAT(Table3[[#This Row],[Company]:[Year Founded]]&\" \")","v":"Alteryx InfoTech - Software Data analytics platform for business. California https://www.alteryx.com/careers 1200 2010 "},{"$f":"Table3[[#This Row],[Column26]]","v":"Business Operations Manager, Renewals"},"Business Operations Manager, Renewals","Alteryx","Y","N"]
[null,"Amdocs","Infotech - Software","Software and services for communications, media and financial services providers","Missouri; Georgia; Illinois; California; Virginia; New Jersey; Pennsylvania; Texas; Washington; Michigan","https://jobs.amdocs.com/go/North-America/8464800/",25000,1982,{"$f":"_xlfn.CONCAT(Table3[[#This Row],[Company]:[Year Founded]]&\" \")","v":"Amdocs Infotech - Software Software and services for communications, media and financial services providers Missouri; Georgia; Illinois; California; Virginia; New Jersey; Pennsylvania; Texas; Washington; Michigan https://jobs.amdocs.com/go/North-America/8464800/ 25000 1982 "},{"$f":"Table3[[#This Row],[Column26]]","v":"Project Manager"},"Project Manager","Amdocs","Y","Y","https://www.indeed.com/jobs?q=Amdocs&l=United%20States&vjk=3b52f8a5ec7709d2"]
[null,"Apttus","Infotech - Software","Apttus is a provider of revenue management solutions for energy, financial, healthcare, and entertainment industries.","California; Montana","https://apttus.com/company/careers/",1300,2006,{"$f":"_xlfn.CONCAT(Table3[[#This Row],[Company]:[Year Founded]]&\" \")","v":"Apttus Infotech - Software Apttus is a provider of revenue management solutions for energy, financial, healthcare, and entertainment industries. California; Montana https://apttus.com/company/careers/ 1300 2006 "},{"$f":"Table3[[#This Row],[Column26]]","v":"Salesforce Partner Account Manager"},"Salesforce Partner Account Manager","Apttus","NA","N"]
[null,"Aras","Infotech - Software","Product lifecycle management software for aerospace, defense, and automotive industries.","Massachusetts; Michigan","https://www.aras.com/en/company/careers/aras-jobs/openings/job?id=45495CBF119B4FBBB4BB08C635A7FA0B",600,2000,{"$f":"_xlfn.CONCAT(Table3[[#This Row],[Company]:[Year Founded]]&\" \")","v":"Aras Infotech - Software Product lifecycle management software for aerospace, defense, and automotive industries. Massachusetts; Michigan https://www.aras.com/en/company/careers/aras-jobs/openings/job?id=45495CBF119B4FBBB4BB08C635A7FA0B 600 2000 "},{"$f":"Table3[[#This Row],[Column26]]","v":"NA"},"NA","Aras","NA","N"]
[null,"Asana","Infotech - Software","Web and mobile-based platform for teams to organize projects, create to-do lists and assign tasks.","California; New York; Vancouver","https://asana.com/jobs/all",550,2008,{"$f":"_xlfn.CONCAT(Table3[[#This Row],[Company]:[Year Founded]]&\" \")","v":"Asana Infotech - Software Web and mobile-based platform for teams to organize projects, create to-do lists and assign tasks. California; New York; Vancouver https://asana.com/jobs/all 550 2008 "},{"$f":"Table3[[#This Row],[Column26]]","v":"Retention Growth Manager"},"Retention Growth Manager","Asana","NA","N"]
[null,"Astronomer","Infotech - Software","SaaS to automate and manage the workflows ","Ohio","https://careers.astronomer.io/?_ga=2.43527397.1310786783.1592230974-2075011527.1592230974",40,2015,{"$f":"_xlfn.CONCAT(Table3[[#This Row],[Company]:[Year Founded]]&\" \")","v":"Astronomer Infotech - Software SaaS to automate and manage the workflows  Ohio https://careers.astronomer.io/?_ga=2.43527397.1310786783.1592230974-2075011527.1592230974 40 2015 "},{"$f":"Table3[[#This Row],[Column26]]","v":"Enterprise Sales Manager"},"Enterprise Sales Manager","Astronomer","Y","N"]
[null,"Athena Enterprise Systems","InfoTech - Software","Software for business applications ","New Jersey; North Carolina","https://athena-enterprise.com/career-overview-1",4700,2005,{"$f":"_xlfn.CONCAT(Table3[[#This Row],[Company]:[Year Founded]]&\" \")","v":"Athena Enterprise Systems InfoTech - Software Software for business applications  New Jersey; North Carolina https://athena-enterprise.com/career-overview-1 4700 2005 "},{"$f":"Table3[[#This Row],[Column26]]","v":"Project Manager"},"Project Manager","Athena Enterprise Systems","NA","Y","https://www.indeed.com/jobs?q=Athena%20Enterprise%20Systems&explvl=senior_level&vjk=0d7d61d5096de25a"]
[null,"Atlassian","Infotech - Software","Software for developers and project managers. ","Texas; Massachusetts; California; New York","https://www.atlassian.com/company/careers/all-jobs",3600,2001,{"$f":"_xlfn.CONCAT(Table3[[#This Row],[Company]:[Year Founded]]&\" \")","v":"Atlassian Infotech - Software Software for developers and project managers.  Texas; Massachusetts; California; New York https://www.atlassian.com/company/careers/all-jobs 3600 2001 "},{"$f":"Table3[[#This Row],[Column26]]","v":"Strategy and Business Operations Principal, Customer Experience"},"Strategy and Business Operations Principal, Customer Experience","Atlassian","Y","Y","https://www.indeed.com/jobs?q=Atlassian&l=United%20States&vjk=dd8422f61f3a2d41"]
[null,"AuditBoard","Infotech - Software","Audit management software ","California","https://www.auditboard.com/careers/#job-list",185,2014,{"$f":"_xlfn.CONCAT(Table3[[#This Row],[Company]:[Year Founded]]&\" \")","v":"AuditBoard Infotech - Software Audit management software  California https://www.auditboard.com/careers/#job-list 185 2014 "},{"$f":"Table3[[#This Row],[Column26]]","v":"Customer Success Manager"},"Customer Success Manager","AuditBoard","NA","N"]
[null,"Autodesk","Infotech - Software","Software for architecture, engineering, construction, media and entertainment, and manufacturing industries. Proprietary products include AutoCad, SketchBook, and Maya.","California","https://www.autodesk.com/careers",9000,1982,{"$f":"_xlfn.CONCAT(Table3[[#This Row],[Company]:[Year Founded]]&\" \")","v":"Autodesk Infotech - Software Software for architecture, engineering, construction, media and entertainment, and manufacturing industries. Proprietary products include AutoCad, SketchBook, and Maya. California https://www.autodesk.com/careers 9000 1982 "},{"$f":"Table3[[#This Row],[Column26]]","v":"\nSenior Product Marketing Manager"},"\nSenior Product Marketing Manager","Autodesk","NA","N"]
[null,"Axioma","Infotech - Software","Provides enterprise risk management, portfolio management, and regulatory reporting solutions to financial institutions worldwide.","Georgia; Illinois; New York, California","https://external-qontigo.icims.com/jobs/search?ss=1&searchLocation=12781-12816-New+York",270,1998,{"$f":"_xlfn.CONCAT(Table3[[#This Row],[Company]:[Year Founded]]&\" \")","v":"Axioma Infotech - Software Provides enterprise risk management, portfolio management, and regulatory reporting solutions to financial institutions worldwide. Georgia; Illinois; New York, California https://external-qontigo.icims.com/jobs/search?ss=1&searchLocation=12781-12816-New+York 270 1998 "},{"$f":"Table3[[#This Row],[Column26]]","v":"NA"},"NA","Axioma","Y","Y","https://www.indeed.com/jobs?q=Axioma&l=United%20States&vjk=2e711a96501758ba"]
[null,"AxiomSL","Infotech - Software","AxiomSL is a company that specializes in risk-data management and regulatory reporting solutions. ","New York; Toronto","https://www.axiomsl.com/careers/",788,1991,{"$f":"_xlfn.CONCAT(Table3[[#This Row],[Company]:[Year Founded]]&\" \")","v":"AxiomSL Infotech - Software AxiomSL is a company that specializes in risk-data management and regulatory reporting solutions.  New York; Toronto https://www.axiomsl.com/careers/ 788 1991 "},{"$f":"Table3[[#This Row],[Column26]]","v":"Principal Consultant, Regional Business, Customer Delivery"},"Principal Consultant, Regional Business, Customer Delivery","AxiomSL","NA","N"]
[null,"BEA Inc.","InfoTech - Software","Sensing solutions for automatic doors systems","Pennsylvania. (HQ): Liege, Belgium","https://us.beasensors.com/en/careers/",114,1965,{"$f":"_xlfn.CONCAT(Table3[[#This Row],[Company]:[Year Founded]]&\" \")","v":"BEA Inc. InfoTech - Software Sensing solutions for automatic doors systems Pennsylvania. (HQ): Liege, Belgium https://us.beasensors.com/en/careers/ 114 1965 "},{"$f":"Table3[[#This Row],[Column26]]","v":"Production Planning & Logistics Manager"},"Production Planning & Logistics Manager","BEA Inc.","NA","N"]
[null,"Betterworks","Infotech - Software","Enterprise feedback platform","California; New York","https://boards.greenhouse.io/betterworks",135,2013,{"$f":"_xlfn.CONCAT(Table3[[#This Row],[Company]:[Year Founded]]&\" \")","v":"Betterworks Infotech - Software Enterprise feedback platform California; New York https://boards.greenhouse.io/betterworks 135 2013 "},{"$f":"Table3[[#This Row],[Column26]]","v":"Product Manager"},"Product Manager","Betterworks","Y","Y","https://www.indeed.com/jobs?q=Betterworks&l=United%20States&vjk=8745df308b1dbc0e"]
[null,"Bing","Infotech - Software","Web search engine owned and operated by Microsoft","Washington","https://www.bing.com/",1700,2009,{"$f":"_xlfn.CONCAT(Table3[[#This Row],[Company]:[Year Founded]]&\" \")","v":"Bing Infotech - Software Web search engine owned and operated by Microsoft Washington https://www.bing.com/ 1700 2009 "},{"$f":"Table3[[#This Row],[Column26]]","v":"Business Program Manager"},"Business Program Manager","Bing","NA","N"]
[null,"BizLink Holding Inc","InfoTech - Software","Interconnect solutions provider of wiring harnesses and connectivity products.","California; Texas","https://www.bizlinktech.com/careers",7000,1996,{"$f":"_xlfn.CONCAT(Table3[[#This Row],[Company]:[Year Founded]]&\" \")","v":"BizLink Holding Inc InfoTech - Software Interconnect solutions provider of wiring harnesses and connectivity products. California; Texas https://www.bizlinktech.com/careers 7000 1996 "},{"$f":"Table3[[#This Row],[Column26]]","v":"Business Development Manager"},"Business Development Manager","BizLink Holding Inc","NA","N"]
[null,"Blackbaud","Infotech - Software","Software for nonprofits for fundraising, prospect research, fund accounting, and administration","South Carolina; Texas; New Hampshire; South Carolina; New York; Minnesota; Toronto","https://www.blackbaud.com/company/careers",3300,1981,{"$f":"_xlfn.CONCAT(Table3[[#This Row],[Company]:[Year Founded]]&\" \")","v":"Blackbaud Infotech - Software Software for nonprofits for fundraising, prospect research, fund accounting, and administration South Carolina; Texas; New Hampshire; South Carolina; New York; Minnesota; Toronto https://www.blackbaud.com/company/careers 3300 1981 "},{"$f":"Table3[[#This Row],[Column26]]","v":"Customer Success Manager, Higher Education"},"Customer Success Manager, Higher Education","Blackbaud","NA","N"]
[null,"BlueVine","Infotech - Software","Online platform for working capital financing ","California; New Jersey","https://www.bluevine.com/careers/",300,2013,{"$f":"_xlfn.CONCAT(Table3[[#This Row],[Company]:[Year Founded]]&\" \")","v":"BlueVine Infotech - Software Online platform for working capital financing  California; New Jersey https://www.bluevine.com/careers/ 300 2013 "},{"$f":"Table3[[#This Row],[Column26]]","v":"Senior Account Executive"},"Senior Account Executive","BlueVine","Y","Y","https://www.indeed.com/jobs?q=BlueVine&l=United%20States&vjk=d8009bf2aa9101e4"]
[null,"BMC Software","Infotech - Software","Provides software solutions. The Company offers spans enterprise systems, applications, databases, and information technology process management, as well as provides maintenance, support, software implementation, integration, and education services.","Texas; Massachusetts; North Carolina; Illinois; California; Virginia; New York; Florida; Markham; Montreal; Vancouver","https://www.bmc.com/",6700,1980,{"$f":"_xlfn.CONCAT(Table3[[#This Row],[Company]:[Year Founded]]&\" \")","v":"BMC Software Infotech - Software Provides software solutions. The Company offers spans enterprise systems, applications, databases, and information technology process management, as well as provides maintenance, support, software implementation, integration, and education services. Texas; Massachusetts; North Carolina; Illinois; California; Virginia; New York; Florida; Markham; Montreal; Vancouver https://www.bmc.com/ 6700 1980 "},{"$f":"Table3[[#This Row],[Column26]]","v":"Login\nLead Customer Success Manager - REMOTE"},"Login\nLead Customer Success Manager - REMOTE","BMC Software","NA","Y","https://www.indeed.com/jobs?q=BMC%20Software&l=United%20States&vjk=52734b1fac423be1"]
[null,"BuiltIn","InfoTech - Software","Online network for employer branding and recruitment solutions for technology companies and startups.","Illinois","https://builtin.com/jobs/operations",101,2011,{"$f":"_xlfn.CONCAT(Table3[[#This Row],[Company]:[Year Founded]]&\" \")","v":"BuiltIn InfoTech - Software Online network for employer branding and recruitment solutions for technology companies and startups. Illinois https://builtin.com/jobs/operations 101 2011 "},{"$f":"Table3[[#This Row],[Column26]]","v":"Customer Success Manager"},"Customer Success Manager","BuiltIn","NA","N"]
[null,"Calabrio","Infotech - Software","Customer interaction and workforce optimization software for the privately-hosted CCaaS vendors.","Minnesota; Colorado; Vancouver","https://www.calabrio.com/careers/",648,2007,{"$f":"_xlfn.CONCAT(Table3[[#This Row],[Company]:[Year Founded]]&\" \")","v":"Calabrio Infotech - Software Customer interaction and workforce optimization software for the privately-hosted CCaaS vendors. Minnesota; Colorado; Vancouver https://www.calabrio.com/careers/ 648 2007 "},{"$f":"Table3[[#This Row],[Column26]]","v":"Account Executive"},"Account Executive","Calabrio","Y","Y","https://www.indeed.com/jobs?q=Calabrio&l=United%20States&vjk=a44e85e3bc27df83"]
[null,"Capterra","Infotech - Software","Online platform that allows users to compare software. ","Virginia","https://www.capterra.com/careers",59,1999,{"$f":"_xlfn.CONCAT(Table3[[#This Row],[Company]:[Year Founded]]&\" \")","v":"Capterra Infotech - Software Online platform that allows users to compare software.  Virginia https://www.capterra.com/careers 59 1999 "},{"$f":"Table3[[#This Row],[Column26]]","v":"Associate Director, Services"},"Associate Director, Services","Capterra","Y","N"]
[null,"CB Insights","Infotech - Software","Patent analysis and earning transcript solutions for startups and venture capital firms","New York","https://www.cbinsights.com/jobs#jobs-list",300,2008,{"$f":"_xlfn.CONCAT(Table3[[#This Row],[Company]:[Year Founded]]&\" \")","v":"CB Insights Infotech - Software Patent analysis and earning transcript solutions for startups and venture capital firms New York https://www.cbinsights.com/jobs#jobs-list 300 2008 "},{"$f":"Table3[[#This Row],[Column26]]","v":"Corporate Account Executive"},"Corporate Account Executive","CB Insights","NA","N"]
[null,"CircleCI","Infotech - Software","Continuous integration and delivery platform that allows developers to build, test and deploy web-based applications","California","https://boards.greenhouse.io/circleci",300,2011,{"$f":"_xlfn.CONCAT(Table3[[#This Row],[Company]:[Year Founded]]&\" \")","v":"CircleCI Infotech - Software Continuous integration and delivery platform that allows developers to build, test and deploy web-based applications California https://boards.greenhouse.io/circleci 300 2011 "},{"$f":"Table3[[#This Row],[Column26]]","v":"SMB Technical Success Manager"},"SMB Technical Success Manager","CircleCI","Y","Y","https://www.indeed.com/jobs?q=CircleCI&l=United%20States&vjk=ed9aff21474a3636"]
[null,"Civis Analytics","Infotech - Software","Data science platform ","Illinois; Washington","https://www.civisanalytics.com/careers/",215,2013,{"$f":"_xlfn.CONCAT(Table3[[#This Row],[Company]:[Year Founded]]&\" \")","v":"Civis Analytics Infotech - Software Data science platform  Illinois; Washington https://www.civisanalytics.com/careers/ 215 2013 "},{"$f":"Table3[[#This Row],[Column26]]","v":"Marketing Director"},"Marketing Director","Civis Analytics","Y","Y","https://www.indeed.com/jobs?q=Civis%20Analytics&l=United%20States&vjk=c49d233d08d9207f"]
[null,"ClassPass","Infotech - Software","online subscription-based platform that allows users to book workout classes and watch on-demand workouts.","New York","https://classpass.com/about/careers",650,2013,{"$f":"_xlfn.CONCAT(Table3[[#This Row],[Company]:[Year Founded]]&\" \")","v":"ClassPass Infotech - Software online subscription-based platform that allows users to book workout classes and watch on-demand workouts. New York https://classpass.com/about/careers 650 2013 "},{"$f":"Table3[[#This Row],[Column26]]","v":"Senior Product Manager, Consumer"},"Senior Product Manager, Consumer","ClassPass","Y","Y","https://www.indeed.com/jobs?q=ClassPass&start=40&vjk=6c6136c1d127eb4e"]
[null,"Clio","Infotech - Software","Platformcloud-based software for law practice management","Burnaby; Calgary; Toronto; Vancouver; California","https://www.clio.com/about/careers/",429,2008,{"$f":"_xlfn.CONCAT(Table3[[#This Row],[Company]:[Year Founded]]&\" \")","v":"Clio Infotech - Software Platformcloud-based software for law practice management Burnaby; Calgary; Toronto; Vancouver; California https://www.clio.com/about/careers/ 429 2008 "},{"$f":"Table3[[#This Row],[Column26]]","v":"Account Executive "},"Account Executive ","Clio","NA","N"]
[null,"Cloudera","InfoTech - Software","Software platform for data engineering, data warehousing, machine learning and analytics.","California; Georgia; Texas; Washington; Massachusetts; Illinois; Maryland; New Hampshire; New York; North Carolina; Virginia; Toronto ","https://www.cloudera.com/careers.html",3000,2008,{"$f":"_xlfn.CONCAT(Table3[[#This Row],[Company]:[Year Founded]]&\" \")","v":"Cloudera InfoTech - Software Software platform for data engineering, data warehousing, machine learning and analytics. California; Georgia; Texas; Washington; Massachusetts; Illinois; Maryland; New Hampshire; New York; North Carolina; Virginia; Toronto  https://www.cloudera.com/careers.html 3000 2008 "},{"$f":"Table3[[#This Row],[Column26]]","v":"Customer Success Manager"},"Customer Success Manager","Cloudera","Y","Y","https://www.indeed.com/jobs?q=Cloudera&l&vjk=b1d64eb2fe33c074"]
[null,"Cockroach labs","Infotech - Software","Distributed database with standard SQL for cloud applications","New York; Massachusetts","https://www.cockroachlabs.com/careers/",142,2015,{"$f":"_xlfn.CONCAT(Table3[[#This Row],[Company]:[Year Founded]]&\" \")","v":"Cockroach labs Infotech - Software Distributed database with standard SQL for cloud applications New York; Massachusetts https://www.cockroachlabs.com/careers/ 142 2015 "},{"$f":"Table3[[#This Row],[Column26]]","v":"Senior Manager, Commercial Sales (West Region)"},"Senior Manager, Commercial Sales (West Region)","Cockroach labs","NA","N"]
[null,"Commvault","Infotech - Software","Data protection and information management solutions.","New Jersey; Texas; Colorado; Illinois; New York; Virginia; California; Calgary; Markham; Ottawa; Westmount","https://careers.commvault.com/category/sales-jobs/21630/8048176/1",2500,1996,{"$f":"_xlfn.CONCAT(Table3[[#This Row],[Company]:[Year Founded]]&\" \")","v":"Commvault Infotech - Software Data protection and information management solutions. New Jersey; Texas; Colorado; Illinois; New York; Virginia; California; Calgary; Markham; Ottawa; Westmount https://careers.commvault.com/category/sales-jobs/21630/8048176/1 2500 1996 "},{"$f":"Table3[[#This Row],[Column26]]","v":"Enterprise Account Executive (SoCal)"},"Enterprise Account Executive (SoCal)","Commvault","NA","N"]
[null,"Confluent.io","Infotech - Software","Real-time event streaming platform","California; Texas; Massachusetts; Minnesota; New York; Pennsylvania; North Carolina; Virginia","https://www.confluent.io/careers",1000,2014,{"$f":"_xlfn.CONCAT(Table3[[#This Row],[Company]:[Year Founded]]&\" \")","v":"Confluent.io Infotech - Software Real-time event streaming platform California; Texas; Massachusetts; Minnesota; New York; Pennsylvania; North Carolina; Virginia https://www.confluent.io/careers 1000 2014 "},{"$f":"Table3[[#This Row],[Column26]]","v":"Strategic Customer Success Manager"},"Strategic Customer Success Manager","Confluent.io","Y","Y","https://www.indeed.com/jobs?q=Confluent.io&l=United%20States&vjk=80bbd7eb7b78821d"]
[null,"Connection","Infotech - Software","Data center, cloud computing, security, mobility, network and lifecycle solutions.","New Hampshire; Florida; South Dakota; Maryland; Pennsylvania; Massachusetts; Illinois; Connecticut; Ohio","https://vizi.vizirecruiter.com/Connection-2659/index.html",2600,1982,{"$f":"_xlfn.CONCAT(Table3[[#This Row],[Company]:[Year Founded]]&\" \")","v":"Connection Infotech - Software Data center, cloud computing, security, mobility, network and lifecycle solutions. New Hampshire; Florida; South Dakota; Maryland; Pennsylvania; Massachusetts; Illinois; Connecticut; Ohio https://vizi.vizirecruiter.com/Connection-2659/index.html 2600 1982 "},{"$f":"Table3[[#This Row],[Column26]]","v":"NA"},"NA","Connection","Y","Y","https://www.indeed.com/jobs?q=Connection&l=United%20States&vjk=9fc40bc3f6565915"]
[null,"Cornerstone","Infotech - Software","Talent management software for s recruitment, training, performance management and collaboration","California; New York; Utah; ","https://cornerstone.csod.com/ux/ats/careersite/11/home?c=cornerstone#/",2000,1999,{"$f":"_xlfn.CONCAT(Table3[[#This Row],[Company]:[Year Founded]]&\" \")","v":"Cornerstone Infotech - Software Talent management software for s recruitment, training, performance management and collaboration California; New York; Utah;  https://cornerstone.csod.com/ux/ats/careersite/11/home?c=cornerstone#/ 2000 1999 "},{"$f":"Table3[[#This Row],[Column26]]","v":"Director, IT Strategy and PMO"},"Director, IT Strategy and PMO","Cornerstone","Y","Y","https://www.indeed.com/jobs?q=Cornerstone&l=United%20States&start=50&vjk=b7dcf314b913dabf"]
[null,"Crossborder Solutions","Infotech - Software","CrossBorder Solutions is a provider of commercial transfer pricing software for businesses.","New York","https://www.crossborder.ai/careers/",226,2016,{"$f":"_xlfn.CONCAT(Table3[[#This Row],[Company]:[Year Founded]]&\" \")","v":"Crossborder Solutions Infotech - Software CrossBorder Solutions is a provider of commercial transfer pricing software for businesses. New York https://www.crossborder.ai/careers/ 226 2016 "},{"$f":"Table3[[#This Row],[Column26]]","v":"NA"},"NA","Crossborder Solutions","Y","Y","https://www.indeed.com/jobs?q=Crossborder%20Solutions&l=United%20States&vjk=41c42d5d72051686"]
[null,"CrowdstreetInc","InfoTech - Software","Online platform for commercial real estate sector ","Oregon","https://www.crowdstreet.com/careers/#job-board",63,2014,{"$f":"_xlfn.CONCAT(Table3[[#This Row],[Company]:[Year Founded]]&\" \")","v":"CrowdstreetInc InfoTech - Software Online platform for commercial real estate sector  Oregon https://www.crowdstreet.com/careers/#job-board 63 2014 "},{"$f":"Table3[[#This Row],[Column26]]","v":"Executive Managing Director & Head of Capital Markets & Investments"},"Executive Managing Director & Head of Capital Markets & Investments","CrowdstreetInc","NA","N"]
[null,"DataBricks","Infotech - Software","Data management and spatial frameworks solutions through machine learning and cloud computing.","California; Virginia; Texas; Arizona; Toronto","https://databricks.com/company/careers/open-positions",1300,2013,{"$f":"_xlfn.CONCAT(Table3[[#This Row],[Company]:[Year Founded]]&\" \")","v":"DataBricks Infotech - Software Data management and spatial frameworks solutions through machine learning and cloud computing. California; Virginia; Texas; Arizona; Toronto https://databricks.com/company/careers/open-positions 1300 2013 "},{"$f":"Table3[[#This Row],[Column26]]","v":"Partner Development Manager"},"Partner Development Manager","DataBricks","Y","Y","https://www.indeed.com/jobs?q=DataBricks&l=United%20States&start=40&vjk=a2d452acf9b7a7e2"]
[null,"DealerSocket","Infotech - Software","Softward for customer relationship management, digital marketing, inventory management, dealer management systems and data mining solutions in the automotive industry.","Texas, Utah; Wisconsin; California","https://www.dealersocket.com/careers/",749,2001,{"$f":"_xlfn.CONCAT(Table3[[#This Row],[Company]:[Year Founded]]&\" \")","v":"DealerSocket Infotech - Software Softward for customer relationship management, digital marketing, inventory management, dealer management systems and data mining solutions in the automotive industry. Texas, Utah; Wisconsin; California https://www.dealersocket.com/careers/ 749 2001 "},{"$f":"Table3[[#This Row],[Column26]]","v":"Customer Success Manager"},"Customer Success Manager","DealerSocket","NA","N"]
[null,"Delphix","Infotech - Software","SaaS-based platform for application development, cloud migration and data management solutions ","California; Georgia; Massachusetts; Colorado","https://www.delphix.com/company/careers#lever_job",326,2008,{"$f":"_xlfn.CONCAT(Table3[[#This Row],[Company]:[Year Founded]]&\" \")","v":"Delphix Infotech - Software SaaS-based platform for application development, cloud migration and data management solutions  California; Georgia; Massachusetts; Colorado https://www.delphix.com/company/careers#lever_job 326 2008 "},{"$f":"Table3[[#This Row],[Column26]]","v":"Customer Success Manager - West (Remote)"},"Customer Success Manager - West (Remote)","Delphix","Y","Y","https://www.indeed.com/jobs?q=Delphix&l=United%20States&vjk=2957369f68442995"]
[null,"Diligent Corporation","Infotech - Software","Diligent is a workforce management firm that provides online collaboration and document sharing solutions for boards, committees and leadership teams.","New York","https://diligent.com/company/career-listings",760,2001,{"$f":"_xlfn.CONCAT(Table3[[#This Row],[Company]:[Year Founded]]&\" \")","v":"Diligent Corporation Infotech - Software Diligent is a workforce management firm that provides online collaboration and document sharing solutions for boards, committees and leadership teams. New York https://diligent.com/company/career-listings 760 2001 "},{"$f":"Table3[[#This Row],[Column26]]","v":"Client Partner"},"Client Partner","Diligent Corporation","NA","N"]
[null,"DISYS (Digital Intelligence Systems, LLC)","Infotech - Software"," IT staffing, ERP, cloud migration, data analytics and consulting solutions for energy, healthcare and retail sectors.","Virginia; California; Florida; Georgia; North Carolina","https://careers.disys.com/",4300,1994,{"$f":"_xlfn.CONCAT(Table3[[#This Row],[Company]:[Year Founded]]&\" \")","v":"DISYS (Digital Intelligence Systems, LLC) Infotech - Software  IT staffing, ERP, cloud migration, data analytics and consulting solutions for energy, healthcare and retail sectors. Virginia; California; Florida; Georgia; North Carolina https://careers.disys.com/ 4300 1994 "},{"$f":"Table3[[#This Row],[Column26]]","v":"Project Manager"},"Project Manager","DISYS (Digital Intelligence Systems, LLC)","Y","Y","https://www.indeed.com/jobs?q=DISYS%20(Digital%20Intelligence%20Systems%2C%20LLC)&l=United%20States&vjk=1fc3980aff1362b7"]
[null,"DocuSign","InfoTech - Software","Digital transaction management platform for commerical and consumer use. Propriety products include Docu-Sign","California; North Carolina; Illinois; New York; Washington; Toronto","https://www.docusign.com/company/careers",3000,2003,{"$f":"_xlfn.CONCAT(Table3[[#This Row],[Company]:[Year Founded]]&\" \")","v":"DocuSign InfoTech - Software Digital transaction management platform for commerical and consumer use. Propriety products include Docu-Sign California; North Carolina; Illinois; New York; Washington; Toronto https://www.docusign.com/company/careers 3000 2003 "},{"$f":"Table3[[#This Row],[Column26]]","v":"Group Vice President, Customer Success - Americas"},"Group Vice President, Customer Success - Americas","DocuSign","Y","Y","https://www.indeed.com/jobs?q=DocuSign&explvl=senior_level&vjk=d8bc92cbe30e759a"]
[null,"Duda Inc","Infotech - Software","Online platform that provides website building ","California; Colorado","https://www.duda.co/",120,2009,{"$f":"_xlfn.CONCAT(Table3[[#This Row],[Company]:[Year Founded]]&\" \")","v":"Duda Inc Infotech - Software Online platform that provides website building  California; Colorado https://www.duda.co/ 120 2009 "},{"$f":"Table3[[#This Row],[Column26]]","v":"Senior Account Executive"},"Senior Account Executive","Duda Inc","NA","N"]
[null,"Egencia","Infotech - Software","Online platform for travel management ","Washington; Illinois; Mississauga","https://www.egencia.com/en/",493,2002,{"$f":"_xlfn.CONCAT(Table3[[#This Row],[Company]:[Year Founded]]&\" \")","v":"Egencia Infotech - Software Online platform for travel management  Washington; Illinois; Mississauga https://www.egencia.com/en/ 493 2002 "},{"$f":"Table3[[#This Row],[Column26]]","v":"Marketing Manager, Digital Advertising"},"Marketing Manager, Digital Advertising","Egencia","NA","N"]
[null,"Elastic NV","Infotech - Software","Data management and analysis across platforms. Proprietary products include Elasticsearch, Kibana, Beats, and Logstash.","California; Virginia; Georgia; Texas; Massachusetts; Illinois; Colorado; Missouri; Minnesota; Tennessee;; New York; Arizona","https://www.elastic.co/about/careers/",1900,2012,{"$f":"_xlfn.CONCAT(Table3[[#This Row],[Company]:[Year Founded]]&\" \")","v":"Elastic NV Infotech - Software Data management and analysis across platforms. Proprietary products include Elasticsearch, Kibana, Beats, and Logstash. California; Virginia; Georgia; Texas; Massachusetts; Illinois; Colorado; Missouri; Minnesota; Tennessee;; New York; Arizona https://www.elastic.co/about/careers/ 1900 2012 "},{"$f":"Table3[[#This Row],[Column26]]","v":"Customer Marketing Manager"},"Customer Marketing Manager","Elastic NV","NA","N"]
[null,"Electronic Arts","Infotech - Software","Interactive entertainment software. Proprietary products include Sims, Battlefield, and Madden.","Redwood City, CA; Austin, TX; Baton Rouge, LA; Los Angeles, CA; New York, NY; Orlando, FL; Sacramento, CA; Seattle, WA; Charlottetown; Edmonton, CA; Kitchener, CA; Montreal, CA; Vancouver, CA","https://www.ea.com/careers/careers-overview",9700,1982,{"$f":"_xlfn.CONCAT(Table3[[#This Row],[Company]:[Year Founded]]&\" \")","v":"Electronic Arts Infotech - Software Interactive entertainment software. Proprietary products include Sims, Battlefield, and Madden. Redwood City, CA; Austin, TX; Baton Rouge, LA; Los Angeles, CA; New York, NY; Orlando, FL; Sacramento, CA; Seattle, WA; Charlottetown; Edmonton, CA; Kitchener, CA; Montreal, CA; Vancouver, CA https://www.ea.com/careers/careers-overview 9700 1982 "},{"$f":"Table3[[#This Row],[Column26]]","v":"Sr. Manager of Research, Player Support Experience"},"Sr. Manager of Research, Player Support Experience","Electronic Arts","NA","N"]
[null,"Enom","Infotech - Software","Domain name registrar and web hosting company that offers SSL certificates and e-mail services","Toronto; Vancouver; St. Catharine's; California; Remote; Colorado; Virginia; North Carolina","http://www.tucows.com/careers/#jobviteSection",118,1998,{"$f":"_xlfn.CONCAT(Table3[[#This Row],[Company]:[Year Founded]]&\" \")","v":"Enom Infotech - Software Domain name registrar and web hosting company that offers SSL certificates and e-mail services Toronto; Vancouver; St. Catharine's; California; Remote; Colorado; Virginia; North Carolina http://www.tucows.com/careers/#jobviteSection 118 1998 "},{"$f":"Table3[[#This Row],[Column26]]","v":"NA"},"NA","Enom","NA","N"]
[null,"Everbridge","Infotech - Software","SaaS public warning platform for businesses, governments, and healthcare organizations.","Massachusetts; Minneapolis; Virginia; California","https://www.everbridge.com/about/careers/",777,2002,{"$f":"_xlfn.CONCAT(Table3[[#This Row],[Company]:[Year Founded]]&\" \")","v":"Everbridge Infotech - Software SaaS public warning platform for businesses, governments, and healthcare organizations. Massachusetts; Minneapolis; Virginia; California https://www.everbridge.com/about/careers/ 777 2002 "},{"$f":"Table3[[#This Row],[Column26]]","v":"Global Alliance Marketing Director"},"Global Alliance Marketing Director","Everbridge","Y","N"]
[null,"Evercommerce","Infotech - Software","Platform that connects breed technologies and solutions for service sector businesses.","Colorado; Ohio; Indiana; Georgia; Florida; California; Ontario; ","https://www.evercommerce.com/about-us/",55,2017,{"$f":"_xlfn.CONCAT(Table3[[#This Row],[Company]:[Year Founded]]&\" \")","v":"Evercommerce Infotech - Software Platform that connects breed technologies and solutions for service sector businesses. Colorado; Ohio; Indiana; Georgia; Florida; California; Ontario;  https://www.evercommerce.com/about-us/ 55 2017 "},{"$f":"Table3[[#This Row],[Column26]]","v":"Customer Success Manager"},"Customer Success Manager","Evercommerce","Y","N"]
[null,"Examity","Infotech - Software","Web-based platform for student ID verification and online proctoring","Massachusetts","https://examity.com/careers/",1100,2013,{"$f":"_xlfn.CONCAT(Table3[[#This Row],[Company]:[Year Founded]]&\" \")","v":"Examity Infotech - Software Web-based platform for student ID verification and online proctoring Massachusetts https://examity.com/careers/ 1100 2013 "},{"$f":"Table3[[#This Row],[Column26]]","v":"NA"},"NA","Examity","NA","N"]
[null,"Feedonomics","Infotech - Software","Full service product feed platform","California","https://feedonomics.com/join_us_careers/",152,2014,{"$f":"_xlfn.CONCAT(Table3[[#This Row],[Company]:[Year Founded]]&\" \")","v":"Feedonomics Infotech - Software Full service product feed platform California https://feedonomics.com/join_us_careers/ 152 2014 "},{"$f":"Table3[[#This Row],[Column26]]","v":"Marketplace Enterprise Feed Manager"},"Marketplace Enterprise Feed Manager","Feedonomics","NA","N"]
[null,"Figma","InfoTech - Software","Online platform that offers in-browser interface design and prototyping tools for businesses and developers.","California","https://www.figma.com/careers/",150,2012,{"$f":"_xlfn.CONCAT(Table3[[#This Row],[Company]:[Year Founded]]&\" \")","v":"Figma InfoTech - Software Online platform that offers in-browser interface design and prototyping tools for businesses and developers. California https://www.figma.com/careers/ 150 2012 "},{"$f":"Table3[[#This Row],[Column26]]","v":"Strategic Partner Manager"},"Strategic Partner Manager","Figma","NA","N"]
[null,"Fivetran","Infotech - Software","SaaS-based platform that offers automated data integration solutions for analysts.","California; Colorado","https://fivetran.com/careers",350,2012,{"$f":"_xlfn.CONCAT(Table3[[#This Row],[Company]:[Year Founded]]&\" \")","v":"Fivetran Infotech - Software SaaS-based platform that offers automated data integration solutions for analysts. California; Colorado https://fivetran.com/careers 350 2012 "},{"$f":"Table3[[#This Row],[Column26]]","v":"Regional Customer Support Manager"},"Regional Customer Support Manager","Fivetran","NA","N"]
[null,"FLEXE","Infotech - Software","Online portal that enables companies to connect and optimize their commercial warehouse space across seasonal and business cycles.","Washington","https://www.flexe.com/",147,2013,{"$f":"_xlfn.CONCAT(Table3[[#This Row],[Company]:[Year Founded]]&\" \")","v":"FLEXE Infotech - Software Online portal that enables companies to connect and optimize their commercial warehouse space across seasonal and business cycles. Washington https://www.flexe.com/ 147 2013 "},{"$f":"Table3[[#This Row],[Column26]]","v":"Director of Strategic Accounts"},"Director of Strategic Accounts","FLEXE","NA","N"]
[null,"Flyhomes","Infotech - Software","Online real estate brokerage platform ","Washington; Massachusetts; California; Oregon","https://www.flyhomes.com/careers",135,2015,{"$f":"_xlfn.CONCAT(Table3[[#This Row],[Company]:[Year Founded]]&\" \")","v":"Flyhomes Infotech - Software Online real estate brokerage platform  Washington; Massachusetts; California; Oregon https://www.flyhomes.com/careers 135 2015 "},{"$f":"Table3[[#This Row],[Column26]]","v":"Senior Product Manager"},"Senior Product Manager","Flyhomes","Y","Y","https://www.indeed.com/jobs?q=Flyhomes&l=United%20States&vjk=8f7548aaa468e0f4"]
[null,"FormAssembly","Infotech - Software","Online platform for businesses to create their own web forms","Indiana; North Carolina","https://apply.workable.com/formassembly/j/2B3775AF65/",60,2006,{"$f":"_xlfn.CONCAT(Table3[[#This Row],[Company]:[Year Founded]]&\" \")","v":"FormAssembly Infotech - Software Online platform for businesses to create their own web forms Indiana; North Carolina https://apply.workable.com/formassembly/j/2B3775AF65/ 60 2006 "},{"$f":"Table3[[#This Row],[Column26]]","v":"Content Marketing Manager"},"Content Marketing Manager","FormAssembly","NA","N"]
[null,"Freshly","Infotech - Software","Subscription-based, online food delivery platform ","New York; Arizona; Maryland","https://about.freshly.com/",700,2012,{"$f":"_xlfn.CONCAT(Table3[[#This Row],[Company]:[Year Founded]]&\" \")","v":"Freshly Infotech - Software Subscription-based, online food delivery platform  New York; Arizona; Maryland https://about.freshly.com/ 700 2012 "},{"$f":"Table3[[#This Row],[Column26]]","v":"Operations Manager"},"Operations Manager","Freshly","NA","N"]
[null,"Fundrise","Infotech - Software","Online platform that offers investment services to the real estate sector.","Washington","https://fundrise.applytojob.com/apply/bG6pWx/Investments-Associate",131,2012,{"$f":"_xlfn.CONCAT(Table3[[#This Row],[Company]:[Year Founded]]&\" \")","v":"Fundrise Infotech - Software Online platform that offers investment services to the real estate sector. Washington https://fundrise.applytojob.com/apply/bG6pWx/Investments-Associate 131 2012 "},{"$f":"Table3[[#This Row],[Column26]]","v":"NA"},"NA","Fundrise","NA","N"]
[null,"G2","Infotech - Software","A platform to share business software reviews in real-time.","Illinois; California","https://culture.g2.com/careers/open-positions",500,2012,{"$f":"_xlfn.CONCAT(Table3[[#This Row],[Company]:[Year Founded]]&\" \")","v":"G2 Infotech - Software A platform to share business software reviews in real-time. Illinois; California https://culture.g2.com/careers/open-positions 500 2012 "},{"$f":"Table3[[#This Row],[Column26]]","v":"Senior Product Marketing Manager"},"Senior Product Marketing Manager","G2","NA","N"]
[null,"GE Digital","Infotech - Software","Software and IIoT services to power generation, manufacturing, oil & gas, and electric utilities & telecom industries.","California; Washington; Illinois; New Jersey; Ohio; Florida; Virginia; ","https://www.ge.com/digital/",7000,2011,{"$f":"_xlfn.CONCAT(Table3[[#This Row],[Company]:[Year Founded]]&\" \")","v":"GE Digital Infotech - Software Software and IIoT services to power generation, manufacturing, oil & gas, and electric utilities & telecom industries. California; Washington; Illinois; New Jersey; Ohio; Florida; Virginia;  https://www.ge.com/digital/ 7000 2011 "},{"$f":"Table3[[#This Row],[Column26]]","v":"Services Project Manager"},"Services Project Manager","GE Digital","Y","Y","https://www.indeed.com/jobs?q=GE%20Digital&l=United%20States&vjk=03a5fa3ea9b2eb7b"]
[null,"Globant","InfoTech - Software","Software product development, application migration and IT maintenance outsourcing services.","California","https://www.globant.com/careers",11800,2003,{"$f":"_xlfn.CONCAT(Table3[[#This Row],[Company]:[Year Founded]]&\" \")","v":"Globant InfoTech - Software Software product development, application migration and IT maintenance outsourcing services. California https://www.globant.com/careers 11800 2003 "},{"$f":"Table3[[#This Row],[Column26]]","v":"TitleTechnical Project Manager"},"TitleTechnical Project Manager","Globant","NA","N"]
[null,"Grokker","Infotech - Software","Online fitness and wellness platform ","California","https://www.grokker.com/careers",130,2012,{"$f":"_xlfn.CONCAT(Table3[[#This Row],[Company]:[Year Founded]]&\" \")","v":"Grokker Infotech - Software Online fitness and wellness platform  California https://www.grokker.com/careers 130 2012 "},{"$f":"Table3[[#This Row],[Column26]]","v":"NA"},"NA","Grokker","NA","N"]
[null,"Grubhub","Infotech - Software","Online and mobile-based application for ordering food for pick-up from or delivery by local restaurants nationwide.","Illinois; New York","https://careers.grubhub.com/",2700,2004,{"$f":"_xlfn.CONCAT(Table3[[#This Row],[Company]:[Year Founded]]&\" \")","v":"Grubhub Infotech - Software Online and mobile-based application for ordering food for pick-up from or delivery by local restaurants nationwide. Illinois; New York https://careers.grubhub.com/ 2700 2004 "},{"$f":"Table3[[#This Row],[Column26]]","v":"Project Manager"},"Project Manager","Grubhub","Y","Y","https://www.indeed.com/jobs?q=Grubhub&l=United%20States&vjk=b492d2f35d0b4cdf"]
[null,"Guidewire","Infotech - Software","SaaS platform that provides policy administration, underwriting, and data analytics solutions for property and casualty insurers.","California; New York; Massachusetts; Alabama; Illinois; South Carolina; Minnesota; Pennsylvania; Mississauga","https://careers.guidewire.com/job_search?dept=all&loc=all",2300,2001,{"$f":"_xlfn.CONCAT(Table3[[#This Row],[Company]:[Year Founded]]&\" \")","v":"Guidewire Infotech - Software SaaS platform that provides policy administration, underwriting, and data analytics solutions for property and casualty insurers. California; New York; Massachusetts; Alabama; Illinois; South Carolina; Minnesota; Pennsylvania; Mississauga https://careers.guidewire.com/job_search?dept=all&loc=all 2300 2001 "},{"$f":"Table3[[#This Row],[Column26]]","v":"Director, Technology Enablement"},"Director, Technology Enablement","Guidewire","NA","Y","https://www.indeed.com/jobs?q=Guidewire&l=United%20States&vjk=fa4a0ab9db3f3e6d"]
[null,"Hiya","InfoTech - Software","Voice performance platform to authenticate callers","Washington; New York","https://hiya.com/careers",100,2016,{"$f":"_xlfn.CONCAT(Table3[[#This Row],[Company]:[Year Founded]]&\" \")","v":"Hiya InfoTech - Software Voice performance platform to authenticate callers Washington; New York https://hiya.com/careers 100 2016 "},{"$f":"Table3[[#This Row],[Column26]]","v":"Strategic Account Executive"},"Strategic Account Executive","Hiya","NA","N"]
[null,"Hometap","Infotech - Software","Online platform for real estate investment services","Massachusetts","https://www.hometap.com/careers/#job-postings",30,2017,{"$f":"_xlfn.CONCAT(Table3[[#This Row],[Company]:[Year Founded]]&\" \")","v":"Hometap Infotech - Software Online platform for real estate investment services Massachusetts https://www.hometap.com/careers/#job-postings 30 2017 "},{"$f":"Table3[[#This Row],[Column26]]","v":"Growth Marketing Manager, SEO/SEM"},"Growth Marketing Manager, SEO/SEM","Hometap","NA","N"]
[null,"HopSkipDrive","Infotech - Software","Mobile-based application for parents to hire transportation services for their children. ","California","https://www.hopskipdrive.com/careers/",80,2014,{"$f":"_xlfn.CONCAT(Table3[[#This Row],[Company]:[Year Founded]]&\" \")","v":"HopSkipDrive Infotech - Software Mobile-based application for parents to hire transportation services for their children.  California https://www.hopskipdrive.com/careers/ 80 2014 "},{"$f":"Table3[[#This Row],[Column26]]","v":"Implementation and Operations Manager"},"Implementation and Operations Manager","HopSkipDrive","NA","N"]
[null,"HumanInterest","Infotech - Software","Automated retirement savings plans ","California","https://humaninterest.com/careers#jobOpenings",100,2015,{"$f":"_xlfn.CONCAT(Table3[[#This Row],[Company]:[Year Founded]]&\" \")","v":"HumanInterest Infotech - Software Automated retirement savings plans  California https://humaninterest.com/careers#jobOpenings 100 2015 "},{"$f":"Table3[[#This Row],[Column26]]","v":"Senior Manager, Customer Success Support"},"Senior Manager, Customer Success Support","HumanInterest","Y","Y","https://www.indeed.com/jobs?q=HumanInterest&l=United%20States&vjk=6abfd2721abdb020"]
[null,"Immuta","Infotech - Software","Data management platform to optimize the development and control of machine learning and advanced analytics.","Maryland; Massachusetts; Ohio","https://www.immuta.com/careers/",70,2015,{"$f":"_xlfn.CONCAT(Table3[[#This Row],[Company]:[Year Founded]]&\" \")","v":"Immuta Infotech - Software Data management platform to optimize the development and control of machine learning and advanced analytics. Maryland; Massachusetts; Ohio https://www.immuta.com/careers/ 70 2015 "},{"$f":"Table3[[#This Row],[Column26]]","v":"Customer Success Manager"},"Customer Success Manager","Immuta","NA","Y","https://www.indeed.com/jobs?l=United%20States&q=Whoop&noci=1&vjk=1d9b79d564280121"]
[null,"Incipio Group","InfoTech - Software","Consumer technology platform","California","http://jobs.incipio.com/",375,1999,{"$f":"_xlfn.CONCAT(Table3[[#This Row],[Company]:[Year Founded]]&\" \")","v":"Incipio Group InfoTech - Software Consumer technology platform California http://jobs.incipio.com/ 375 1999 "},{"$f":"Table3[[#This Row],[Column26]]","v":"Product Program Manager"},"Product Program Manager","Incipio Group","Y","N"]
[null,"Infoscout","Infotech - Software","Real-time omnichannel behavioral insights ","California","https://www.numerator.com/join-our-team",119,2011,{"$f":"_xlfn.CONCAT(Table3[[#This Row],[Company]:[Year Founded]]&\" \")","v":"Infoscout Infotech - Software Real-time omnichannel behavioral insights  California https://www.numerator.com/join-our-team 119 2011 "},{"$f":"Table3[[#This Row],[Column26]]","v":"Associate Product Marketing Manager"},"Associate Product Marketing Manager","Infoscout","NA","N"]
[null,"Infotech Partners","Infotech - Software","IT design and support services for the manufacturing, distribution, retail, nonprofit and health fields.","California; Illinois","http://www.itpnet.com/",45,1991,{"$f":"_xlfn.CONCAT(Table3[[#This Row],[Company]:[Year Founded]]&\" \")","v":"Infotech Partners Infotech - Software IT design and support services for the manufacturing, distribution, retail, nonprofit and health fields. California; Illinois http://www.itpnet.com/ 45 1991 "},{"$f":"Table3[[#This Row],[Column26]]","v":"NA"},"NA","Infotech Partners","NA","N"]
[null,"Innovaccer","Infotech - Software","Platform for referral and population management solutions for hospitals.","California; Texas; New York","https://www.innovaccer.com/careers/",625,2014,{"$f":"_xlfn.CONCAT(Table3[[#This Row],[Company]:[Year Founded]]&\" \")","v":"Innovaccer Infotech - Software Platform for referral and population management solutions for hospitals. California; Texas; New York https://www.innovaccer.com/careers/ 625 2014 "},{"$f":"Table3[[#This Row],[Column26]]","v":"Managing Director - Corporate Development"},"Managing Director - Corporate Development","Innovaccer","NA","N"]
[null,"Inpher","Infotech - Software","Online platforms and frameworks to build applications for encrypted cloud data.","New York","https://www.inpher.io/careers#apply",20,2015,{"$f":"_xlfn.CONCAT(Table3[[#This Row],[Company]:[Year Founded]]&\" \")","v":"Inpher Infotech - Software Online platforms and frameworks to build applications for encrypted cloud data. New York https://www.inpher.io/careers#apply 20 2015 "},{"$f":"Table3[[#This Row],[Column26]]","v":"NA"},"NA","Inpher","NA","N"]
[null,"InterSystems","Infotech - Software","Software systems and technology for database management, application development, integration, and healthcare information systems.","Massachusetts; New York","https://www.intersystems.com/who-we-are/careers/careers-search/",1468,1978,{"$f":"_xlfn.CONCAT(Table3[[#This Row],[Company]:[Year Founded]]&\" \")","v":"InterSystems Infotech - Software Software systems and technology for database management, application development, integration, and healthcare information systems. Massachusetts; New York https://www.intersystems.com/who-we-are/careers/careers-search/ 1468 1978 "},{"$f":"Table3[[#This Row],[Column26]]","v":"Project Manager"},"Project Manager","InterSystems","NA","N"]
[null,"J2 Global","Infotech - Software","Email marketing, online backup, web hosting, unified communication and digital media services","California; North Carolina; Texas; Illinois; Colorado; Florida; Virginia; Massachusetts; Tennessee; New York; Arizona; Washington; Pennsylvania; Burnaby; Montreal; Nanaimo; Ottawa","https://www.j2global.com/careers/",2500,1995,{"$f":"_xlfn.CONCAT(Table3[[#This Row],[Company]:[Year Founded]]&\" \")","v":"J2 Global Infotech - Software Email marketing, online backup, web hosting, unified communication and digital media services California; North Carolina; Texas; Illinois; Colorado; Florida; Virginia; Massachusetts; Tennessee; New York; Arizona; Washington; Pennsylvania; Burnaby; Montreal; Nanaimo; Ottawa https://www.j2global.com/careers/ 2500 1995 "},{"$f":"Table3[[#This Row],[Column26]]","v":"Content Marketing Manager"},"Content Marketing Manager","J2 Global","Y","N"]
[null,"Jamf","Infotech - Software","Mac, iPad, iPhone and Apple TV management ","Minnesota; Texas; California; Wisconsin; New York","https://recruit.hirebridge.com/v3/CareerCenter/v2/?cid=7883",1300,2017,{"$f":"_xlfn.CONCAT(Table3[[#This Row],[Company]:[Year Founded]]&\" \")","v":"Jamf Infotech - Software Mac, iPad, iPhone and Apple TV management  Minnesota; Texas; California; Wisconsin; New York https://recruit.hirebridge.com/v3/CareerCenter/v2/?cid=7883 1300 2017 "},{"$f":"Table3[[#This Row],[Column26]]","v":"NA"},"NA","Jamf","NA","N"]
[null,"JFrog","Infotech - Software","Binary repository management solution for software developers. ","California; Georgia; Washington","https://join.jfrog.com/?office=sunnyvale-us&department=0",590,2008,{"$f":"_xlfn.CONCAT(Table3[[#This Row],[Company]:[Year Founded]]&\" \")","v":"JFrog Infotech - Software Binary repository management solution for software developers.  California; Georgia; Washington https://join.jfrog.com/?office=sunnyvale-us&department=0 590 2008 "},{"$f":"Table3[[#This Row],[Column26]]","v":"Customer Success Manager"},"Customer Success Manager","JFrog","NA","N"]
[null,"Jobber","Infotech - Software","SaaS for small home service businesses","Edmonton; Toronto","https://getjobber.com/about/careers/",205,2011,{"$f":"_xlfn.CONCAT(Table3[[#This Row],[Company]:[Year Founded]]&\" \")","v":"Jobber Infotech - Software SaaS for small home service businesses Edmonton; Toronto https://getjobber.com/about/careers/ 205 2011 "},{"$f":"Table3[[#This Row],[Column26]]","v":"Manager, Product Marketing"},"Manager, Product Marketing","Jobber","NA","N"]
[null,"Kaios Technologies","Infotech - Software","Linux-based mobile operating system that allows users to access 4G LTE, GPS and Wi-Fi services.","California","https://www.kaiostech.com/company/work-for-us/",115,2016,{"$f":"_xlfn.CONCAT(Table3[[#This Row],[Company]:[Year Founded]]&\" \")","v":"Kaios Technologies Infotech - Software Linux-based mobile operating system that allows users to access 4G LTE, GPS and Wi-Fi services. California https://www.kaiostech.com/company/work-for-us/ 115 2016 "},{"$f":"Table3[[#This Row],[Column26]]","v":"Product Manager"},"Product Manager","Kaios Technologies","NA","N"]
[null,"Kaseya","Infotech - Software","Infrastructure management solutions for managed service providers and internal IT organizations.","New York; Nevada; Florida; California; New Jersey; Arizona","https://www.kaseya.com/careers/#job-feed",1100,2000,{"$f":"_xlfn.CONCAT(Table3[[#This Row],[Company]:[Year Founded]]&\" \")","v":"Kaseya Infotech - Software Infrastructure management solutions for managed service providers and internal IT organizations. New York; Nevada; Florida; California; New Jersey; Arizona https://www.kaseya.com/careers/#job-feed 1100 2000 "},{"$f":"Table3[[#This Row],[Column26]]","v":"NA"},"NA","Kaseya","NA","N"]
[null,"Kinetica","Infotech - Software","In-memory analytics database that delivers real-time actionable intelligence on complex and streaming data sets. ","California; Virginia","https://www.kinetica.com/careers/",140,2016,{"$f":"_xlfn.CONCAT(Table3[[#This Row],[Company]:[Year Founded]]&\" \")","v":"Kinetica Infotech - Software In-memory analytics database that delivers real-time actionable intelligence on complex and streaming data sets.  California; Virginia https://www.kinetica.com/careers/ 140 2016 "},{"$f":"Table3[[#This Row],[Column26]]","v":"NA"},"NA","Kinetica","Y","N"]
[null,"Klara Systems, Inc.","Infotech - Software","Custom system design and development services for IT","California; Ontario","https://klarasystems.com/careers/",5,2018,{"$f":"_xlfn.CONCAT(Table3[[#This Row],[Company]:[Year Founded]]&\" \")","v":"Klara Systems, Inc. Infotech - Software Custom system design and development services for IT California; Ontario https://klarasystems.com/careers/ 5 2018 "},{"$f":"Table3[[#This Row],[Column26]]","v":"NA"},"NA","Klara Systems, Inc.","NA","N","https://www.indeed.com/jobs?q=Klara%20Systems%2C%20Inc.&l=United%20States&vjk=395f2d06d57884f3"]
[null,"Koho","Infotech - Software","Mobile current account with an integrated app and reloadable credit card","Toronto","https://www.koho.ca/careers/",94,2014,{"$f":"_xlfn.CONCAT(Table3[[#This Row],[Company]:[Year Founded]]&\" \")","v":"Koho Infotech - Software Mobile current account with an integrated app and reloadable credit card Toronto https://www.koho.ca/careers/ 94 2014 "},{"$f":"Table3[[#This Row],[Column26]]","v":"Director, Product Management (Growth) - Remote"},"Director, Product Management (Growth) - Remote","Koho","NA","N"]
[null,"Landing","Infotech - Software","Online network to find and rent apartments across the U.s.","California","https://landing.ai/careers/",10,2019,{"$f":"_xlfn.CONCAT(Table3[[#This Row],[Company]:[Year Founded]]&\" \")","v":"Landing Infotech - Software Online network to find and rent apartments across the U.s. California https://landing.ai/careers/ 10 2019 "},{"$f":"Table3[[#This Row],[Column26]]","v":"Senior Account Executive"},"Senior Account Executive","Landing","NA","N"]
[null,"LeanData","Infotech - Software","Enterprise revenue ops solutions for B2B. ","California","https://www.leandata.com/careers/",180,2012,{"$f":"_xlfn.CONCAT(Table3[[#This Row],[Company]:[Year Founded]]&\" \")","v":"LeanData Infotech - Software Enterprise revenue ops solutions for B2B.  California https://www.leandata.com/careers/ 180 2012 "},{"$f":"Table3[[#This Row],[Column26]]","v":"Customer Success Enablement Manager"},"Customer Success Enablement Manager","LeanData","NA","N"]
[null,"LeewayHertz","Infotech - Software","Digital products for startups, small-medium companies, including app development and blockchain management","California; Illinois","https://www.leewayhertz.com/careers/",143,2007,{"$f":"_xlfn.CONCAT(Table3[[#This Row],[Company]:[Year Founded]]&\" \")","v":"LeewayHertz Infotech - Software Digital products for startups, small-medium companies, including app development and blockchain management California; Illinois https://www.leewayhertz.com/careers/ 143 2007 "},{"$f":"Table3[[#This Row],[Column26]]","v":"NA"},"NA","LeewayHertz","NA","N"]
[null,"Lessonly","Infotech - Software","Learning management system for employee training.","Indiana","https://www.lessonly.com/hiring/",103,2012,{"$f":"_xlfn.CONCAT(Table3[[#This Row],[Company]:[Year Founded]]&\" \")","v":"Lessonly Infotech - Software Learning management system for employee training. Indiana https://www.lessonly.com/hiring/ 103 2012 "},{"$f":"Table3[[#This Row],[Column26]]","v":"Senior Customer Success Manager I"},"Senior Customer Success Manager I","Lessonly","NA","N"]
[null,"Llamasoft","Infotech - Software","Supply chain modeling software for commerical network and inventory strategies, simulation and optimization service.","Ann Arbor, Michigan","https://llamasoft.com/company/careers/",750,1998,{"$f":"_xlfn.CONCAT(Table3[[#This Row],[Company]:[Year Founded]]&\" \")","v":"Llamasoft Infotech - Software Supply chain modeling software for commerical network and inventory strategies, simulation and optimization service. Ann Arbor, Michigan https://llamasoft.com/company/careers/ 750 1998 "},{"$f":"Table3[[#This Row],[Column26]]","v":"Customer Value Director"},"Customer Value Director","Llamasoft","Y","N"]
[null,"LogRhytm","Infotech - Software","Log management, security information and event management","Colorado","https://logrhythm.com/about/careers/",551,2003,{"$f":"_xlfn.CONCAT(Table3[[#This Row],[Company]:[Year Founded]]&\" \")","v":"LogRhytm Infotech - Software Log management, security information and event management Colorado https://logrhythm.com/about/careers/ 551 2003 "},{"$f":"Table3[[#This Row],[Column26]]","v":"Marketing Communications Manager"},"Marketing Communications Manager","LogRhytm","Y","N"]
[null,"Lucidchart","InfoTech - Software","Visual productivity platform","Utah","https://www.golucid.co/careers",600,2008,{"$f":"_xlfn.CONCAT(Table3[[#This Row],[Company]:[Year Founded]]&\" \")","v":"Lucidchart InfoTech - Software Visual productivity platform Utah https://www.golucid.co/careers 600 2008 "},{"$f":"Table3[[#This Row],[Column26]]","v":"Customer Success Senior Manager"},"Customer Success Senior Manager","Lucidchart","NA","N"]
[null,"Lyft","Infotech - Software","Rideshare and delivery platform","California","https://www.lyft.com/careers",5000,2012,{"$f":"_xlfn.CONCAT(Table3[[#This Row],[Company]:[Year Founded]]&\" \")","v":"Lyft Infotech - Software Rideshare and delivery platform California https://www.lyft.com/careers 5000 2012 "},{"$f":"Table3[[#This Row],[Column26]]","v":"Director of Business Growth Marketing"},"Director of Business Growth Marketing","Lyft","Y","Y","https://www.indeed.com/jobs?q=Lyft&l=United%20States&vjk=e261b686cd759cd2"]
[null,"Manhattan Associates","Infotech - Software","Supply chain commerce solutions. ","Georgia","https://www.manh.com/about-us/careers",3400,1990,{"$f":"_xlfn.CONCAT(Table3[[#This Row],[Company]:[Year Founded]]&\" \")","v":"Manhattan Associates Infotech - Software Supply chain commerce solutions.  Georgia https://www.manh.com/about-us/careers 3400 1990 "},{"$f":"Table3[[#This Row],[Column26]]","v":"Senior Product Marketing Manager, Supply Chain Software (REMOTE)"},"Senior Product Marketing Manager, Supply Chain Software (REMOTE)","Manhattan Associates","NA","N"]
[null,"Mavenlink","Infotech - Software","Collaborative platform for operational and financial performance in the services sector","California; Massachusetts; Utah","https://www.mavenlink.com/careers",400,2008,{"$f":"_xlfn.CONCAT(Table3[[#This Row],[Company]:[Year Founded]]&\" \")","v":"Mavenlink Infotech - Software Collaborative platform for operational and financial performance in the services sector California; Massachusetts; Utah https://www.mavenlink.com/careers 400 2008 "},{"$f":"Table3[[#This Row],[Column26]]","v":"Client Success Manager"},"Client Success Manager","Mavenlink","NA","N"]
[null,"McorpCX","Infotech - Software","SaaS-based platform for customer experience management in retail, healthcare and insurance sectors","California; North Carolina; Vancouver","https://www.mcorpcx.com/about/careers",6,2002,{"$f":"_xlfn.CONCAT(Table3[[#This Row],[Company]:[Year Founded]]&\" \")","v":"McorpCX Infotech - Software SaaS-based platform for customer experience management in retail, healthcare and insurance sectors California; North Carolina; Vancouver https://www.mcorpcx.com/about/careers 6 2002 "},{"$f":"Table3[[#This Row],[Column26]]","v":"Customer Experience Project Manager"},"Customer Experience Project Manager","McorpCX","Y","Y","https://www.indeed.com/jobs?q=McorpCX&l=United%20States&vjk=4069c6cfbe095504"]
[null,"Mongo DB","InfoTech - Software","Open-source database that provides management platform for automating, monitoring and backing up deployments.","New York; Georgia; Texas; Washington; Massachusetts; California; Minnesota; Illinois; Pennsylvania; Virginia; Florida; Toronto; Vancouver","https://www.mongodb.com/careers/departments/marketing",1200,2007,{"$f":"_xlfn.CONCAT(Table3[[#This Row],[Company]:[Year Founded]]&\" \")","v":"Mongo DB InfoTech - Software Open-source database that provides management platform for automating, monitoring and backing up deployments. New York; Georgia; Texas; Washington; Massachusetts; California; Minnesota; Illinois; Pennsylvania; Virginia; Florida; Toronto; Vancouver https://www.mongodb.com/careers/departments/marketing 1200 2007 "},{"$f":"Table3[[#This Row],[Column26]]","v":"Senior Growth Marketing Manager, Retention"},"Senior Growth Marketing Manager, Retention","Mongo DB","Y","N"]
[null,"Morning Consult","Infotech - Software","SaaS-based platform for data insights and market research","Washington; California; Illinois; New York","https://morningconsult.com/company/careers/#job-listings",100,2014,{"$f":"_xlfn.CONCAT(Table3[[#This Row],[Company]:[Year Founded]]&\" \")","v":"Morning Consult Infotech - Software SaaS-based platform for data insights and market research Washington; California; Illinois; New York https://morningconsult.com/company/careers/#job-listings 100 2014 "},{"$f":"Table3[[#This Row],[Column26]]","v":"Senior Marketing Manager, Customer"},"Senior Marketing Manager, Customer","Morning Consult","NA","N"]
[null,"NGINX - Software","Infotech - Software","Open source web server that provides load balancing, end-to-end encryption, API management and cloud computing solutions.","California","https://www.nginx.com/careers/",150,2011,{"$f":"_xlfn.CONCAT(Table3[[#This Row],[Company]:[Year Founded]]&\" \")","v":"NGINX - Software Infotech - Software Open source web server that provides load balancing, end-to-end encryption, API management and cloud computing solutions. California https://www.nginx.com/careers/ 150 2011 "},{"$f":"Table3[[#This Row],[Column26]]","v":"NA"},"NA","NGINX - Software","NA","N"]
[null,"NICE Systems, inc","Infotech - Software","Software to improve the customer experience, address cyber attacks, and prevent financial crime and manage compliance.","New Jersey","https://www.nice.com/careers/find-a-job/District-Sales-Manager-oSzJcfw6-1",6000,1986,{"$f":"_xlfn.CONCAT(Table3[[#This Row],[Company]:[Year Founded]]&\" \")","v":"NICE Systems, inc Infotech - Software Software to improve the customer experience, address cyber attacks, and prevent financial crime and manage compliance. New Jersey https://www.nice.com/careers/find-a-job/District-Sales-Manager-oSzJcfw6-1 6000 1986 "},{"$f":"Table3[[#This Row],[Column26]]","v":"Customer Success Manager"},"Customer Success Manager","NICE Systems, inc","Y","Y","https://www.indeed.com/jobs?q=NICE%20Systems%2C%20inc&explvl=senior_level&vjk=a9778e0217c7b6d8"]
[null,"Nitro","Infotech - Software","Digital document production software to create, edit, convert and save PDF documents.","California","https://www.gonitro.com/about/careers",123,2005,{"$f":"_xlfn.CONCAT(Table3[[#This Row],[Company]:[Year Founded]]&\" \")","v":"Nitro Infotech - Software Digital document production software to create, edit, convert and save PDF documents. California https://www.gonitro.com/about/careers 123 2005 "},{"$f":"Table3[[#This Row],[Column26]]","v":"Senior Product Marketing Manager"},"Senior Product Marketing Manager","Nitro","NA","N"]
[null,"Notion","Artificial Intelligence","Notion Labs is a company developing a note-taking application with markdown support that integrates tasks, wikis, and databases. ","California, New York","https://www.notion.so/careers",350,2013,{"$f":"_xlfn.CONCAT(Table3[[#This Row],[Company]:[Year Founded]]&\" \")","v":"Notion Artificial Intelligence Notion Labs is a company developing a note-taking application with markdown support that integrates tasks, wikis, and databases.  California, New York https://www.notion.so/careers 350 2013 "},null,null,null,"NA","N"]
[null,"NYSHEX","Infotech - Software","Digital platform that connects shippers with their ocean carriers","New York","https://www.nyshex.com/company/careers",52,2015,{"$f":"_xlfn.CONCAT(Table3[[#This Row],[Company]:[Year Founded]]&\" \")","v":"NYSHEX Infotech - Software Digital platform that connects shippers with their ocean carriers New York https://www.nyshex.com/company/careers 52 2015 "},{"$f":"Table3[[#This Row],[Column26]]","v":"Lead Project Manager"},"Lead Project Manager","NYSHEX","NA","N"]
[null,"Okta Inc","Infotech - Software","Software that manages access and identity.","California; Washington; Illinois","https://www.okta.com/company/careers/#careers-job-postings",6100,2009,{"$f":"_xlfn.CONCAT(Table3[[#This Row],[Company]:[Year Founded]]&\" \")","v":"Okta Inc Infotech - Software Software that manages access and identity. California; Washington; Illinois https://www.okta.com/company/careers/#careers-job-postings 6100 2009 "},{"$f":"Table3[[#This Row],[Column26]]","v":"Customer Success Manager - Central"},"Customer Success Manager - Central","Okta Inc","Y","N"]
[null,"OneCause","Infotech - Software","Mobile bidding, online auction and fundraising software products for non-profits","Indiana","https://onecause.hirecentric.com/jobs/",100,2007,{"$f":"_xlfn.CONCAT(Table3[[#This Row],[Company]:[Year Founded]]&\" \")","v":"OneCause Infotech - Software Mobile bidding, online auction and fundraising software products for non-profits Indiana https://onecause.hirecentric.com/jobs/ 100 2007 "},{"$f":"Table3[[#This Row],[Column26]]","v":"Customer Success Manager"},"Customer Success Manager","OneCause","Y","N"]
[null,"OneStream Software","Infotech - Software","Online platform for account reconciliation, planning, budgeting, tax provision and financial data quality","Michigan;Georgia;Connecticut","https://www.onestreamsoftware.com/about/careers",522,2010,{"$f":"_xlfn.CONCAT(Table3[[#This Row],[Company]:[Year Founded]]&\" \")","v":"OneStream Software Infotech - Software Online platform for account reconciliation, planning, budgeting, tax provision and financial data quality Michigan;Georgia;Connecticut https://www.onestreamsoftware.com/about/careers 522 2010 "},{"$f":"Table3[[#This Row],[Column26]]","v":"Customer Success Manager  "},"Customer Success Manager  ","OneStream Software","NA","N"]
[null,"Onit","InfoTech - Software","Software for project collaboration, business process automation and information management","Texas","https://www.onit.com/about/careers/",162,2010,{"$f":"_xlfn.CONCAT(Table3[[#This Row],[Company]:[Year Founded]]&\" \")","v":"Onit InfoTech - Software Software for project collaboration, business process automation and information management Texas https://www.onit.com/about/careers/ 162 2010 "},{"$f":"Table3[[#This Row],[Column26]]","v":"Customer Success Manager"},"Customer Success Manager","Onit","NA","N"]
[null,"OpsGenie","Infotech - Software","Incident management platform that allows users to manage on-call schedule, track and analyze response activities.","Massachusetts; Virginia","https://www.atlassian.com/company/careers/all-jobs?team=&location=New%20York%2CSan%20Francisco%2CAustin%2CMountain%20View%2CGeorgetown%2CBoston&search=",174,2012,{"$f":"_xlfn.CONCAT(Table3[[#This Row],[Company]:[Year Founded]]&\" \")","v":"OpsGenie Infotech - Software Incident management platform that allows users to manage on-call schedule, track and analyze response activities. Massachusetts; Virginia https://www.atlassian.com/company/careers/all-jobs?team=&location=New%20York%2CSan%20Francisco%2CAustin%2CMountain%20View%2CGeorgetown%2CBoston&search= 174 2012 "},{"$f":"Table3[[#This Row],[Column26]]","v":"Strategy and Business Operations Principal, Customer Experience"},"Strategy and Business Operations Principal, Customer Experience","OpsGenie","NA","N"]
[null,"Palantir","Infotech - Software","Data management, revenue optimization and spatial frameworks solutions for businesses.","California; New York; Washington; DC; Ottawa","http://www.palantir.com/careers/",2500,2004,{"$f":"_xlfn.CONCAT(Table3[[#This Row],[Company]:[Year Founded]]&\" \")","v":"Palantir Infotech - Software Data management, revenue optimization and spatial frameworks solutions for businesses. California; New York; Washington; DC; Ottawa http://www.palantir.com/careers/ 2500 2004 "},{"$f":"Table3[[#This Row],[Column26]]","v":"Channel Partner Manager "},"Channel Partner Manager ","Palantir","NA","N"]
[null,"Passport","Infotech - Software","Mobile-based application for integrated parking and permit management","North Carolina","https://workforcenow.adp.com/mascsr/default/mdf/recruitment/recruitment.html?cid=defb40d0-f2ac-46a8-a5c8-84f563616cc8&ccId=19000101_000001&lang=en_US",218,2010,{"$f":"_xlfn.CONCAT(Table3[[#This Row],[Company]:[Year Founded]]&\" \")","v":"Passport Infotech - Software Mobile-based application for integrated parking and permit management North Carolina https://workforcenow.adp.com/mascsr/default/mdf/recruitment/recruitment.html?cid=defb40d0-f2ac-46a8-a5c8-84f563616cc8&ccId=19000101_000001&lang=en_US 218 2010 "},{"$f":"Table3[[#This Row],[Column26]]","v":"Manager, Proposal Operations"},"Manager, Proposal Operations","Passport","NA","N"]
[null,"Pendo","Infotech - Software","A company that provides an integrated platform for digital product teams. ","North Carolina; California; New York","https://www.pendo.io/careers/",461,2013,{"$f":"_xlfn.CONCAT(Table3[[#This Row],[Company]:[Year Founded]]&\" \")","v":"Pendo Infotech - Software A company that provides an integrated platform for digital product teams.  North Carolina; California; New York https://www.pendo.io/careers/ 461 2013 "},{"$f":"Table3[[#This Row],[Column26]]","v":"Sales Operations Manager"},"Sales Operations Manager","Pendo","NA","Y","https://www.indeed.com/jobs?q=Pendo&l=United%20States&vjk=514a769bae422f8f"]
[null,"People.ai","Artificial Intelligence","Revenue intelligence platform that offers data analytics, contact filtering and lead conversion","California; Georgia; New York","https://people.ai/careers/",177,2016,{"$f":"_xlfn.CONCAT(Table3[[#This Row],[Company]:[Year Founded]]&\" \")","v":"People.ai Artificial Intelligence Revenue intelligence platform that offers data analytics, contact filtering and lead conversion California; Georgia; New York https://people.ai/careers/ 177 2016 "},{"$f":"Table3[[#This Row],[Column26]]","v":"Customer Success Manager"},"Customer Success Manager","People.ai","Y","Y","https://www.indeed.com/jobs?q=People.ai&l=United%20States&vjk=34642bbfa49d04c7"]
[null,"PlayVs","Infotech - Software","Online eSports league platform that facilitates high school interschool championship tournaments.","California","https://www.playvs.com/careers",75,2017,{"$f":"_xlfn.CONCAT(Table3[[#This Row],[Company]:[Year Founded]]&\" \")","v":"PlayVs Infotech - Software Online eSports league platform that facilitates high school interschool championship tournaments. California https://www.playvs.com/careers 75 2017 "},{"$f":"Table3[[#This Row],[Column26]]","v":"Marketing Manager"},"Marketing Manager","PlayVs","NA","N"]
[null,"Progress","Infotech - Software","Software for enterprise integration, data interoperability and application development.","Massachusetts; Georgia; Wisconsin; North Carolina; Michigan; California","https://www.progress.com/company/careers",1500,1981,{"$f":"_xlfn.CONCAT(Table3[[#This Row],[Company]:[Year Founded]]&\" \")","v":"Progress Infotech - Software Software for enterprise integration, data interoperability and application development. Massachusetts; Georgia; Wisconsin; North Carolina; Michigan; California https://www.progress.com/company/careers 1500 1981 "},{"$f":"Table3[[#This Row],[Column26]]","v":"Digital Marketing Manager "},"Digital Marketing Manager ","Progress","NA","N"]
[null,"PTC","Infotech - Software","2D and 3D design software for lifecycle management and service management solutions.","Massachusetts; Ohio, New Mexico; Georgia; Florida; Minnesota; California; New Jersey; Pennsylvania; Virginia; Michigan, New York; Maine; Arizona; Illinois; Montreal; Trois-Rivières","https://careers.ptc.com/TGnewUI/Search/Home/Home?partnerid=2&siteid=5213#keyWordSearch=manager&locationSearch=&Region=The%20Americas",6000,1985,{"$f":"_xlfn.CONCAT(Table3[[#This Row],[Company]:[Year Founded]]&\" \")","v":"PTC Infotech - Software 2D and 3D design software for lifecycle management and service management solutions. Massachusetts; Ohio, New Mexico; Georgia; Florida; Minnesota; California; New Jersey; Pennsylvania; Virginia; Michigan, New York; Maine; Arizona; Illinois; Montreal; Trois-Rivières https://careers.ptc.com/TGnewUI/Search/Home/Home?partnerid=2&siteid=5213#keyWordSearch=manager&locationSearch=&Region=The%20Americas 6000 1985 "},{"$f":"Table3[[#This Row],[Column26]]","v":"Product Marketing Manager"},"Product Marketing Manager","PTC","Y","Y","https://www.indeed.com/jobs?q=PTC&l=United%20States&start=20&vjk=fa9983915c9cc390"]
[null,"QOS Networks","Infotech - Software","Edge tech enabled services","California","https://qosnet.com/careers/",58,2004,{"$f":"_xlfn.CONCAT(Table3[[#This Row],[Company]:[Year Founded]]&\" \")","v":"QOS Networks Infotech - Software Edge tech enabled services California https://qosnet.com/careers/ 58 2004 "},{"$f":"Table3[[#This Row],[Column26]]","v":"Customer Success Manager"},"Customer Success Manager","QOS Networks","NA","N"]
[null,"Qualia","Infotech - Software","Online platform for  real estate transaction management ","California; Texas","https://www.qualia.com/jobs/",24,2015,{"$f":"_xlfn.CONCAT(Table3[[#This Row],[Company]:[Year Founded]]&\" \")","v":"Qualia Infotech - Software Online platform for  real estate transaction management  California; Texas https://www.qualia.com/jobs/ 24 2015 "},{"$f":"Table3[[#This Row],[Column26]]","v":"Lender Customer Success Manager"},"Lender Customer Success Manager","Qualia","Y","Y","https://www.indeed.com/jobs?q=Qualia&l=United%20States&vjk=f38e28fd15ceba93"]
[null,"Qualtrics","Infotech - Software"," SaaS-based survey platform that provides data collection and analysis services","Utah; Massachusetts; Illinois; New York; Texas; North Carolina; Washington; DC; Georgia; Colorado; California","https://www.qualtrics.com/careers/us/en",3300,2002,{"$f":"_xlfn.CONCAT(Table3[[#This Row],[Company]:[Year Founded]]&\" \")","v":"Qualtrics Infotech - Software  SaaS-based survey platform that provides data collection and analysis services Utah; Massachusetts; Illinois; New York; Texas; North Carolina; Washington; DC; Georgia; Colorado; California https://www.qualtrics.com/careers/us/en 3300 2002 "},{"$f":"Table3[[#This Row],[Column26]]","v":"Enterprise Account Executive"},"Enterprise Account Executive","Qualtrics","Y","N"]
[null,"Quantum Metric, Inc","Infotech - Software"," SaaS-based real-time digital experience analytics solutions ","Colorado; Maryland; Illinois; California","https://www.quantummetric.com/careers/#lever-jobs-container",129,2011,{"$f":"_xlfn.CONCAT(Table3[[#This Row],[Company]:[Year Founded]]&\" \")","v":"Quantum Metric, Inc Infotech - Software  SaaS-based real-time digital experience analytics solutions  Colorado; Maryland; Illinois; California https://www.quantummetric.com/careers/#lever-jobs-container 129 2011 "},{"$f":"Table3[[#This Row],[Column26]]","v":"Customer Success Business Consultant - Central"},"Customer Success Business Consultant - Central","Quantum Metric, Inc","NA","N"]
[null,"Quid","InfoTech - Software","A private software and services company, specializing in text-based data analysis","California; new York","https://boards.greenhouse.io/quid",138,2007,{"$f":"_xlfn.CONCAT(Table3[[#This Row],[Company]:[Year Founded]]&\" \")","v":"Quid InfoTech - Software A private software and services company, specializing in text-based data analysis California; new York https://boards.greenhouse.io/quid 138 2007 "},{"$f":"Table3[[#This Row],[Column26]]","v":"Director Product Marketing"},"Director Product Marketing","Quid","NA","N"]
[null,"Radius Networks, Inc","Infotech - Software","Mobile proximity technologies","Washington","https://www.radiusnetworks.com/careers",54,2011,{"$f":"_xlfn.CONCAT(Table3[[#This Row],[Company]:[Year Founded]]&\" \")","v":"Radius Networks, Inc Infotech - Software Mobile proximity technologies Washington https://www.radiusnetworks.com/careers 54 2011 "},{"$f":"Table3[[#This Row],[Column26]]","v":"Customer Success Manager"},"Customer Success Manager","Radius Networks, Inc","NA","N"]
[null,"Rapid7","Infotech - Software","Security data and analytic software solutions and services.","Massachusetts; Virginia; Texas; California; Toronto","https://www.rapid7.com/careers/jobs/",1200,2000,{"$f":"_xlfn.CONCAT(Table3[[#This Row],[Company]:[Year Founded]]&\" \")","v":"Rapid7 Infotech - Software Security data and analytic software solutions and services. Massachusetts; Virginia; Texas; California; Toronto https://www.rapid7.com/careers/jobs/ 1200 2000 "},{"$f":"Table3[[#This Row],[Column26]]","v":"Customer Success Manager"},"Customer Success Manager","Rapid7","Y","Y","https://www.indeed.com/jobs?q=Rapid7&l=United%20States&vjk=fcb2a3224c6df8c6"]
[null,"Rational Enterprise","Infotech - Software","Platforms that manage data","Florida","https://www.rationalenterprise.com/company/career-opportunities",41,2006,{"$f":"_xlfn.CONCAT(Table3[[#This Row],[Company]:[Year Founded]]&\" \")","v":"Rational Enterprise Infotech - Software Platforms that manage data Florida https://www.rationalenterprise.com/company/career-opportunities 41 2006 "},{"$f":"Table3[[#This Row],[Column26]]","v":"Information Governance / eDiscovery - Senior Business Development Manager"},"Information Governance / eDiscovery - Senior Business Development Manager","Rational Enterprise","Y","Y","https://www.indeed.com/jobs?q=Rational%20Enterprise&l=United%20States&vjk=54586216208359e2"]
[null,"Realpage","Infotech - Software","Data analytics platform for the real estate industry.","Texas; Michigan; New Jersey; California; Massachusetts; Vermont","https://careers-realpage.icims.com/jobs/search?hashed=-626007118",6200,1998,{"$f":"_xlfn.CONCAT(Table3[[#This Row],[Company]:[Year Founded]]&\" \")","v":"Realpage Infotech - Software Data analytics platform for the real estate industry. Texas; Michigan; New Jersey; California; Massachusetts; Vermont https://careers-realpage.icims.com/jobs/search?hashed=-626007118 6200 1998 "},{"$f":"Table3[[#This Row],[Column26]]","v":"Customer Success Manager"},"Customer Success Manager","Realpage","Y","N"]
[null,"Red Hat","Infotech - Software","Open source software development, training and certification services to the enterprise community.","North Carolina; Michigan; Georgia; Massachusetts; Illinois; Colorado; Alabama; California; New Jersey; Virginia; Minnesota; New York; South Carolina; Texas; Missouri; Washington; Montreal; Toronto","https://www.redhat.com/en/jobs",15000,1993,{"$f":"_xlfn.CONCAT(Table3[[#This Row],[Company]:[Year Founded]]&\" \")","v":"Red Hat Infotech - Software Open source software development, training and certification services to the enterprise community. North Carolina; Michigan; Georgia; Massachusetts; Illinois; Colorado; Alabama; California; New Jersey; Virginia; Minnesota; New York; South Carolina; Texas; Missouri; Washington; Montreal; Toronto https://www.redhat.com/en/jobs 15000 1993 "},{"$f":"Table3[[#This Row],[Column26]]","v":"Senior Project Manager"},"Senior Project Manager","Red Hat","Y","Y","https://www.indeed.com/jobs?q=Red%20Hat&l=United%20States&explvl=senior_level&vjk=ba5d1e5f47161af4"]
[null,"Redis Labs","Infotech - Software","Open-source database for data processing, management, analyzing and prediction","California; Texas","https://redislabs.com/company/careers/",400,2011,{"$f":"_xlfn.CONCAT(Table3[[#This Row],[Company]:[Year Founded]]&\" \")","v":"Redis Labs Infotech - Software Open-source database for data processing, management, analyzing and prediction California; Texas https://redislabs.com/company/careers/ 400 2011 "},{"$f":"Table3[[#This Row],[Column26]]","v":"Partner Marketing Manager"},"Partner Marketing Manager","Redis Labs","NA","N"]
[null,"Reonomy","Infotech - Software","Online platform that provides data analytics and property intelligence solutions for the real estate sector.","New York","https://www.reonomy.com/company/careers",150,2013,{"$f":"_xlfn.CONCAT(Table3[[#This Row],[Company]:[Year Founded]]&\" \")","v":"Reonomy Infotech - Software Online platform that provides data analytics and property intelligence solutions for the real estate sector. New York https://www.reonomy.com/company/careers 150 2013 "},{"$f":"Table3[[#This Row],[Column26]]","v":"Customer Success Manager (Hybrid)"},"Customer Success Manager (Hybrid)","Reonomy","NA","N"]
[null,"rewardStyle","Infotech - Software","Monetization platform for fashion, beauty and lifestyle influencers","Texas","https://about.rewardstyle.com/careers",225,2011,{"$f":"_xlfn.CONCAT(Table3[[#This Row],[Company]:[Year Founded]]&\" \")","v":"rewardStyle Infotech - Software Monetization platform for fashion, beauty and lifestyle influencers Texas https://about.rewardstyle.com/careers 225 2011 "},{"$f":"Table3[[#This Row],[Column26]]","v":"NA"},"NA","rewardStyle","NA","N"]
[null,"Roadmunk","Infotech - Software","SaaS platform that allows users to create and share visual roadmaps for product management.","Toronto","https://roadmunk.com/careers#hiring",66,2013,{"$f":"_xlfn.CONCAT(Table3[[#This Row],[Company]:[Year Founded]]&\" \")","v":"Roadmunk Infotech - Software SaaS platform that allows users to create and share visual roadmaps for product management. Toronto https://roadmunk.com/careers#hiring 66 2013 "},{"$f":"Table3[[#This Row],[Column26]]","v":"NA"},"NA","Roadmunk","NA","N"]
[null,"Roku","Infotech - Software","Online entertainment streaming platform.","California; Texas; Illinois; New York; California; Toronto","https://www.roku.com/jobs/listing/all?location=All%20Locations",1100,2002,{"$f":"_xlfn.CONCAT(Table3[[#This Row],[Company]:[Year Founded]]&\" \")","v":"Roku Infotech - Software Online entertainment streaming platform. California; Texas; Illinois; New York; California; Toronto https://www.roku.com/jobs/listing/all?location=All%20Locations 1100 2002 "},{"$f":"Table3[[#This Row],[Column26]]","v":"Senior Manager, Content Strategy"},"Senior Manager, Content Strategy","Roku","NA","Y","https://www.indeed.com/jobs?q=Roku&explvl=senior_level&vjk=30dea53bf8e44d56"]
[null,"Root Insurance","Infotech - Software","Platform that uses smart phone technology and data science to set personal automobile insurance rates.","Ohio; Illinois","https://www.joinroot.com/careers/",800,2015,{"$f":"_xlfn.CONCAT(Table3[[#This Row],[Company]:[Year Founded]]&\" \")","v":"Root Insurance Infotech - Software Platform that uses smart phone technology and data science to set personal automobile insurance rates. Ohio; Illinois https://www.joinroot.com/careers/ 800 2015 "},{"$f":"Table3[[#This Row],[Column26]]","v":"NA"},"NA","Root Insurance","NA","N"]
[null,"Salsa","Infotech - Software","A software as a service (SaaS) company that provides donor management, digital marketing, online fundraising, online advocacy, and peer to peer fundraising tools to more than 3,000 nonprofit organizations in North America and around the world.","Maryland; Pennsylvania","https://www.salsalabs.com/about/careers",109,2003,{"$f":"_xlfn.CONCAT(Table3[[#This Row],[Company]:[Year Founded]]&\" \")","v":"Salsa Infotech - Software A software as a service (SaaS) company that provides donor management, digital marketing, online fundraising, online advocacy, and peer to peer fundraising tools to more than 3,000 nonprofit organizations in North America and around the world. Maryland; Pennsylvania https://www.salsalabs.com/about/careers 109 2003 "},{"$f":"Table3[[#This Row],[Column26]]","v":"\nCustomer Success Manager"},"\nCustomer Success Manager","Salsa","NA","Y","https://www.indeed.com/jobs?q=Salsa&l=United%20States&vjk=00c2be3aa4c895a9"]
[null,"Sangoma","InfoTech - Software","Network connectivity","Markham; New York; Wisconsin; Georgia;  Alabama; New Jersey; California","https://www.sangoma.com/about-us/careers/",53,1984,{"$f":"_xlfn.CONCAT(Table3[[#This Row],[Company]:[Year Founded]]&\" \")","v":"Sangoma InfoTech - Software Network connectivity Markham; New York; Wisconsin; Georgia;  Alabama; New Jersey; California https://www.sangoma.com/about-us/careers/ 53 1984 "},{"$f":"Table3[[#This Row],[Column26]]","v":"Product Marketing Manager"},"Product Marketing Manager","Sangoma","NA","N"]
[null,"SAP","Infotech - Software","Enterprise software and services provider. Proprietary products include SAP HANA and SAP IoT.","Pennsylvania","https://www.sap.com/sea/about/careers.html",84000,1972,{"$f":"_xlfn.CONCAT(Table3[[#This Row],[Company]:[Year Founded]]&\" \")","v":"SAP Infotech - Software Enterprise software and services provider. Proprietary products include SAP HANA and SAP IoT. Pennsylvania https://www.sap.com/sea/about/careers.html 84000 1972 "},{"$f":"Table3[[#This Row],[Column26]]","v":"SAP Project Manager - Midwest MU"},"SAP Project Manager - Midwest MU","SAP","Y","Y","https://www.indeed.com/jobs?q=SAP&l&vjk=008e8a0eb81f5830"]
[null,"Segment","InfoTech - Software","API to collect and categorize customer data across channels.","Caifornia; Colorado; New York","https://segment.com/careers/",450,2011,{"$f":"_xlfn.CONCAT(Table3[[#This Row],[Company]:[Year Founded]]&\" \")","v":"Segment InfoTech - Software API to collect and categorize customer data across channels. Caifornia; Colorado; New York https://segment.com/careers/ 450 2011 "},{"$f":"Table3[[#This Row],[Column26]]","v":"Sr. Technical Program Manager, M&A Integrations"},"Sr. Technical Program Manager, M&A Integrations","Segment","NA","N"]
[null,"SendBird","Infotech - Software"," in-app digital interactions APIs - chat platform for mobile apps and websites","California","https://sendbird.com/careers",200,2013,{"$f":"_xlfn.CONCAT(Table3[[#This Row],[Company]:[Year Founded]]&\" \")","v":"SendBird Infotech - Software  in-app digital interactions APIs - chat platform for mobile apps and websites California https://sendbird.com/careers 200 2013 "},{"$f":"Table3[[#This Row],[Column26]]","v":"Director of Sales Operations"},"Director of Sales Operations","SendBird","Y","Y","https://www.indeed.com/jobs?q=SendBird&l=United%20States&vjk=2a50dd031974bfe8"]
[null,"Shipbob","Infotech - Software","Software for shipping and inventory management ","Illinois","https://www.shipbob.com/careers/",475,2014,{"$f":"_xlfn.CONCAT(Table3[[#This Row],[Company]:[Year Founded]]&\" \")","v":"Shipbob Infotech - Software Software for shipping and inventory management  Illinois https://www.shipbob.com/careers/ 475 2014 "},{"$f":"Table3[[#This Row],[Column26]]","v":"Operations Manager"},"Operations Manager","Shipbob","NA","N"]
[null,"SimpleNexus","Infotech - Software","Mobile originator bi-directional platform for mortgage industry","Utah","simplenexus.com",110,2010,{"$f":"_xlfn.CONCAT(Table3[[#This Row],[Company]:[Year Founded]]&\" \")","v":"SimpleNexus Infotech - Software Mobile originator bi-directional platform for mortgage industry Utah simplenexus.com 110 2010 "},{"$f":"Table3[[#This Row],[Column26]]","v":"Senior Product Manager"},"Senior Product Manager","SimpleNexus","Y","Y","https://www.indeed.com/jobs?q=SimpleNexus&l=United%20States&vjk=40065f857646cc93"]
[null,"Skuid","InfoTech - Software","Platform to customize apps, serving customers in more than 30 countries","Tennessee; California","https://www.skuid.com/careers/",113,2016,{"$f":"_xlfn.CONCAT(Table3[[#This Row],[Company]:[Year Founded]]&\" \")","v":"Skuid InfoTech - Software Platform to customize apps, serving customers in more than 30 countries Tennessee; California https://www.skuid.com/careers/ 113 2016 "},{"$f":"Table3[[#This Row],[Column26]]","v":"Customer Success Manager"},"Customer Success Manager","Skuid","NA","N"]
[null,"Smartsheet, Inc","Infotech - Software","Work management platform.","Washington; Massachusetts; California","https://www.smartsheet.com/careers-list",1100,2005,{"$f":"_xlfn.CONCAT(Table3[[#This Row],[Company]:[Year Founded]]&\" \")","v":"Smartsheet, Inc Infotech - Software Work management platform. Washington; Massachusetts; California https://www.smartsheet.com/careers-list 1100 2005 "},{"$f":"Table3[[#This Row],[Column26]]","v":"Lifecycle Marketing Manager"},"Lifecycle Marketing Manager","Smartsheet, Inc","Y","N"]
[null,"Snap, Inc","Infotech - Software","Social media mobile application","California; New York; Washington; Illinois; Toronto","https://www.snap.com/en-US/jobs/",2800,2010,{"$f":"_xlfn.CONCAT(Table3[[#This Row],[Company]:[Year Founded]]&\" \")","v":"Snap, Inc Infotech - Software Social media mobile application California; New York; Washington; Illinois; Toronto https://www.snap.com/en-US/jobs/ 2800 2010 "},{"$f":"Table3[[#This Row],[Column26]]","v":"Manager, SMB Growth"},"Manager, SMB Growth","Snap, Inc","NA","N"]
[null,"Snapdocs","Infotech - Software","Digital platform that provides title and escrow processing on real estate transactions. ","California","https://snapdocs.com/careers/",150,2013,{"$f":"_xlfn.CONCAT(Table3[[#This Row],[Company]:[Year Founded]]&\" \")","v":"Snapdocs Infotech - Software Digital platform that provides title and escrow processing on real estate transactions.  California https://snapdocs.com/careers/ 150 2013 "},{"$f":"Table3[[#This Row],[Column26]]","v":"Senior Customer Marketing Manager"},"Senior Customer Marketing Manager","Snapdocs","Y","Y","https://www.indeed.com/jobs?q=Snapdocs&l=United%20States&vjk=8c5cff21f559a722"]
[null,"SnapLogic","Infotech - Software","iPaaS-based platform for cloud data warehousing, accounting and human capital management solutions","California; New York","https://www.snaplogic.com/careers/job-listings",200,2006,{"$f":"_xlfn.CONCAT(Table3[[#This Row],[Company]:[Year Founded]]&\" \")","v":"SnapLogic Infotech - Software iPaaS-based platform for cloud data warehousing, accounting and human capital management solutions California; New York https://www.snaplogic.com/careers/job-listings 200 2006 "},{"$f":"Table3[[#This Row],[Column26]]","v":"Product Marketing Manager"},"Product Marketing Manager","SnapLogic","NA","N"]
[null,"Soasta","Infotech - Software","Digital performance management solutions for businesses to measure, optimize and test mobile, websites and web applications.","California","https://akamaicareers.inflightcloud.com/search?searchable=%5B%7B%22id%22:%22217300106849%22,%22text%22:%22United%20States%22,%22portal%22:%228200106849%22,%22filterId%22:%22LOCATION%22%7D%5D",216,2006,{"$f":"_xlfn.CONCAT(Table3[[#This Row],[Company]:[Year Founded]]&\" \")","v":"Soasta Infotech - Software Digital performance management solutions for businesses to measure, optimize and test mobile, websites and web applications. California https://akamaicareers.inflightcloud.com/search?searchable=%5B%7B%22id%22:%22217300106849%22,%22text%22:%22United%20States%22,%22portal%22:%228200106849%22,%22filterId%22:%22LOCATION%22%7D%5D 216 2006 "},{"$f":"Table3[[#This Row],[Column26]]","v":"NA"},"NA","Soasta","NA","N"]
[null,"Sonatype","Infotech - Software","Repository management. Proprietary products include Nexus Intelligence.","Maryland; Virginia","https://www.sonatype.com/about/careers",400,2008,{"$f":"_xlfn.CONCAT(Table3[[#This Row],[Company]:[Year Founded]]&\" \")","v":"Sonatype Infotech - Software Repository management. Proprietary products include Nexus Intelligence. Maryland; Virginia https://www.sonatype.com/about/careers 400 2008 "},{"$f":"Table3[[#This Row],[Column26]]","v":"Product Marketing Manager"},"Product Marketing Manager","Sonatype","NA","N"]
[null,"States title","Infotech - Software","Digital real estate closing ","California; Texas; North Carolina; New York","https://www.statestitle.com/team-careers/#open-positions",1000,2016,{"$f":"_xlfn.CONCAT(Table3[[#This Row],[Company]:[Year Founded]]&\" \")","v":"States title Infotech - Software Digital real estate closing  California; Texas; North Carolina; New York https://www.statestitle.com/team-careers/#open-positions 1000 2016 "},{"$f":"Table3[[#This Row],[Column26]]","v":"Sales Executive"},"Sales Executive","States title","Y","Y","https://www.indeed.com/jobs?q=States%20title&l=United%20States&vjk=da541776f740a305"]
[null,"Survey Monkey","Infotech - Software","Survey software. Proprietary products include Precision Polling, Wufoo, and Zoomerang.","California","https://www.surveymonkey.com/careers/?ut_source=footer",1200,1999,{"$f":"_xlfn.CONCAT(Table3[[#This Row],[Company]:[Year Founded]]&\" \")","v":"Survey Monkey Infotech - Software Survey software. Proprietary products include Precision Polling, Wufoo, and Zoomerang. California https://www.surveymonkey.com/careers/?ut_source=footer 1200 1999 "},{"$f":"Table3[[#This Row],[Column26]]","v":"Senior Customer Success Manager – Market Research"},"Senior Customer Success Manager – Market Research","Survey Monkey","Y","N"]
[null,"Tealium","Infotech - Software","Enterprise tag management and real-time customer data orchestration","California","https://tealium.com/careers/",431,2008,{"$f":"_xlfn.CONCAT(Table3[[#This Row],[Company]:[Year Founded]]&\" \")","v":"Tealium Infotech - Software Enterprise tag management and real-time customer data orchestration California https://tealium.com/careers/ 431 2008 "},{"$f":"Table3[[#This Row],[Column26]]","v":"Account Executive - Growth"},"Account Executive - Growth","Tealium","Y","Y","https://www.indeed.com/jobs?q=Tealium&l=United%20States&vjk=8938ef7f298bae61"]
[null,"Teradata","Infotech - Software","Business analytics solutions and data compliance solutions.","California","https://careers.teradata.com/",10000,1979,{"$f":"_xlfn.CONCAT(Table3[[#This Row],[Company]:[Year Founded]]&\" \")","v":"Teradata Infotech - Software Business analytics solutions and data compliance solutions. California https://careers.teradata.com/ 10000 1979 "},{"$f":"Table3[[#This Row],[Column26]]","v":"Customer Success Manager"},"Customer Success Manager","Teradata","Y","Y","https://www.indeed.com/jobs?q=Teradata&l&vjk=21919e6cfe4a7a47"]
[null,"Toast","Infotech - Software","Point-of-sale platform that offers tableside ordering, menu modification, real-time reporting and delivery solutions.","Massachusetts; Nebraska; Oregon","https://careers.toasttab.com/",1000,2011,{"$f":"_xlfn.CONCAT(Table3[[#This Row],[Company]:[Year Founded]]&\" \")","v":"Toast Infotech - Software Point-of-sale platform that offers tableside ordering, menu modification, real-time reporting and delivery solutions. Massachusetts; Nebraska; Oregon https://careers.toasttab.com/ 1000 2011 "},{"$f":"Table3[[#This Row],[Column26]]","v":"Customer Marketing Manager"},"Customer Marketing Manager","Toast","NA","N"]
[null,"TouchBistro","Infotech - Software"," iPad-based POS system for restaurants, cafes and bars.","Illinois; New York; California; Toronto; Vancouver","https://www.touchbistro.com/careers/#open-positions",429,2010,{"$f":"_xlfn.CONCAT(Table3[[#This Row],[Company]:[Year Founded]]&\" \")","v":"TouchBistro Infotech - Software  iPad-based POS system for restaurants, cafes and bars. Illinois; New York; California; Toronto; Vancouver https://www.touchbistro.com/careers/#open-positions 429 2010 "},{"$f":"Table3[[#This Row],[Column26]]","v":"Strategic Partners Account Manager"},"Strategic Partners Account Manager","TouchBistro","NA","N"]
[null,"TradingView","Infotech - Software","Web-based charting, analytics and trading platform that enables traders to share real-time ideas.","Ohio; New York","https://www.tradingview.com/ideas/jobs/",139,2011,{"$f":"_xlfn.CONCAT(Table3[[#This Row],[Company]:[Year Founded]]&\" \")","v":"TradingView Infotech - Software Web-based charting, analytics and trading platform that enables traders to share real-time ideas. Ohio; New York https://www.tradingview.com/ideas/jobs/ 139 2011 "},{"$f":"Table3[[#This Row],[Column26]]","v":"Growth Director"},"Growth Director","TradingView","NA","N"]
[null,"Uber Technologies, Inc.","Infotech - Software","Ride share and delivery platform","California; Georgia; Texas; Massachusetts; New York; Illinois; Colorado; Florida; Pennsylvania; Arizona; Washington; Connecticut; DC; Montreal; Toronto","https://www.uber.com/us/en/careers/",28600,2008,{"$f":"_xlfn.CONCAT(Table3[[#This Row],[Company]:[Year Founded]]&\" \")","v":"Uber Technologies, Inc. Infotech - Software Ride share and delivery platform California; Georgia; Texas; Massachusetts; New York; Illinois; Colorado; Florida; Pennsylvania; Arizona; Washington; Connecticut; DC; Montreal; Toronto https://www.uber.com/us/en/careers/ 28600 2008 "},{"$f":"Table3[[#This Row],[Column26]]","v":"Sr. Operations Manager - Delivery People Growth & Earnings"},"Sr. Operations Manager - Delivery People Growth & Earnings","Uber Technologies, Inc.","NA","N"]
[null,"Unacast","Infotech - Software","Contextualized location data platform that monetizes data from beacons and other proximity sensors.","New York","https://careers.unacast.com/#positions",40,2014,{"$f":"_xlfn.CONCAT(Table3[[#This Row],[Company]:[Year Founded]]&\" \")","v":"Unacast Infotech - Software Contextualized location data platform that monetizes data from beacons and other proximity sensors. New York https://careers.unacast.com/#positions 40 2014 "},{"$f":"Table3[[#This Row],[Column26]]","v":"NA"},"NA","Unacast","NA","N"]
[null,"Unqork","Infotech - Software","SaaS-based platform for financial institutions to create, deploy and manage web and mobile-based applications.","New York","https://www.unqork.com/careers",210,2016,{"$f":"_xlfn.CONCAT(Table3[[#This Row],[Company]:[Year Founded]]&\" \")","v":"Unqork Infotech - Software SaaS-based platform for financial institutions to create, deploy and manage web and mobile-based applications. New York https://www.unqork.com/careers 210 2016 "},{"$f":"Table3[[#This Row],[Column26]]","v":"Principal Customer Success Manager"},"Principal Customer Success Manager","Unqork","Y","Y","https://www.indeed.com/jobs?q=Unqork&l=United%20States&vjk=c0299f82d5f2e9b2"]
[null,"Uptake","InfoTech - Software","provider of predictive analytics software that collects and interprets sensor data for clients in mining, rail, energy, aviation, retail, and construction industries.","Illinois; Mississauga","https://www.uptake.com/careers",500,2014,{"$f":"_xlfn.CONCAT(Table3[[#This Row],[Company]:[Year Founded]]&\" \")","v":"Uptake InfoTech - Software provider of predictive analytics software that collects and interprets sensor data for clients in mining, rail, energy, aviation, retail, and construction industries. Illinois; Mississauga https://www.uptake.com/careers 500 2014 "},{"$f":"Table3[[#This Row],[Column26]]","v":"Account Executive, West Mid Market - Transportation"},"Account Executive, West Mid Market - Transportation","Uptake","NA","Y","https://www.indeed.com/jobs?q=Uptake&explvl=senior_level&vjk=6598effae09ae843"]
[null,"Vena Solutions","Infotech - Software","provides a spreadsheet process management solution. The Company offers enterprise spreadsheet solutions, corporate performance and financial close management, regulatory solutions, and consulting services.\nCloud-based performance management platform for budgeting, planning, and revenue forecasting","New York; Toronto","https://careers.venasolutions.com/job-board/",350,2011,{"$f":"_xlfn.CONCAT(Table3[[#This Row],[Company]:[Year Founded]]&\" \")","v":"Vena Solutions Infotech - Software provides a spreadsheet process management solution. The Company offers enterprise spreadsheet solutions, corporate performance and financial close management, regulatory solutions, and consulting services.\nCloud-based performance management platform for budgeting, planning, and revenue forecasting New York; Toronto https://careers.venasolutions.com/job-board/ 350 2011 "},{"$f":"Table3[[#This Row],[Column26]]","v":"Partner Success Manager"},"Partner Success Manager","Vena Solutions","NA","N"]
[null,"Vidyard","InfoTech - Software","Cross-device platform for online video management, publishing, and analytics","Kitchener","https://www.vidyard.com/careers/#open-positions",220,2010,{"$f":"_xlfn.CONCAT(Table3[[#This Row],[Company]:[Year Founded]]&\" \")","v":"Vidyard InfoTech - Software Cross-device platform for online video management, publishing, and analytics Kitchener https://www.vidyard.com/careers/#open-positions 220 2010 "},{"$f":"Table3[[#This Row],[Column26]]","v":"Customer Success Manager"},"Customer Success Manager","Vidyard","NA","N"]
[null,"Walkme","Infotech - Software","Digital adoption platform to create and publish interactive guides on web applications.","California; New York; North Carolina","https://www.walkme.com/careers/careers_list/?region=na",943,2011,{"$f":"_xlfn.CONCAT(Table3[[#This Row],[Company]:[Year Founded]]&\" \")","v":"Walkme Infotech - Software Digital adoption platform to create and publish interactive guides on web applications. California; New York; North Carolina https://www.walkme.com/careers/careers_list/?region=na 943 2011 "},{"$f":"Table3[[#This Row],[Column26]]","v":"Senior Marketing Operations Manager"},"Senior Marketing Operations Manager","Walkme","NA","Y","https://www.indeed.com/jobs?q=Walkme&l=United%20States&start=60&vjk=372fbe74131836af"]
[null,"WillowTree","Infotech - Software","Commerical mobile and web applications ","Virginia; Ohio; North Carolina; New York","https://willowtreeapps.com/careers/jobs",313,2008,{"$f":"_xlfn.CONCAT(Table3[[#This Row],[Company]:[Year Founded]]&\" \")","v":"WillowTree Infotech - Software Commerical mobile and web applications  Virginia; Ohio; North Carolina; New York https://willowtreeapps.com/careers/jobs 313 2008 "},{"$f":"Table3[[#This Row],[Column26]]","v":"Project Director"},"Project Director","WillowTree","Y","Y","https://www.indeed.com/jobs?q=WillowTree&l=United%20States&vjk=e148b19b50b2c48b"]
[null,"Workstream","Infotech - Software","Online platform that offers automated hiring solutions for retail, restaurants, logistic and hospitality firms. ","California","https://www.workstream.us/j/workstream",50,2017,{"$f":"_xlfn.CONCAT(Table3[[#This Row],[Company]:[Year Founded]]&\" \")","v":"Workstream Infotech - Software Online platform that offers automated hiring solutions for retail, restaurants, logistic and hospitality firms.  California https://www.workstream.us/j/workstream 50 2017 "},{"$f":"Table3[[#This Row],[Column26]]","v":"Enterprise Customer Success Manager"},"Enterprise Customer Success Manager","Workstream","Y","Y","https://www.indeed.com/jobs?q=Workstream&l=United%20States&vjk=6b4d89b06416184a"]
[null,"Wrike","InfoTech - Software","Online work management platform ","California","https://www.wrike.com/careers/",1000,2006,{"$f":"_xlfn.CONCAT(Table3[[#This Row],[Company]:[Year Founded]]&\" \")","v":"Wrike InfoTech - Software Online work management platform  California https://www.wrike.com/careers/ 1000 2006 "},{"$f":"Table3[[#This Row],[Column26]]","v":"Customer Success Manager"},"Customer Success Manager","Wrike","NA","N"]
[null,"Yelp","Infotech - Software","Online platform for consumers to share reviews, including reviews of restaurants, shopping, nightlife, entertainment, and services","California; Illinois; New York; Arizona; Washington","https://www.yelp.careers/us/en/search-results",6000,2004,{"$f":"_xlfn.CONCAT(Table3[[#This Row],[Company]:[Year Founded]]&\" \")","v":"Yelp Infotech - Software Online platform for consumers to share reviews, including reviews of restaurants, shopping, nightlife, entertainment, and services California; Illinois; New York; Arizona; Washington https://www.yelp.careers/us/en/search-results 6000 2004 "},{"$f":"Table3[[#This Row],[Column26]]","v":"Partner Account Executive (Remote, West)"},"Partner Account Executive (Remote, West)","Yelp","Y","Y","https://www.indeed.com/jobs?q=Yelp&l=United%20States&vjk=ddd77942aa6378fa"]
[null,"YieldStreet","Infotech - Software","Digital investment platform focused on generating passive income streams","New York","https://www.yieldstreet.com/careers",66,2014,{"$f":"_xlfn.CONCAT(Table3[[#This Row],[Company]:[Year Founded]]&\" \")","v":"YieldStreet Infotech - Software Digital investment platform focused on generating passive income streams New York https://www.yieldstreet.com/careers 66 2014 "},{"$f":"Table3[[#This Row],[Column26]]","v":"NA"},"NA","YieldStreet","Y","Y","https://www.indeed.com/jobs?q=YieldStreet&l=United%20States&vjk=7732a551f6157514"]
[null,"Zendesk Inc.","InfoTech - Software","Customer service software ","California; Remote; Wisconsin, Montreal; new York","https://jobs.zendesk.com/us/en",2700,2007,{"$f":"_xlfn.CONCAT(Table3[[#This Row],[Company]:[Year Founded]]&\" \")","v":"Zendesk Inc. InfoTech - Software Customer service software  California; Remote; Wisconsin, Montreal; new York https://jobs.zendesk.com/us/en 2700 2007 "},{"$f":"Table3[[#This Row],[Column26]]","v":"Customer Success Executive"},"Customer Success Executive","Zendesk Inc.","NA","N"]
[null,"Zinier","Infotech - Software","Field service automation platform that offers work order, scheduling and dispatching management ","California","https://www.zinier.com/company/careers/",250,2014,{"$f":"_xlfn.CONCAT(Table3[[#This Row],[Company]:[Year Founded]]&\" \")","v":"Zinier Infotech - Software Field service automation platform that offers work order, scheduling and dispatching management  California https://www.zinier.com/company/careers/ 250 2014 "},{"$f":"Table3[[#This Row],[Column26]]","v":"Customer Success, Senior Manager"},"Customer Success, Senior Manager","Zinier","NA","N"]
[null,"ZipRecruiter","InfoTech - Software","Online job search engine for hourly, temporary and full-time opportunities","California; Georgia; Texas; Massachusetts; South Carolina; North Carolina; Illinois; Colorado; Florida; New York; Nebraska; Pennsylvania; DC","https://www.ziprecruiter.com/careers",1000,2010,{"$f":"_xlfn.CONCAT(Table3[[#This Row],[Company]:[Year Founded]]&\" \")","v":"ZipRecruiter InfoTech - Software Online job search engine for hourly, temporary and full-time opportunities California; Georgia; Texas; Massachusetts; South Carolina; North Carolina; Illinois; Colorado; Florida; New York; Nebraska; Pennsylvania; DC https://www.ziprecruiter.com/careers 1000 2010 "},{"$f":"Table3[[#This Row],[Column26]]","v":"Manager, Business Planning & Operations"},"Manager, Business Planning & Operations","ZipRecruiter","Y","Y","https://www.indeed.com/jobs?q=ZipRecruiter&l=United%20States&vjk=f6dc7ac72ee3166d"]
[null,"Zumper","Infotech - Software","House and apartment rental platform ","California; Illinois; New York; Rhode Island; Arizona","https://www.zumper.com/jobs",230,2012,{"$f":"_xlfn.CONCAT(Table3[[#This Row],[Company]:[Year Founded]]&\" \")","v":"Zumper Infotech - Software House and apartment rental platform  California; Illinois; New York; Rhode Island; Arizona https://www.zumper.com/jobs 230 2012 "},{"$f":"Table3[[#This Row],[Column26]]","v":"Regional Account Executive"},"Regional Account Executive","Zumper","NA","N"]
[null,"LaneAxis","InfoTech - Software","Developer of a blockchain-powered, cloud-based virtual freight management platform designed to evolve the process of managing trucking logistics.","California","https://www.linkedin.com/company/laneaxis/jobs/","22",2015,{"$f":"_xlfn.CONCAT(Table3[[#This Row],[Company]:[Year Founded]]&\" \")","v":"LaneAxis InfoTech - Software Developer of a blockchain-powered, cloud-based virtual freight management platform designed to evolve the process of managing trucking logistics. California https://www.linkedin.com/company/laneaxis/jobs/ 22 2015 "},null,null,null,"NA","N"]
[null,"6Sense","MarTech","Predictive intelligence platform that offers omnichannel connectivity and brand visibility ","California; Texas; New York","https://6sense.com/careers/join-us/",175,2013,{"$f":"_xlfn.CONCAT(Table3[[#This Row],[Company]:[Year Founded]]&\" \")","v":"6Sense MarTech Predictive intelligence platform that offers omnichannel connectivity and brand visibility  California; Texas; New York https://6sense.com/careers/join-us/ 175 2013 "},{"$f":"Table3[[#This Row],[Column26]]","v":"NA"},"NA","6Sense","NA","Y","https://www.indeed.com/jobs?q=6Sense&l=United%20States&start=20&vjk=d3ed964fcaf31204"]
[null,"Acquia","MarTech","Cloud-based platform to build and manage digital customer experiences","Massachusetts; Texas; Virginia; New York; Oregon; California; Toronto","https://www.acquia.com/careers/open-positions",880,2007,{"$f":"_xlfn.CONCAT(Table3[[#This Row],[Company]:[Year Founded]]&\" \")","v":"Acquia MarTech Cloud-based platform to build and manage digital customer experiences Massachusetts; Texas; Virginia; New York; Oregon; California; Toronto https://www.acquia.com/careers/open-positions 880 2007 "},{"$f":"Table3[[#This Row],[Column26]]","v":"NA"},"NA","Acquia","NA","N"]
[null,"Act-on","MarTech","Integrated marketing automation platform for inbound and outbound marketing campaigns.","Oregon","https://act-on.com/careers/careers-aggregate/",170,2008,{"$f":"_xlfn.CONCAT(Table3[[#This Row],[Company]:[Year Founded]]&\" \")","v":"Act-on MarTech Integrated marketing automation platform for inbound and outbound marketing campaigns. Oregon https://act-on.com/careers/careers-aggregate/ 170 2008 "},{"$f":"Table3[[#This Row],[Column26]]","v":"Customer Success Manager"},"Customer Success Manager","Act-on","NA","N"]
[null,"Active Campaign","MarTech","Advanced email marketing, marketing automation and sales CRM platform.","Illinois; Indiana","https://www.activecampaign.com/about/careers#openings",598,2003,{"$f":"_xlfn.CONCAT(Table3[[#This Row],[Company]:[Year Founded]]&\" \")","v":"Active Campaign MarTech Advanced email marketing, marketing automation and sales CRM platform. Illinois; Indiana https://www.activecampaign.com/about/careers#openings 598 2003 "},{"$f":"Table3[[#This Row],[Column26]]","v":"Director of Customer Success"},"Director of Customer Success","Active Campaign","Y","N"]
[null,"ActiveCampaign","MarTech","Cloud-based platform for email marketing and customer relationship management","Illinois; Indiana","https://www.activecampaign.com/about/careers#openings",550,2016,{"$f":"_xlfn.CONCAT(Table3[[#This Row],[Company]:[Year Founded]]&\" \")","v":"ActiveCampaign MarTech Cloud-based platform for email marketing and customer relationship management Illinois; Indiana https://www.activecampaign.com/about/careers#openings 550 2016 "},{"$f":"Table3[[#This Row],[Column26]]","v":"Customer Success Manager"},"Customer Success Manager","ActiveCampaign","Y","Y","https://www.indeed.com/jobs?q=ActiveCampaign&l=United%20States&start=10&vjk=ad7a9225e23eb225"]
[null,"Airship","MarTech","Customer engagement platform that uses predictive intelligence and performance analytics for consumer messaging across mobile, web, text, and email channels.","Oregon, New York, California","https://www.airship.com/company/careers/",330,2009,{"$f":"_xlfn.CONCAT(Table3[[#This Row],[Company]:[Year Founded]]&\" \")","v":"Airship MarTech Customer engagement platform that uses predictive intelligence and performance analytics for consumer messaging across mobile, web, text, and email channels. Oregon, New York, California https://www.airship.com/company/careers/ 330 2009 "},{"$f":"Table3[[#This Row],[Column26]]","v":"NA"},"NA","Airship","NA","N"]
[null,"Amperity","MarTech","Cloud-based platformfor customer data management and analytics solutions in retail, bank and insurance sectors.","Washington; Colorado; New York","https://amperity.com/company/careers",175,2016,{"$f":"_xlfn.CONCAT(Table3[[#This Row],[Company]:[Year Founded]]&\" \")","v":"Amperity MarTech Cloud-based platformfor customer data management and analytics solutions in retail, bank and insurance sectors. Washington; Colorado; New York https://amperity.com/company/careers 175 2016 "},{"$f":"Table3[[#This Row],[Column26]]","v":"Head of Product Marketing"},"Head of Product Marketing","Amperity","NA","N"]
[null,"Applovin","MarTech","Mobile marketing platform that provides marketing automation and analytics ","California; Toronto","https://www.applovin.com/jobs/",240,2012,{"$f":"_xlfn.CONCAT(Table3[[#This Row],[Company]:[Year Founded]]&\" \")","v":"Applovin MarTech Mobile marketing platform that provides marketing automation and analytics  California; Toronto https://www.applovin.com/jobs/ 240 2012 "},{"$f":"Table3[[#This Row],[Column26]]","v":"Director Business Development"},"Director Business Development","Applovin","NA","N"]
[null,"AppsFlyer","MarTech","Marketing analytics and attribution platform for mobile advertisers.","California","https://www.appsflyer.com/jobs/office/4007791002/san-francisco/",900,2011,{"$f":"_xlfn.CONCAT(Table3[[#This Row],[Company]:[Year Founded]]&\" \")","v":"AppsFlyer MarTech Marketing analytics and attribution platform for mobile advertisers. California https://www.appsflyer.com/jobs/office/4007791002/san-francisco/ 900 2011 "},{"$f":"Table3[[#This Row],[Column26]]","v":"VP of Marketing"},"VP of Marketing","AppsFlyer","NA","Y","https://www.indeed.com/jobs?q=AppsFlyer&explvl=senior_level&vjk=77ce02a9e9125e85"]
[null,"AvenueHQ","MarTech","Website and digital marketing servicesfor the real estate industry.","Vancouver","https://avenuehq.com/",70,2013,{"$f":"_xlfn.CONCAT(Table3[[#This Row],[Company]:[Year Founded]]&\" \")","v":"AvenueHQ MarTech Website and digital marketing servicesfor the real estate industry. Vancouver https://avenuehq.com/ 70 2013 "},{"$f":"Table3[[#This Row],[Column26]]","v":"NA"},"NA","AvenueHQ","NA","N"]
[null,"Aweber","MarTech","Suite of web-based email marketing software.","Pennsylvania","https://www.aweber.com/careers-openings.htm",134,1998,{"$f":"_xlfn.CONCAT(Table3[[#This Row],[Company]:[Year Founded]]&\" \")","v":"Aweber MarTech Suite of web-based email marketing software. Pennsylvania https://www.aweber.com/careers-openings.htm 134 1998 "},{"$f":"Table3[[#This Row],[Column26]]","v":"Senior Customer Success Manager"},"Senior Customer Success Manager","Aweber","NA","N"]
[null,"Bazaarvoice","MarTech","Web-based platform that connects brands and retailers with consumers to collect consumer-generated content, reviews and ratings.","Texas; Illinois; New York","https://www.bazaarvoice.com/careers/",800,2005,{"$f":"_xlfn.CONCAT(Table3[[#This Row],[Company]:[Year Founded]]&\" \")","v":"Bazaarvoice MarTech Web-based platform that connects brands and retailers with consumers to collect consumer-generated content, reviews and ratings. Texas; Illinois; New York https://www.bazaarvoice.com/careers/ 800 2005 "},{"$f":"Table3[[#This Row],[Column26]]","v":"Enterprise Account Executive"},"Enterprise Account Executive","Bazaarvoice","Y","Y","https://www.indeed.com/jobs?q=Bazaarvoice&l=United%20States&vjk=10d0e861bce595be"]
[null,"Benevity","MarTech"," Charitable donation-management and grant-management platforms","Calgary, Toronto; Victoria; Florida; San Mateo ","https://benevity.com/careers",600,2008,{"$f":"_xlfn.CONCAT(Table3[[#This Row],[Company]:[Year Founded]]&\" \")","v":"Benevity MarTech  Charitable donation-management and grant-management platforms Calgary, Toronto; Victoria; Florida; San Mateo  https://benevity.com/careers 600 2008 "},{"$f":"Table3[[#This Row],[Column26]]","v":"Director, Product Marketing"},"Director, Product Marketing","Benevity","NA","N"]
[null,"Bigtincan","MarTech","AI  sales and marketing platform fora range of industries.","Massachusetts; California; Georgia; Indiana; Michigan; New York","https://www.bigtincan.com/company/careers/",150,2011,{"$f":"_xlfn.CONCAT(Table3[[#This Row],[Company]:[Year Founded]]&\" \")","v":"Bigtincan MarTech AI  sales and marketing platform fora range of industries. Massachusetts; California; Georgia; Indiana; Michigan; New York https://www.bigtincan.com/company/careers/ 150 2011 "},{"$f":"Table3[[#This Row],[Column26]]","v":"Sales Executive - Enterprise"},"Sales Executive - Enterprise","Bigtincan","NA","N"]
[null,"Branch.io","MarTech","Deep linking to link pages within apps","Redwood City; Chicago, IL; New York, NY; Seattle, WA","https://branch.io/careers/",400,2014,{"$f":"_xlfn.CONCAT(Table3[[#This Row],[Company]:[Year Founded]]&\" \")","v":"Branch.io MarTech Deep linking to link pages within apps Redwood City; Chicago, IL; New York, NY; Seattle, WA https://branch.io/careers/ 400 2014 "},{"$f":"Table3[[#This Row],[Column26]]","v":"Business Operations Manager, Discovery, US"},"Business Operations Manager, Discovery, US","Branch.io","Y","Y","https://www.indeed.com/jobs?q=Branch.io&l&vjk=dea3a9ac19a13766"]
[null,"Braze","MarTech","Customer engagement platform for consumer-facing marketers to  optimize multi-channel messaging using customer profiling, A/B testing, and data analytics.","New York; Illinois; California","https://www.braze.com/about/careers",500,2011,{"$f":"_xlfn.CONCAT(Table3[[#This Row],[Company]:[Year Founded]]&\" \")","v":"Braze MarTech Customer engagement platform for consumer-facing marketers to  optimize multi-channel messaging using customer profiling, A/B testing, and data analytics. New York; Illinois; California https://www.braze.com/about/careers 500 2011 "},{"$f":"Table3[[#This Row],[Column26]]","v":"Customer Success Manager"},"Customer Success Manager","Braze","Y","Y","https://www.indeed.com/jobs?q=Braze&l=United%20States&start=40&vjk=3cf82d1676a26f1b"]
[null,"BrightEdge","MarTech","AI-based platform for search engine optimization and content performance marketing ","California; Illinois; Ohio; New York; Washington","https://www.brightedge.com/careers/jobs",411,2007,{"$f":"_xlfn.CONCAT(Table3[[#This Row],[Company]:[Year Founded]]&\" \")","v":"BrightEdge MarTech AI-based platform for search engine optimization and content performance marketing  California; Illinois; Ohio; New York; Washington https://www.brightedge.com/careers/jobs 411 2007 "},{"$f":"Table3[[#This Row],[Column26]]","v":"Customer Success Manager"},"Customer Success Manager","BrightEdge","NA","Y","https://www.indeed.com/jobs?q=BrightEdge&l=United%20States&vjk=96b1e1a7201752f9"]
[null,"Bumble","MarTech","Mobile dating application","Texas","https://bumble.com/jobs?location=Austin%2C%20TX%2C%20US",384,2014,{"$f":"_xlfn.CONCAT(Table3[[#This Row],[Company]:[Year Founded]]&\" \")","v":"Bumble MarTech Mobile dating application Texas https://bumble.com/jobs?location=Austin%2C%20TX%2C%20US 384 2014 "},{"$f":"Table3[[#This Row],[Column26]]","v":"NA"},"NA","Bumble","Y","N"]
[null,"ByteDance","MarTech","Content platforms. Proprietary products include TikTok.","Beijing; California; New York; Illinois; Washington","business functions: https://job.bytedance.com/en/position?category=6704215913488451847;\nMarketing: https://job.bytedance.com/en/position?category=6704215901438216462;\nSales: https://job.bytedance.com/en/position?category=6709824272505768200",60000,2012,{"$f":"_xlfn.CONCAT(Table3[[#This Row],[Company]:[Year Founded]]&\" \")","v":"ByteDance MarTech Content platforms. Proprietary products include TikTok. Beijing; California; New York; Illinois; Washington business functions: https://job.bytedance.com/en/position?category=6704215913488451847;\nMarketing: https://job.bytedance.com/en/position?category=6704215901438216462;\nSales: https://job.bytedance.com/en/position?category=6709824272505768200 60000 2012 "},{"$f":"Table3[[#This Row],[Column26]]","v":"Customer Success Manager"},"Customer Success Manager","ByteDance","Y","Y","https://www.indeed.com/jobs?q=ByteDance&l=United%20States&vjk=cbb858e05df9938a"]
[null,"Cameo","MarTech","Online marketplace where users can book personalized video featuring celebrities.","Illinois; California","https://cameo.breezy.hr/?source=footer",181,2017,{"$f":"_xlfn.CONCAT(Table3[[#This Row],[Company]:[Year Founded]]&\" \")","v":"Cameo MarTech Online marketplace where users can book personalized video featuring celebrities. Illinois; California https://cameo.breezy.hr/?source=footer 181 2017 "},{"$f":"Table3[[#This Row],[Column26]]","v":"NA"},"NA","Cameo","NA","N"]
[null,"Cargurus","MarTech","Automotive research and shopping website for consumers.","Massachusetts","https://careers.cargurus.com/?_ga=2.191859370.106008146.1593776684-2088952843.1593776684#nwh-openings",732,2006,{"$f":"_xlfn.CONCAT(Table3[[#This Row],[Company]:[Year Founded]]&\" \")","v":"Cargurus MarTech Automotive research and shopping website for consumers. Massachusetts https://careers.cargurus.com/?_ga=2.191859370.106008146.1593776684-2088952843.1593776684#nwh-openings 732 2006 "},{"$f":"Table3[[#This Row],[Column26]]","v":"Vice President, Consumer Marketing"},"Vice President, Consumer Marketing","Cargurus","NA","N"]
[null,"Chorus","MarTech","Intelligence platform to capture, store and analyze conversations at sales meetings","California; Massachusetts; Toronto","https://www.chorus.ai/careers",150,2015,{"$f":"_xlfn.CONCAT(Table3[[#This Row],[Company]:[Year Founded]]&\" \")","v":"Chorus MarTech Intelligence platform to capture, store and analyze conversations at sales meetings California; Massachusetts; Toronto https://www.chorus.ai/careers 150 2015 "},{"$f":"Table3[[#This Row],[Column26]]","v":"Associate, Strategic Finance and Corporate Development (San Francisco)"},"Associate, Strategic Finance and Corporate Development (San Francisco)","Chorus","NA","N"]
[null,"Clarabridge","MarTech","Customer intelligence platform ","Virginia; Illinois; California; ","https://www.clarabridge.com/about/careers/jobs/",350,2006,{"$f":"_xlfn.CONCAT(Table3[[#This Row],[Company]:[Year Founded]]&\" \")","v":"Clarabridge MarTech Customer intelligence platform  Virginia; Illinois; California;  https://www.clarabridge.com/about/careers/jobs/ 350 2006 "},{"$f":"Table3[[#This Row],[Column26]]","v":"Customer Success Manager, Qualtrics Social Connect"},"Customer Success Manager, Qualtrics Social Connect","Clarabridge","Y","Y","https://www.indeed.com/jobs?q=Clarabridge&l=United%20States&vjk=d8c454b57612cfcf"]
[null,"Clari","MarTech","Forecasting, activity intelligence and pipeline management for B2B revenue teams","California","https://www.clari.com/company/careers",282,2012,{"$f":"_xlfn.CONCAT(Table3[[#This Row],[Company]:[Year Founded]]&\" \")","v":"Clari MarTech Forecasting, activity intelligence and pipeline management for B2B revenue teams California https://www.clari.com/company/careers 282 2012 "},{"$f":"Table3[[#This Row],[Column26]]","v":"Commercial Customer Success Manager - Remote"},"Commercial Customer Success Manager - Remote","Clari","Y","N"]
[null,"ClickFunnels","MarTech","Website and software that enables entrepeneurs to create and launch sales and marketing funnels.","Eagle, Idaho","https://goto.clickfunnels.com/careers",400,2014,{"$f":"_xlfn.CONCAT(Table3[[#This Row],[Company]:[Year Founded]]&\" \")","v":"ClickFunnels MarTech Website and software that enables entrepeneurs to create and launch sales and marketing funnels. Eagle, Idaho https://goto.clickfunnels.com/careers 400 2014 "},{"$f":"Table3[[#This Row],[Column26]]","v":"NA"},"NA","ClickFunnels","NA","N"]
[null,"Commerce Pundit","MarTech","Web development and serving eCommerce","Georgia","https://www.commercepundit.com/career",250,2009,{"$f":"_xlfn.CONCAT(Table3[[#This Row],[Company]:[Year Founded]]&\" \")","v":"Commerce Pundit MarTech Web development and serving eCommerce Georgia https://www.commercepundit.com/career 250 2009 "},{"$f":"Table3[[#This Row],[Column26]]","v":"Project Manager"},"Project Manager","Commerce Pundit","NA","N"]
[null,"Comscore","MarTech","Digital business analytics, audience measurement, advertising effectiveness and market research solutions","Virginia; Massachusetts; Illinois; Indiana; Florida; Utah; California; Wisconsin; New York; Oregon; Washington; Toronto","https://www.comscore.com/About/Careers/Job-Opportunities?keyword=&country=US&department=&cs_edgescape_cc=PH",1800,1999,{"$f":"_xlfn.CONCAT(Table3[[#This Row],[Company]:[Year Founded]]&\" \")","v":"Comscore MarTech Digital business analytics, audience measurement, advertising effectiveness and market research solutions Virginia; Massachusetts; Illinois; Indiana; Florida; Utah; California; Wisconsin; New York; Oregon; Washington; Toronto https://www.comscore.com/About/Careers/Job-Opportunities?keyword=&country=US&department=&cs_edgescape_cc=PH 1800 1999 "},{"$f":"Table3[[#This Row],[Column26]]","v":"Director, Product Marketing"},"Director, Product Marketing","Comscore","Y","Y","https://www.indeed.com/jobs?q=Comscore&l=United%20States&vjk=cd984f6e85e67ab0"]
[null,"Consumer Track","MarTech","Online marketing services.","California; North Carolina, Chicago, Il; Colorado;\nPennsylvania","https://www.consumertrack.com/join-our-team/",83,2004,{"$f":"_xlfn.CONCAT(Table3[[#This Row],[Company]:[Year Founded]]&\" \")","v":"Consumer Track MarTech Online marketing services. California; North Carolina, Chicago, Il; Colorado;\nPennsylvania https://www.consumertrack.com/join-our-team/ 83 2004 "},{"$f":"Table3[[#This Row],[Column26]]","v":"Customer Success Manager"},"Customer Success Manager","Consumer Track","Y","Y","https://www.indeed.com/jobs?q=Consumer%20Track&l=United%20States&start=20&vjk=c334e5520e088197"]
[null,"Conviva","MarTech","\nConviva is the census, continuous measurement and engagement platform for streaming media. ","California; new York","https://www.conviva.com/careers/",275,2006,{"$f":"_xlfn.CONCAT(Table3[[#This Row],[Company]:[Year Founded]]&\" \")","v":"Conviva MarTech \nConviva is the census, continuous measurement and engagement platform for streaming media.  California; new York https://www.conviva.com/careers/ 275 2006 "},{"$f":"Table3[[#This Row],[Column26]]","v":"Strategic Account Manager - Customer Success"},"Strategic Account Manager - Customer Success","Conviva","Y","N"]
[null,"CrossInstall","MarTech","Demand-side platform that offers programmatic advertising and marketing solutions for mobile applications.","California","https://www.crossinstall.com/careers",70,2012,{"$f":"_xlfn.CONCAT(Table3[[#This Row],[Company]:[Year Founded]]&\" \")","v":"CrossInstall MarTech Demand-side platform that offers programmatic advertising and marketing solutions for mobile applications. California https://www.crossinstall.com/careers 70 2012 "},{"$f":"Table3[[#This Row],[Column26]]","v":"CRM Sales Systems Manager - Global Strategy and Operations"},"CRM Sales Systems Manager - Global Strategy and Operations","CrossInstall","NA","N"]
[null,"Dataminr","MarTech","Real-time information discovery platform for mining high-impact events and emerging risks from social media postings and other public sources.","New York; Virginia; Washington; Montana","https://www.dataminr.com/careers?mixquery=washington-dc",500,2009,{"$f":"_xlfn.CONCAT(Table3[[#This Row],[Company]:[Year Founded]]&\" \")","v":"Dataminr MarTech Real-time information discovery platform for mining high-impact events and emerging risks from social media postings and other public sources. New York; Virginia; Washington; Montana https://www.dataminr.com/careers?mixquery=washington-dc 500 2009 "},{"$f":"Table3[[#This Row],[Column26]]","v":"VP, Performance Marketing & Operations"},"VP, Performance Marketing & Operations","Dataminr","Y","Y","https://www.indeed.com/jobs?q=Dataminr&l=United%20States&vjk=01b0b01470429598"]
[null,"Definitive Healthcare","MarTech","Data for healthcare provider marketing.","Massachusetts","https://www.definitivehc.com/about/careers/open-positions",400,2011,{"$f":"_xlfn.CONCAT(Table3[[#This Row],[Company]:[Year Founded]]&\" \")","v":"Definitive Healthcare MarTech Data for healthcare provider marketing. Massachusetts https://www.definitivehc.com/about/careers/open-positions 400 2011 "},{"$f":"Table3[[#This Row],[Column26]]","v":"Director, Customer Success & Client Engagement (CSCE)"},"Director, Customer Success & Client Engagement (CSCE)","Definitive Healthcare","NA","Y","https://www.indeed.com/jobs?q=Definitive%20Healthcare&l=United%20States&vjk=0841af9c21f311d2"]
[null,"Drift","MarTech","Marketing platform","Massachusetts; California; Washington; Florida","https://www.drift.com/careers/#openings",350,2015,{"$f":"_xlfn.CONCAT(Table3[[#This Row],[Company]:[Year Founded]]&\" \")","v":"Drift MarTech Marketing platform Massachusetts; California; Washington; Florida https://www.drift.com/careers/#openings 350 2015 "},{"$f":"Table3[[#This Row],[Column26]]","v":"CUSTOMER SUCCESS MANAGER, ENTERPRISE"},"CUSTOMER SUCCESS MANAGER, ENTERPRISE","Drift","Y","Y"]
[null,"Drips","MarTech","Automatic lead generation services through voice, SMS, voicemail, email and direct mail campaigns.","Ohio","https://www.drips.com/careers/",56,2015,{"$f":"_xlfn.CONCAT(Table3[[#This Row],[Company]:[Year Founded]]&\" \")","v":"Drips MarTech Automatic lead generation services through voice, SMS, voicemail, email and direct mail campaigns. Ohio https://www.drips.com/careers/ 56 2015 "},{"$f":"Table3[[#This Row],[Column26]]","v":"NA"},"NA","Drips","NA","N"]
[null,"Episerver (fornerly Idio)","MarTech","Digital Experience Platform combines content, commerce, multi-channel marketing and predictive analytics in a single platform. Subsidiaries include Mediachase, Insite Software,  idio Ltd, Ektron","Minnesota, New Hampshire","https://www.episerver.com/company/career",771,1994,{"$f":"_xlfn.CONCAT(Table3[[#This Row],[Company]:[Year Founded]]&\" \")","v":"Episerver (fornerly Idio) MarTech Digital Experience Platform combines content, commerce, multi-channel marketing and predictive analytics in a single platform. Subsidiaries include Mediachase, Insite Software,  idio Ltd, Ektron Minnesota, New Hampshire https://www.episerver.com/company/career 771 1994 "},{"$f":"Table3[[#This Row],[Column26]]","v":"NA"},"NA","Episerver (fornerly Idio)","NA","N"]
[null,"Eventbrite","MarTech","Online  platform  to promote, manage and host events.","California; Tennessee; New York; Toronto; Vancouver","https://www.eventbritecareers.com/jobs/search",1000,2006,{"$f":"_xlfn.CONCAT(Table3[[#This Row],[Company]:[Year Founded]]&\" \")","v":"Eventbrite MarTech Online  platform  to promote, manage and host events. California; Tennessee; New York; Toronto; Vancouver https://www.eventbritecareers.com/jobs/search 1000 2006 "},{"$f":"Table3[[#This Row],[Column26]]","v":"Business Development Manager"},"Business Development Manager","Eventbrite","Y","Y","https://www.indeed.com/jobs?q=Eventbrite&l=United%20States&vjk=0151996d84b932da"]
[null,"Evolve Vacation Rental","MarTech","Online marketplace for vacation rentals","Colorado","https://boards.greenhouse.io/evolvevacationrental",387,2010,{"$f":"_xlfn.CONCAT(Table3[[#This Row],[Company]:[Year Founded]]&\" \")","v":"Evolve Vacation Rental MarTech Online marketplace for vacation rentals Colorado https://boards.greenhouse.io/evolvevacationrental 387 2010 "},{"$f":"Table3[[#This Row],[Column26]]","v":"Internal Communications Manager - Marketing"},"Internal Communications Manager - Marketing","Evolve Vacation Rental","NA","N"]
[null,"EZ Texting","MarTech","Web-based platform  to manage and control text message marketing campaigns.","California; REMOTE; looking to hire in California, New York, Texas, Oregon, and Georgia","https://www.eztexting.com/careers",152,2004,{"$f":"_xlfn.CONCAT(Table3[[#This Row],[Company]:[Year Founded]]&\" \")","v":"EZ Texting MarTech Web-based platform  to manage and control text message marketing campaigns. California; REMOTE; looking to hire in California, New York, Texas, Oregon, and Georgia https://www.eztexting.com/careers 152 2004 "},{"$f":"Table3[[#This Row],[Column26]]","v":"Content Marketing Manager"},"Content Marketing Manager","EZ Texting","Y","Y","https://www.indeed.com/jobs?q=EZ%20Texting&l&vjk=fb9a238f703ad3bc"]
[null,"Facebook","MarTech"," Top MBA recruiter: social media conglomerate. Its products include Messenger, Instagram,and WhatsApp","Florida; Nebraska; Virginia; California","https://www.facebook.com/careers",35000,2004,{"$f":"_xlfn.CONCAT(Table3[[#This Row],[Company]:[Year Founded]]&\" \")","v":"Facebook MarTech  Top MBA recruiter: social media conglomerate. Its products include Messenger, Instagram,and WhatsApp Florida; Nebraska; Virginia; California https://www.facebook.com/careers 35000 2004 "},{"$f":"Table3[[#This Row],[Column26]]","v":"Digital Customer Success Manager"},"Digital Customer Success Manager","Facebook","Y","Y","https://www.indeed.com/jobs?q=Facebook&explvl=senior_level&vjk=4b0b02ffe8cfebf4"]
[null,"Fivestars","MarTech","FiveStars is the rewards program for small businesses that’s proven to bring customers back more often.","California; New Mexico; Virginia; Georgia; Colorado; Texas; Maryland; New York;  Illinois; Florida; Nevada; West Virginia; Minnesota; Arizona; Oregon; Utah; Georgia; Washington","https://www.fivestars.com/careers/",307,2011,{"$f":"_xlfn.CONCAT(Table3[[#This Row],[Company]:[Year Founded]]&\" \")","v":"Fivestars MarTech FiveStars is the rewards program for small businesses that’s proven to bring customers back more often. California; New Mexico; Virginia; Georgia; Colorado; Texas; Maryland; New York;  Illinois; Florida; Nevada; West Virginia; Minnesota; Arizona; Oregon; Utah; Georgia; Washington https://www.fivestars.com/careers/ 307 2011 "},{"$f":"Table3[[#This Row],[Column26]]","v":"NA"},"NA","Fivestars","NA","Y","https://www.indeed.com/jobs?q=Fivestars&l=United%20States&vjk=b61b5c7b86c9036f"]
[null,"Forensiq","MarTech","Online advertising and e-commerce fraud detection services.","New York; California; Washington; ","https://talent.impact.com/jobs/",119,2010,{"$f":"_xlfn.CONCAT(Table3[[#This Row],[Company]:[Year Founded]]&\" \")","v":"Forensiq MarTech Online advertising and e-commerce fraud detection services. New York; California; Washington;  https://talent.impact.com/jobs/ 119 2010 "},{"$f":"Table3[[#This Row],[Column26]]","v":"Director, FP&A"},"Director, FP&A","Forensiq","NA","N"]
[null,"Freshworks","MarTech","SaaS for marketing","California","https://www.freshworks.com/eu/company/careers/",3000,2010,{"$f":"_xlfn.CONCAT(Table3[[#This Row],[Company]:[Year Founded]]&\" \")","v":"Freshworks MarTech SaaS for marketing California https://www.freshworks.com/eu/company/careers/ 3000 2010 "},{"$f":"Table3[[#This Row],[Column26]]","v":"Sr. Customer Success Manager (Remote Central / East)"},"Sr. Customer Success Manager (Remote Central / East)","Freshworks","Y","Y","https://www.indeed.com/jobs?q=Freshworks&l=United%20States&vjk=26a1dd67dccdd4d7"]
[null,"Fullscreen","MarTech","Digital branding, video publishing, content development and advertising ","California; New York","https://fullscreen.com/careers/",275,2011,{"$f":"_xlfn.CONCAT(Table3[[#This Row],[Company]:[Year Founded]]&\" \")","v":"Fullscreen MarTech Digital branding, video publishing, content development and advertising  California; New York https://fullscreen.com/careers/ 275 2011 "},{"$f":"Table3[[#This Row],[Column26]]","v":"Director of Business Development – Commercial"},"Director of Business Development – Commercial","Fullscreen","NA","N"]
[null,"FullStory","MarTech","SaaS-based analytics platform to optimize digital customer experience.","Georgia","https://www.fullstory.com/jobs/",200,2012,{"$f":"_xlfn.CONCAT(Table3[[#This Row],[Company]:[Year Founded]]&\" \")","v":"FullStory MarTech SaaS-based analytics platform to optimize digital customer experience. Georgia https://www.fullstory.com/jobs/ 200 2012 "},{"$f":"Table3[[#This Row],[Column26]]","v":"Performance Marketing Manager"},"Performance Marketing Manager","Fullstory","NA","N"]
[null,"Genesys","MarTech","Omnichannel customer experience and contact center software  for medium and large businesses","California; Maryland; Massachusetts; North Carolina; Indiana; Wisconsin; Utah; Markham; Montreal; Saint John","https://genesys.referrals.selectminds.com/",6000,1990,{"$f":"_xlfn.CONCAT(Table3[[#This Row],[Company]:[Year Founded]]&\" \")","v":"Genesys MarTech Omnichannel customer experience and contact center software  for medium and large businesses California; Maryland; Massachusetts; North Carolina; Indiana; Wisconsin; Utah; Markham; Montreal; Saint John https://genesys.referrals.selectminds.com/ 6000 1990 "},{"$f":"Table3[[#This Row],[Column26]]","v":"NEW\nSenior Manager, Product Strategy and Operations"},"NEW\nSenior Manager, Product Strategy and Operations","Genesys","NA","N"]
[null,"GlassView","MarTech","Online marketing platform that offers campaign optimization and brand content management services for advertisers and publishers.","Texas","https://www.glassview.com/en/jobs/",35,2014,{"$f":"_xlfn.CONCAT(Table3[[#This Row],[Company]:[Year Founded]]&\" \")","v":"GlassView MarTech Online marketing platform that offers campaign optimization and brand content management services for advertisers and publishers. Texas https://www.glassview.com/en/jobs/ 35 2014 "},{"$f":"Table3[[#This Row],[Column26]]","v":"Senior Content Marketing Manager"},"Senior Content Marketing Manager","GlassView","NA","N"]
[null,"Gubagoo, Inc","MarTech","A conversational commerce solutions for Automotive Dealerships for digital retailing solutions.","Florida; Remote; Canada","https://gubagoo.com/",100,2012,{"$f":"_xlfn.CONCAT(Table3[[#This Row],[Company]:[Year Founded]]&\" \")","v":"Gubagoo, Inc MarTech A conversational commerce solutions for Automotive Dealerships for digital retailing solutions. Florida; Remote; Canada https://gubagoo.com/ 100 2012 "},{"$f":"Table3[[#This Row],[Column26]]","v":"NA"},"NA","Gubagoo, Inc","NA","N"]
[null,"HG Insights","MarTech","Market analysis and target prospects of B2B companies.","California","https://hginsights.com/current-openings/?gh_jid=4077231003",280,2010,{"$f":"_xlfn.CONCAT(Table3[[#This Row],[Company]:[Year Founded]]&\" \")","v":"HG Insights MarTech Market analysis and target prospects of B2B companies. California https://hginsights.com/current-openings/?gh_jid=4077231003 280 2010 "},{"$f":"Table3[[#This Row],[Column26]]","v":"Customer Success Manager"},"Customer Success Manager","HG Insights","NA","N"]
[null,"Higher Logic","MarTech","Cloud-based engagement platform to track and manage customer interactions.","Virginia; Arizona; Oregon; New York","https://www.higherlogic.com/about/company/jobs/",335,2007,{"$f":"_xlfn.CONCAT(Table3[[#This Row],[Company]:[Year Founded]]&\" \")","v":"Higher Logic MarTech Cloud-based engagement platform to track and manage customer interactions. Virginia; Arizona; Oregon; New York https://www.higherlogic.com/about/company/jobs/ 335 2007 "},{"$f":"Table3[[#This Row],[Column26]]","v":"Sr. Data Analytics Manager, Marketing (Remote)"},"Sr. Data Analytics Manager, Marketing (Remote)","High Spot","Y","N"]
[null,"Highspot","MarTech","AI-based sales enablement platform that offers content management, sales communication and buyer engagement solutions for businesses.","Washington","https://www.highspot.com/careers/",479,2012,{"$f":"_xlfn.CONCAT(Table3[[#This Row],[Company]:[Year Founded]]&\" \")","v":"Highspot MarTech AI-based sales enablement platform that offers content management, sales communication and buyer engagement solutions for businesses. Washington https://www.highspot.com/careers/ 479 2012 "},{"$f":"Table3[[#This Row],[Column26]]","v":"Marketing Operations Manager"},"Marketing Operations Manager","Higher Logic","NA","N"]
[null,"HomeLight","MarTech","Online residential real estate platform ","California","https://www.homelight.com/careers",251,2011,{"$f":"_xlfn.CONCAT(Table3[[#This Row],[Company]:[Year Founded]]&\" \")","v":"HomeLight MarTech Online residential real estate platform  California https://www.homelight.com/careers 251 2011 "},{"$f":"Table3[[#This Row],[Column26]]","v":"Director Strategic Partnerships"},"Director Strategic Partnerships","HomeLight","NA","N"]
[null,"Hootsuite","MarTech","Web and mobile application based social media management platform ","New York; Vancouver; Toronto","https://careers.hootsuite.com/global/en/c/product-management-strategy-jobs",1000,2008,{"$f":"_xlfn.CONCAT(Table3[[#This Row],[Company]:[Year Founded]]&\" \")","v":"Hootsuite MarTech Web and mobile application based social media management platform  New York; Vancouver; Toronto https://careers.hootsuite.com/global/en/c/product-management-strategy-jobs 1000 2008 "},{"$f":"Table3[[#This Row],[Column26]]","v":"Director, Lifecycle Marketing"},"Director, Lifecycle Marketing","Hootsuite","NA","N"]
[null,"Hub Spot","MarTech","Inbound marketing, sales, customer service and CRM software products for businesses.","Cambridge, Massachusetts","https://www.hubspot.com/careers/jobs?hubs_signup-url=www.hubspot.com/careers/cambridge-ma&hubs_signup-cta=careers-location-hero&page=1",2600,2006,{"$f":"_xlfn.CONCAT(Table3[[#This Row],[Company]:[Year Founded]]&\" \")","v":"Hub Spot MarTech Inbound marketing, sales, customer service and CRM software products for businesses. Cambridge, Massachusetts https://www.hubspot.com/careers/jobs?hubs_signup-url=www.hubspot.com/careers/cambridge-ma&hubs_signup-cta=careers-location-hero&page=1 2600 2006 "},{"$f":"Table3[[#This Row],[Column26]]","v":"Account Executive"},"Account Executive","Hub Spot","Y","Y","https://www.indeed.com/jobs?q=Hub%20Spot&explvl=senior_level&vjk=7495081a435f3977"]
[null,"IDC","MarTech","Market intelligence, advisory services, and events for the Infotech, telecommunications, and consumer technology markets.","Massachusetts; Wisconsin; Remote","https://idccareers-idg.icims.com/jobs/search?ss=1",4353,1964,{"$f":"_xlfn.CONCAT(Table3[[#This Row],[Company]:[Year Founded]]&\" \")","v":"IDC MarTech Market intelligence, advisory services, and events for the Infotech, telecommunications, and consumer technology markets. Massachusetts; Wisconsin; Remote https://idccareers-idg.icims.com/jobs/search?ss=1 4353 1964 "},{"$f":"Table3[[#This Row],[Column26]]","v":"Customer Success Manager"},"Customer Success Manager","IDC","Y","Y","https://www.indeed.com/jobs?q=IDC&l=United%20States&vjk=bfc6672a9b03f968"]
[null,"IEX","MarTech","Online trading marketplace that provides fair-access platform for registered broker dealers.","New York","https://iextrading.com/careers/#open-positions",145,2012,{"$f":"_xlfn.CONCAT(Table3[[#This Row],[Company]:[Year Founded]]&\" \")","v":"IEX MarTech Online trading marketplace that provides fair-access platform for registered broker dealers. New York https://iextrading.com/careers/#open-positions 145 2012 "},{"$f":"Table3[[#This Row],[Column26]]","v":"Director of Customer Success and Technical Support"},"Director of Customer Success and Technical Support","IEX","NA","N"]
[null,"inMotionNow","MarTech","Workflow management software solutions for marketing and development teams.","North Carolina","https://www.inmotionnow.com/careers/",100,2009,{"$f":"_xlfn.CONCAT(Table3[[#This Row],[Company]:[Year Founded]]&\" \")","v":"inMotionNow MarTech Workflow management software solutions for marketing and development teams. North Carolina https://www.inmotionnow.com/careers/ 100 2009 "},{"$f":"Table3[[#This Row],[Column26]]","v":"Enterprise Sales Executive"},"Enterprise Sales Executive","inMotionNow","NA","N"]
[null,"Ipipeline","MarTech","\niPipeline is a leading provider of cloud-based software solutions for the life insurance and financial services industry. Through our SaaS solutions, we accelerate and simplify insurance sales, compliance, operations, and support.\n","Pennsylvania; Texas; Florida; North Carolina; California; Utah; Ontario","https://www.ipipeline.com/careers/",730,1995,{"$f":"_xlfn.CONCAT(Table3[[#This Row],[Company]:[Year Founded]]&\" \")","v":"Ipipeline MarTech \niPipeline is a leading provider of cloud-based software solutions for the life insurance and financial services industry. Through our SaaS solutions, we accelerate and simplify insurance sales, compliance, operations, and support.\n Pennsylvania; Texas; Florida; North Carolina; California; Utah; Ontario https://www.ipipeline.com/careers/ 730 1995 "},{"$f":"Table3[[#This Row],[Column26]]","v":"Project Manager"},"Project Manager","Ipipeline","NA","N"]
[null,"iSpot.tv, Inc","MarTech","Online platform that offers data and conversion analytics for television advertisements.","Washington","https://www.ispot.tv/careers/listings",190,2011,{"$f":"_xlfn.CONCAT(Table3[[#This Row],[Company]:[Year Founded]]&\" \")","v":"iSpot.tv, Inc MarTech Online platform that offers data and conversion analytics for television advertisements. Washington https://www.ispot.tv/careers/listings 190 2011 "},{"$f":"Table3[[#This Row],[Column26]]","v":"Customer Success Director"},"Customer Success Director","iSpot.tv, Inc","Y","Y","https://www.indeed.com/jobs?q=iSpot.tv&l=United%20States&vjk=91a09e0e50c9f0ac"]
[null,"Keap","MarTech","Customer relationship management and marketing automation ","Arizona","https://keap.com/about/careers/openings",650,2002,{"$f":"_xlfn.CONCAT(Table3[[#This Row],[Company]:[Year Founded]]&\" \")","v":"Keap MarTech Customer relationship management and marketing automation  Arizona https://keap.com/about/careers/openings 650 2002 "},{"$f":"Table3[[#This Row],[Column26]]","v":"Customer Success Manager"},"Customer Success Manager","Keap","Y","Y","https://www.indeed.com/jobs?q=Keap&l=United%20States&vjk=284adb51d15adf4f"]
[null,"Leadspace","MarTech","Cstomer data platform that offers data intelligence and predictive modeling solutions for business to business sales and marketing channels.","California; Texas","https://www.leadspace.com/careers/#open_position",87,2007,{"$f":"_xlfn.CONCAT(Table3[[#This Row],[Company]:[Year Founded]]&\" \")","v":"Leadspace MarTech Cstomer data platform that offers data intelligence and predictive modeling solutions for business to business sales and marketing channels. California; Texas https://www.leadspace.com/careers/#open_position 87 2007 "},{"$f":"Table3[[#This Row],[Column26]]","v":"Strategic Customer Success Manager"},"Strategic Customer Success Manager","Leadspace","NA","Y","https://www.indeed.com/jobs?q=Leadspace&l=United%20States&vjk=f2c9c2b6393995a5"]
[null,"Linkedin","MarTech","Professional networking site.","California; New York","https://careers.linkedin.com/",16000,2003,{"$f":"_xlfn.CONCAT(Table3[[#This Row],[Company]:[Year Founded]]&\" \")","v":"Linkedin MarTech Professional networking site. California; New York https://careers.linkedin.com/ 16000 2003 "},{"$f":"Table3[[#This Row],[Column26]]","v":"Principal Customer Success Manager"},"Principal Customer Success Manager","Linkedin","Y","N"]
[null,"Lithium","MarTech","Social media software for on-demand, hosted forums and chats.","California; New York; Oregon","https://careers-khoros.icims.com/jobs/search?ss=1&searchLocation=12781--",577,2019,{"$f":"_xlfn.CONCAT(Table3[[#This Row],[Company]:[Year Founded]]&\" \")","v":"Lithium MarTech Social media software for on-demand, hosted forums and chats. California; New York; Oregon https://careers-khoros.icims.com/jobs/search?ss=1&searchLocation=12781-- 577 2019 "},{"$f":"Table3[[#This Row],[Column26]]","v":"Senior Customer Success Manager"},"Senior Customer Success Manager","Lithium","Y","Y","https://www.indeed.com/jobs?q=Lithium&l=United%20States&vjk=532b8baba6ea47b3"]
[null,"LivePerson","MarTech","AI-based conversational platform for online marketing and web analytics ","New York; Georgia; Texas, California; Washington","https://www.liveperson.com/company/careers/",1100,1995,{"$f":"_xlfn.CONCAT(Table3[[#This Row],[Company]:[Year Founded]]&\" \")","v":"LivePerson MarTech AI-based conversational platform for online marketing and web analytics  New York; Georgia; Texas, California; Washington https://www.liveperson.com/company/careers/ 1100 1995 "},{"$f":"Table3[[#This Row],[Column26]]","v":"Customer Success Manager"},"Customer Success Manager","LivePerson","NA","Y","https://www.indeed.com/jobs?q=LivePerson&l=United%20States&vjk=b7de166e4e26c0ab"]
[null,"LiveRamp","MarTech","Search engine optimization for digital marekting ","California; Massachusetts; Illinois; Arizona; New York; Pennsylvania; Washington","https://liveramp.com/careers/open-positions/",950,2011,{"$f":"_xlfn.CONCAT(Table3[[#This Row],[Company]:[Year Founded]]&\" \")","v":"LiveRamp MarTech Search engine optimization for digital marekting  California; Massachusetts; Illinois; Arizona; New York; Pennsylvania; Washington https://liveramp.com/careers/open-positions/ 950 2011 "},{"$f":"Table3[[#This Row],[Column26]]","v":"Customer Success Director, Brands"},"Customer Success Director, Brands","LiveRamp","NA","Y","https://www.indeed.com/jobs?q=LiveRamp&l=United%20States&vjk=52d9711a9e2ae6f7"]
[null,"Lob","MarTech","Application programming interface that allows businesses to integrate message and mail solutions into web and mobile applications.","California","https://lob.com/careers",250,2013,{"$f":"_xlfn.CONCAT(Table3[[#This Row],[Company]:[Year Founded]]&\" \")","v":"Lob MarTech Application programming interface that allows businesses to integrate message and mail solutions into web and mobile applications. California https://lob.com/careers 250 2013 "},{"$f":"Table3[[#This Row],[Column26]]","v":"Senior Strategic Customer Success Manager\nUnited States"},"Senior Strategic Customer Success Manager\nUnited States","Lob","NA","N"]
[null,"Localytics","MarTech"," mobile engagement platform for web and mobile apps","Massachusetts","https://www.localytics.com/company/careers/",300,2008,{"$f":"_xlfn.CONCAT(Table3[[#This Row],[Company]:[Year Founded]]&\" \")","v":"Localytics MarTech  mobile engagement platform for web and mobile apps Massachusetts https://www.localytics.com/company/careers/ 300 2008 "},{"$f":"Table3[[#This Row],[Column26]]","v":"\nCustomer Success Manager"},"\nCustomer Success Manager","Localytics","Y","N"]
[null,"Loopio","MarTech","Cloud-based platform for sales team to collaborate and automate the workflow processes. ","Toronto","https://loopio.com/careers/",127,2014,{"$f":"_xlfn.CONCAT(Table3[[#This Row],[Company]:[Year Founded]]&\" \")","v":"Loopio MarTech Cloud-based platform for sales team to collaborate and automate the workflow processes.  Toronto https://loopio.com/careers/ 127 2014 "},{"$f":"Table3[[#This Row],[Column26]]","v":"Customer Success Manager"},"Customer Success Manager","Loopio","NA","N"]
[null,"LumenAd","MarTech","Cloud-based platform to manage advertising ","Montana","https://lumenad.applytojob.com/apply",90,2014,{"$f":"_xlfn.CONCAT(Table3[[#This Row],[Company]:[Year Founded]]&\" \")","v":"LumenAd MarTech Cloud-based platform to manage advertising  Montana https://lumenad.applytojob.com/apply 90 2014 "},{"$f":"Table3[[#This Row],[Column26]]","v":"NA"},"NA","Lumenad","NA","N"]
[null,"Mailgun","MarTech","Email automation platform for developers","Texas; Georgia; California","https://www.mailgun.com/jobs/mailgun-jobs/",240,2010,{"$f":"_xlfn.CONCAT(Table3[[#This Row],[Company]:[Year Founded]]&\" \")","v":"Mailgun MarTech Email automation platform for developers Texas; Georgia; California https://www.mailgun.com/jobs/mailgun-jobs/ 240 2010 "},{"$f":"Table3[[#This Row],[Column26]]","v":"Customer Success Manager"},"Customer Success Manager","Mailgun","Y","N"]
[null,"Matchstick","MarTech","Digital marketing serving Canadian business.","Toronto","https://www.matchstick.ca/",19,2001,{"$f":"_xlfn.CONCAT(Table3[[#This Row],[Company]:[Year Founded]]&\" \")","v":"Matchstick MarTech Digital marketing serving Canadian business. Toronto https://www.matchstick.ca/ 19 2001 "},{"$f":"Table3[[#This Row],[Column26]]","v":"NA"},"NA","Matchstick","NA","N"]
[null,"MediaAlpha","MarTech","Pogrammatic advertising platform for marketing campaign management ","Washington; Florida; California","https://mediaalpha.com/careers/",85,2010,{"$f":"_xlfn.CONCAT(Table3[[#This Row],[Company]:[Year Founded]]&\" \")","v":"MediaAlpha MarTech Pogrammatic advertising platform for marketing campaign management  Washington; Florida; California https://mediaalpha.com/careers/ 85 2010 "},{"$f":"Table3[[#This Row],[Column26]]","v":"NA"},"NA","MediaAlpha","NA","N"]
[null,"Message Gears","MarTech","Enterprise email marketing","Georgia","https://messagegears.com/about/careers/",47,2010,{"$f":"_xlfn.CONCAT(Table3[[#This Row],[Company]:[Year Founded]]&\" \")","v":"Message Gears MarTech Enterprise email marketing Georgia https://messagegears.com/about/careers/ 47 2010 "},{"$f":"Table3[[#This Row],[Column26]]","v":"Product Manager"},"Product Manager","Message Gears","NA","Y","https://www.indeed.com/jobs?q=Message%20Gears&l=United%20States&explvl=senior_level&vjk=79bb00ae6183c1f1"]
[null,"Mimecast","MarTech","Email management portal.","Illinois; Texas; Massachusetts; California","https://www.mimecast.com/company/careers-at-mimecast/",1500,2003,{"$f":"_xlfn.CONCAT(Table3[[#This Row],[Company]:[Year Founded]]&\" \")","v":"Mimecast MarTech Email management portal. Illinois; Texas; Massachusetts; California https://www.mimecast.com/company/careers-at-mimecast/ 1500 2003 "},{"$f":"Table3[[#This Row],[Column26]]","v":"Field Marketing Manager"},"Field Marketing Manager","Mimecast","Y","Y","https://www.indeed.com/jobs?q=Mimecast&start=10&vjk=2216060911baf676"]
[null,"MindTickle","MarTech","Sales enablement and readiness platform that provides revenue analytics and micro-learning solutions to businesses.","California","https://www.mindtickle.com/careers/",415,2011,{"$f":"_xlfn.CONCAT(Table3[[#This Row],[Company]:[Year Founded]]&\" \")","v":"MindTickle MarTech Sales enablement and readiness platform that provides revenue analytics and micro-learning solutions to businesses. California https://www.mindtickle.com/careers/ 415 2011 "},{"$f":"Table3[[#This Row],[Column26]]","v":"Business Operations Manager"},"Business Operations Manager","MindTickle","NA","N"]
[null,"Mobile Monkey","MarTech","Offers multi-channel chatbot builder and social media platform","Massachusetts","https://mobilemonkey.com/jobs",20,2017,{"$f":"_xlfn.CONCAT(Table3[[#This Row],[Company]:[Year Founded]]&\" \")","v":"Mobile Monkey MarTech Offers multi-channel chatbot builder and social media platform Massachusetts https://mobilemonkey.com/jobs 20 2017 "},{"$f":"Table3[[#This Row],[Column26]]","v":"Strategic Partner & International Growth Marketing Manager"},"Strategic Partner & International Growth Marketing Manager","Mobile Monkey","Y","N"]
[null,"Monetate","MarTech","Personalized marketing platform that uses big data and artificial intelligence to deliver real-time, multichannel customer engagement and targeted advertising. Subsididary of Kibo","New York; Texas; Pennsylvania; California","https://kibocommerce.com/careers/join-the-kibo-team/",130,2008,{"$f":"_xlfn.CONCAT(Table3[[#This Row],[Company]:[Year Founded]]&\" \")","v":"Monetate MarTech Personalized marketing platform that uses big data and artificial intelligence to deliver real-time, multichannel customer engagement and targeted advertising. Subsididary of Kibo New York; Texas; Pennsylvania; California https://kibocommerce.com/careers/join-the-kibo-team/ 130 2008 "},{"$f":"Table3[[#This Row],[Column26]]","v":"Customer Success Manager"},"Customer Success Manager","Monetate","NA","N"]
[null,"Nuvi","MarTech","Analytics platform for commercial use of social media\n","Lehi, Utah","https://www.nuvi.com/company#careers",150,2005,{"$f":"_xlfn.CONCAT(Table3[[#This Row],[Company]:[Year Founded]]&\" \")","v":"Nuvi MarTech Analytics platform for commercial use of social media\n Lehi, Utah https://www.nuvi.com/company#careers 150 2005 "},{"$f":"Table3[[#This Row],[Column26]]","v":"Customer Success Manager, Healthcare Enterprise"},"Customer Success Manager, Healthcare Enterprise","Nuvi","NA","N"]
[null,"Outreach","MarTech","Data-driven platform for B2B sales.","Washington; California; Florida","https://www.outreach.io/company/working-at-outreach#openings",550,2013,{"$f":"_xlfn.CONCAT(Table3[[#This Row],[Company]:[Year Founded]]&\" \")","v":"Outreach MarTech Data-driven platform for B2B sales. Washington; California; Florida https://www.outreach.io/company/working-at-outreach#openings 550 2013 "},{"$f":"Table3[[#This Row],[Column26]]","v":"Director of Sales Development"},"Director of Sales Development","Outreach","NA","N"]
[null,"PandaDoc","MarTech","Software solution to create, deliver and manage a sales team’s quotes, proposals, contracts and other collateral.","California; South Carolina; Florida","https://www.pandadoc.com/careers/",285,2013,{"$f":"_xlfn.CONCAT(Table3[[#This Row],[Company]:[Year Founded]]&\" \")","v":"PandaDoc MarTech Software solution to create, deliver and manage a sales team’s quotes, proposals, contracts and other collateral. California; South Carolina; Florida https://www.pandadoc.com/careers/ 285 2013 "},{"$f":"Table3[[#This Row],[Column26]]","v":"Manager/Sr. Manager, Corporate Finance"},"Manager/Sr. Manager, Corporate Finance","PandaDoc","NA","Y","https://www.indeed.com/jobs?q=PandaDoc&l=United%20States&vjk=a5f7b47827fba3b4"]
[null,"Pantheon","MarTech","WebOps for digital marketing.","California; Minneapolis; New York","https://pantheon.io/careers#greenhouse-board-list",241,2010,{"$f":"_xlfn.CONCAT(Table3[[#This Row],[Company]:[Year Founded]]&\" \")","v":"Pantheon MarTech WebOps for digital marketing. California; Minneapolis; New York https://pantheon.io/careers#greenhouse-board-list 241 2010 "},{"$f":"Table3[[#This Row],[Column26]]","v":"Senior Financial Systems Manager"},"Senior Financial Systems Manager","Pantheon","NA","Y","https://www.indeed.com/jobs?q=Pantheon&l=United%20States&vjk=c468cd8595485e19"]
[null,"Performio","MarTech"," SaaS-based platform for provides sales performance management and incentive compensation ","California","https://www.performio.co/careers",90,2006,{"$f":"_xlfn.CONCAT(Table3[[#This Row],[Company]:[Year Founded]]&\" \")","v":"Performio MarTech  SaaS-based platform for provides sales performance management and incentive compensation  California https://www.performio.co/careers 90 2006 "},{"$f":"Table3[[#This Row],[Column26]]","v":"Customer Success Manager"},"Customer Success Manager","Performio","Y","Y","https://www.indeed.com/jobs?q=Performio&l=United%20States&vjk=1ba4d8c005d8f666"]
[null,"Persado","MarTech","Content platform for digital marketers to create words, phrases and images for emails and web pages.","New York; Georgia; Illinois; California; Washington; Toronto","https://www.persado.com/about/careers/job-availability/",292,2012,{"$f":"_xlfn.CONCAT(Table3[[#This Row],[Company]:[Year Founded]]&\" \")","v":"Persado MarTech Content platform for digital marketers to create words, phrases and images for emails and web pages. New York; Georgia; Illinois; California; Washington; Toronto https://www.persado.com/about/careers/job-availability/ 292 2012 "},{"$f":"Table3[[#This Row],[Column26]]","v":"Strategic Account Manager - Healthcare"},"Strategic Account Manager - Healthcare","Persado","NA","Y","https://www.indeed.com/jobs?q=Persado&l=United%20States&vjk=6f0779e992bac657"]
[null,"Piano","MarTech","Content monetization platform to analyze user behavior and customize digital experiences for digital media companies.","New York; Pennsylvania; California","https://piano.io/careers/",185,2010,{"$f":"_xlfn.CONCAT(Table3[[#This Row],[Company]:[Year Founded]]&\" \")","v":"Piano MarTech Content monetization platform to analyze user behavior and customize digital experiences for digital media companies. New York; Pennsylvania; California https://piano.io/careers/ 185 2010 "},{"$f":"Table3[[#This Row],[Column26]]","v":"Product Marketing Manager, Analytics"},"Product Marketing Manager, Analytics","Piano","NA","N"]
[null,"Pinterest","MarTech","Social media, online platform for image sharing.","California; Georgia; Illinois; Michigan; New York; Washington; Utah; Oregon; Toronto","https://www.pinterestcareers.com/jobs/search",2000,2009,{"$f":"_xlfn.CONCAT(Table3[[#This Row],[Company]:[Year Founded]]&\" \")","v":"Pinterest MarTech Social media, online platform for image sharing. California; Georgia; Illinois; Michigan; New York; Washington; Utah; Oregon; Toronto https://www.pinterestcareers.com/jobs/search 2000 2009 "},{"$f":"Table3[[#This Row],[Column26]]","v":"Manager, Sales Strategy & Operations"},"Manager, Sales Strategy & Operations","Pinterest","NA","Y","https://www.indeed.com/jobs?q=Pinterest&l=United%20States&vjk=a56d60bb3af9a0cd"]
[null,"Pixalate","MarTech","Analytics platform to simplify display and mobile advertising analytics for advertisers and publishers.","California","https://pixalate.com/jobs/",35,2011,{"$f":"_xlfn.CONCAT(Table3[[#This Row],[Company]:[Year Founded]]&\" \")","v":"Pixalate MarTech Analytics platform to simplify display and mobile advertising analytics for advertisers and publishers. California https://pixalate.com/jobs/ 35 2011 "},{"$f":"Table3[[#This Row],[Column26]]","v":"Customer Success Manager"},"Customer Success Manager","Pixalate","NA","N"]
[null,"PowerChord","MarTech","Digital brand management through local and multi-location sales channels.","Florida","https://www.powerchord.com/careers/",89,2001,{"$f":"_xlfn.CONCAT(Table3[[#This Row],[Company]:[Year Founded]]&\" \")","v":"PowerChord MarTech Digital brand management through local and multi-location sales channels. Florida https://www.powerchord.com/careers/ 89 2001 "},{"$f":"Table3[[#This Row],[Column26]]","v":"Sales Director"},"Sales Director","PowerChord","NA","N"]
[null,"Productboard","MarTech","Product management platform that offers product strategy, design and marketing","California","https://careers.productboard.com/#joinus",75,2014,{"$f":"_xlfn.CONCAT(Table3[[#This Row],[Company]:[Year Founded]]&\" \")","v":"Productboard MarTech Product management platform that offers product strategy, design and marketing California https://careers.productboard.com/#joinus 75 2014 "},{"$f":"Table3[[#This Row],[Column26]]","v":"Account Executive"},"Account Executive","Productboard","Y","Y","https://www.indeed.com/jobs?q=Productboard&l=United%20States&vjk=c728d198cd9e749b"]
[null,"Promenade Group","MarTech","Promenade empowers local businesses with a full suite of commerce tools: websites, point-of-sale, marketing, delivery, and back-office management.","California","https://getpromenade.com/careers/",200,2012,{"$f":"_xlfn.CONCAT(Table3[[#This Row],[Company]:[Year Founded]]&\" \")","v":"Promenade Group MarTech Promenade empowers local businesses with a full suite of commerce tools: websites, point-of-sale, marketing, delivery, and back-office management. California https://getpromenade.com/careers/ 200 2012 "},{"$f":"Table3[[#This Row],[Column26]]","v":"Executive Project Manager"},"Executive Project Manager","Promenade Group"]
[null,"Properly","MarTech","Online real estate platform that allows users to sell their residential properties","Calgary; Ottawa; Toronto","https://www.properly.ca/careers/",20,2018,{"$f":"_xlfn.CONCAT(Table3[[#This Row],[Company]:[Year Founded]]&\" \")","v":"Properly MarTech Online real estate platform that allows users to sell their residential properties Calgary; Ottawa; Toronto https://www.properly.ca/careers/ 20 2018 "},{"$f":"Table3[[#This Row],[Column26]]","v":"Senior Economist"},"Senior Economist","Properly","Y","N"]
[null,"Rainmaker Associates, Inc","MarTech","Salesforce based solutions for the commercial sector","Washington; Texas; Pennsylvania","https://www.rainmakercloud.com/about-us/careers/",53,1998,{"$f":"_xlfn.CONCAT(Table3[[#This Row],[Company]:[Year Founded]]&\" \")","v":"Rainmaker Associates, Inc MarTech Salesforce based solutions for the commercial sector Washington; Texas; Pennsylvania https://www.rainmakercloud.com/about-us/careers/ 53 1998 "},{"$f":"Table3[[#This Row],[Column26]]","v":"Senior Account Executive"},"Senior Account Executive","Rainmaker Associates, Inc","Y","Y","https://www.indeed.com/jobs?q=Rainmaker%20Associates%2C%20Inc&explvl=senior_level&start=20&vjk=264d7f9db297621f"]
[null,"Recurly","MarTech","SaaS-based platform that offers subscription management and payment optimization solutions for media and education sectors.","California; Colorado","https://recurly.com/jobs/",240,2009,{"$f":"_xlfn.CONCAT(Table3[[#This Row],[Company]:[Year Founded]]&\" \")","v":"Recurly MarTech SaaS-based platform that offers subscription management and payment optimization solutions for media and education sectors. California; Colorado https://recurly.com/jobs/ 240 2009 "},{"$f":"Table3[[#This Row],[Column26]]","v":"Customer Success Manager"},"Customer Success Manager","Recurly","Y","N"]
[null,"Red Ventures","MarTech","Online marketing solutions for home services, financial services, and healthcare industries.","South Carolina; Texas; North Carolina; Michigan; New York; Florida; California","https://careers.redventures.com/positions.html",3600,2000,{"$f":"_xlfn.CONCAT(Table3[[#This Row],[Company]:[Year Founded]]&\" \")","v":"Red Ventures MarTech Online marketing solutions for home services, financial services, and healthcare industries. South Carolina; Texas; North Carolina; Michigan; New York; Florida; California https://careers.redventures.com/positions.html 3600 2000 "},{"$f":"Table3[[#This Row],[Column26]]","v":"Account Manager"},"Account Manager","Red Ventures","Y","Y","https://www.indeed.com/jobs?q=Red%20Ventures&l=United%20States&start=20&vjk=221d6460112919f1"]
[null,"Root Insurance Co","MarTech","Car insurance rates and coverage based on driving information gathered from customers' mobile telephones.","Ohio; Illinois; Remote","https://www.joinroot.com/careers/",850,2015,{"$f":"_xlfn.CONCAT(Table3[[#This Row],[Company]:[Year Founded]]&\" \")","v":"Root Insurance Co MarTech Car insurance rates and coverage based on driving information gathered from customers' mobile telephones. Ohio; Illinois; Remote https://www.joinroot.com/careers/ 850 2015 "},{"$f":"Table3[[#This Row],[Column26]]","v":"NA"},"NA","Root Insurance Co","NA","N"]
[null,"Salesforce","MarTech","Cloud-based platform that offers customer relationship management solutions for the sales and marketing sectors.","California","https://www.salesforce.com/ap/company/careers/",35000,1999,{"$f":"_xlfn.CONCAT(Table3[[#This Row],[Company]:[Year Founded]]&\" \")","v":"Salesforce MarTech Cloud-based platform that offers customer relationship management solutions for the sales and marketing sectors. California https://www.salesforce.com/ap/company/careers/ 35000 1999 "},{"$f":"Table3[[#This Row],[Column26]]","v":"Professional Services Project Manager"},"Professional Services Project Manager","Salesforce","Y","Y","https://www.indeed.com/jobs?q=Salesforce&l&vjk=01850bad0ddc8cdd"]
[null,"SalesLoft","MarTech","sales engagement platform that provides email communication and business intelligence solutions to the enterprise sector.","Georgia","https://salesloft.com/company/careers/",450,2011,{"$f":"_xlfn.CONCAT(Table3[[#This Row],[Company]:[Year Founded]]&\" \")","v":"SalesLoft MarTech sales engagement platform that provides email communication and business intelligence solutions to the enterprise sector. Georgia https://salesloft.com/company/careers/ 450 2011 "},{"$f":"Table3[[#This Row],[Column26]]","v":"Customer Success Enablement Manager"},"Customer Success Enablement Manager","SalesLoft","Y","Y","https://www.indeed.com/jobs?q=SalesLoft&explvl=senior_level&vjk=503b602f13fb0c51"]
[null,"Seismic","MarTech","Sales enablement and content management software","California; Massachusetts; Illinois; North Carolina","https://seismic.com/company/careers/job-listings/",900,2010,{"$f":"_xlfn.CONCAT(Table3[[#This Row],[Company]:[Year Founded]]&\" \")","v":"Seismic MarTech Sales enablement and content management software California; Massachusetts; Illinois; North Carolina https://seismic.com/company/careers/job-listings/ 900 2010 "},{"$f":"Table3[[#This Row],[Column26]]","v":"Senior Customer Success Manager"},"Senior Customer Success Manager","Seismic","Y","N"]
[null,"SendGrid","MarTech","Cloud-based platform that provides transactional and marketing email delivery and management services ","Colorado; California","https://sendgrid.com/",500,2009,{"$f":"_xlfn.CONCAT(Table3[[#This Row],[Company]:[Year Founded]]&\" \")","v":"SendGrid MarTech Cloud-based platform that provides transactional and marketing email delivery and management services  Colorado; California https://sendgrid.com/ 500 2009 "},{"$f":"Table3[[#This Row],[Column26]]","v":"Revenue Accounting Manager"},"Revenue Accounting Manager","SendGrid","NA","N"]
[null,"Sendoso","MarTech","Sending Platform for gifting, email marketing, and marketing automation","California; Arizona","https://sendoso.com/sendoso-careers/",120,2016,{"$f":"_xlfn.CONCAT(Table3[[#This Row],[Company]:[Year Founded]]&\" \")","v":"Sendoso MarTech Sending Platform for gifting, email marketing, and marketing automation California; Arizona https://sendoso.com/sendoso-careers/ 120 2016 "},{"$f":"Table3[[#This Row],[Column26]]","v":"Sales Development Manager"},"Sales Development Manager","Sendoso","Y","N"]
[null,"SharSpring","MarTech","Cloud-based marketing automation platform ","Florida","https://careers.sharpspring.com/careers-list/",187,2011,{"$f":"_xlfn.CONCAT(Table3[[#This Row],[Company]:[Year Founded]]&\" \")","v":"SharSpring MarTech Cloud-based marketing automation platform  Florida https://careers.sharpspring.com/careers-list/ 187 2011 "},{"$f":"Table3[[#This Row],[Column26]]","v":"Product Marketing Manager"},"Product Marketing Manager","SharSpring","NA","N"]
[null,"Showpad","MarTech","AI-based platform for provides sales and marketing content management ","Illinois; Oregon; California","https://www.showpad.com/careers/",450,2011,{"$f":"_xlfn.CONCAT(Table3[[#This Row],[Company]:[Year Founded]]&\" \")","v":"Showpad MarTech AI-based platform for provides sales and marketing content management  Illinois; Oregon; California https://www.showpad.com/careers/ 450 2011 "},{"$f":"Table3[[#This Row],[Column26]]","v":"Principal Customer Success Manager"},"Principal Customer Success Manager","Showpad","Y","N"]
[null,"Sirius XM Radio","MarTech","World’s largest audio entertainment company. Platform for subscription and advertising-supported audio products.","New York; New Jersey; Michigan; Kentucky","https://www.siriusxm.com/",2700,1990,{"$f":"_xlfn.CONCAT(Table3[[#This Row],[Company]:[Year Founded]]&\" \")","v":"Sirius XM Radio MarTech World’s largest audio entertainment company. Platform for subscription and advertising-supported audio products. New York; New Jersey; Michigan; Kentucky https://www.siriusxm.com/ 2700 1990 "},{"$f":"Table3[[#This Row],[Column26]]","v":"Director, Revenue Analysis & Planning"},"Director, Revenue Analysis & Planning","Sirius XM Radio","Y","Y","https://www.indeed.com/jobs?q=Sirius%20XM%20Radio&l=United%20States&vjk=999db2a834538e06"]
[null,"Sitecore","MarTech","Web content management and multichannel marketing ","California; North Carolina; New York; Pennsylvania; New Hampshire; Texas; Gatineau; Toronto","https://www.sitecore.com/company/careers/jobs-at-sitecore?utm_websource=company.careers&p=search%3Fc%3DSales%2B%2526%2BServices%26p%3D0",1400,2001,{"$f":"_xlfn.CONCAT(Table3[[#This Row],[Company]:[Year Founded]]&\" \")","v":"Sitecore MarTech Web content management and multichannel marketing  California; North Carolina; New York; Pennsylvania; New Hampshire; Texas; Gatineau; Toronto https://www.sitecore.com/company/careers/jobs-at-sitecore?utm_websource=company.careers&p=search%3Fc%3DSales%2B%2526%2BServices%26p%3D0 1400 2001 "},{"$f":"Table3[[#This Row],[Column26]]","v":"Client Manager"},"Client Manager","Sitecore","NA","N"]
[null,"Slice","MarTech","Web and mobile-based application that allows foodies to search, discover and order pizza.","New York","https://slicelife.com/careers",15,2010,{"$f":"_xlfn.CONCAT(Table3[[#This Row],[Company]:[Year Founded]]&\" \")","v":"Slice MarTech Web and mobile-based application that allows foodies to search, discover and order pizza. New York https://slicelife.com/careers 15 2010 "},{"$f":"Table3[[#This Row],[Column26]]","v":"Strategic Account Executive"},"Strategic Account Executive","Slice","NA","N"]
[null,"Smarsh","MarTech","Electronic communications archiving solutions for social media platforms, email and instant messaging","Oregon; Massachusetts; New York; North Carolina; California; Georgia","https://www.smarsh.com/careers/us-emea-openings",623,2001,{"$f":"_xlfn.CONCAT(Table3[[#This Row],[Company]:[Year Founded]]&\" \")","v":"Smarsh MarTech Electronic communications archiving solutions for social media platforms, email and instant messaging Oregon; Massachusetts; New York; North Carolina; California; Georgia https://www.smarsh.com/careers/us-emea-openings 623 2001 "},{"$f":"Table3[[#This Row],[Column26]]","v":"Senior Product Marketing Manager - Remote/WFH"},"Senior Product Marketing Manager - Remote/WFH","Smarsh","Y","Y","https://www.indeed.com/jobs?q=Smarsh&l=United%20States&vjk=0edfd6fd19432cd6"]
[null,"SmartSItes","MarTech","Digital marketing services for small businesses.","New Jersey","https://www.smartsites.com/company/careers/",81,2011,{"$f":"_xlfn.CONCAT(Table3[[#This Row],[Company]:[Year Founded]]&\" \")","v":"SmartSItes MarTech Digital marketing services for small businesses. New Jersey https://www.smartsites.com/company/careers/ 81 2011 "},{"$f":"Table3[[#This Row],[Column26]]","v":"Account Manager"},"Account Manager","SmartSItes","NA","N"]
[null,"Spredfast","MarTech","Social media marketing platform  for managing and monitoring audience experiences and brand engagement.","California; Texas; New York; Oregon","https://careers-khoros.icims.com/jobs/search?ss=1&searchLocation=12781--",500,2008,{"$f":"_xlfn.CONCAT(Table3[[#This Row],[Company]:[Year Founded]]&\" \")","v":"Spredfast MarTech Social media marketing platform  for managing and monitoring audience experiences and brand engagement. California; Texas; New York; Oregon https://careers-khoros.icims.com/jobs/search?ss=1&searchLocation=12781-- 500 2008 "},{"$f":"Table3[[#This Row],[Column26]]","v":"Senior Customer Success Manager"},"Senior Customer Success Manager","Spredfast","NA","N"]
[null,"Sproutsocial","MarTech","Social media monitoring, marketing and analytics","Illinois; Washington","https://sproutsocial.com/careers/open-positions/#/",623,2010,{"$f":"_xlfn.CONCAT(Table3[[#This Row],[Company]:[Year Founded]]&\" \")","v":"Sproutsocial MarTech Social media monitoring, marketing and analytics Illinois; Washington https://sproutsocial.com/careers/open-positions/#/ 623 2010 "},{"$f":"Table3[[#This Row],[Column26]]","v":"Customer Success Manager"},"Customer Success Manager","Sproutsocial","NA","N"]
[null,"StackAdapt","MarTech"," Self-serve programmatic advertising platform","Ottawa","https://www.stackadapt.com/careers",130,2013,{"$f":"_xlfn.CONCAT(Table3[[#This Row],[Company]:[Year Founded]]&\" \")","v":"StackAdapt MarTech  Self-serve programmatic advertising platform Ottawa https://www.stackadapt.com/careers 130 2013 "},{"$f":"Table3[[#This Row],[Column26]]","v":"Marketing Manager"},"Marketing Manager","StackAdapt","NA","N"]
[null,"Tapad","MarTech","Marketing technology, providing cross-device advertising and content delivery software.","New York; Georgia; Michigan; Massachusetts; Illinois; Texas; Colorado; California; Florida; Minnesota; Toronto","https://www.tapad.com/careers/open-roles",160,2010,{"$f":"_xlfn.CONCAT(Table3[[#This Row],[Company]:[Year Founded]]&\" \")","v":"Tapad MarTech Marketing technology, providing cross-device advertising and content delivery software. New York; Georgia; Michigan; Massachusetts; Illinois; Texas; Colorado; California; Florida; Minnesota; Toronto https://www.tapad.com/careers/open-roles 160 2010 "},{"$f":"Table3[[#This Row],[Column26]]","v":"Senior Product Manager"},"Senior Product Manager","Tapad","NA","N"]
[null,"Telaria, Inc","MarTech","Software platform for online video advertising services for advertisers, agencies and publishers.","New York; California; Toronto","https://boards.greenhouse.io/telaria#.WrKimZPwYUG",107,2005,{"$f":"_xlfn.CONCAT(Table3[[#This Row],[Company]:[Year Founded]]&\" \")","v":"Telaria, Inc MarTech Software platform for online video advertising services for advertisers, agencies and publishers. New York; California; Toronto https://boards.greenhouse.io/telaria#.WrKimZPwYUG 107 2005 "},{"$f":"Table3[[#This Row],[Column26]]","v":"Client Partner, Agency & Brand Relations"},"Client Partner, Agency & Brand Relations","Telaria, Inc","NA","N"]
[null,"The Trade Desk, Inc","MarTech","Data analytics to support marketing","California; Washington; Colorado; Illinois; New York","https://www.thetradedesk.com/careers/open-positions",944,2009,{"$f":"_xlfn.CONCAT(Table3[[#This Row],[Company]:[Year Founded]]&\" \")","v":"The Trade Desk, Inc MarTech Data analytics to support marketing California; Washington; Colorado; Illinois; New York https://www.thetradedesk.com/careers/open-positions 944 2009 "},{"$f":"Table3[[#This Row],[Column26]]","v":"Account Manager"},"Account Manager","The Trade Desk, Inc","NA","Y","https://www.indeed.com/jobs?q=The+trade+desk&l=&vjk=9205aafb170f5780"]
[null,"TikTok","MarTech","Video-sharing, social networking platform.","California","https://careers.tiktok.com/position?keywords=&category=6704215913488451847&location=CT_243%2CCT_114&project=&type=1&job_hot_flag=&current=1&limit=10",2000,2016,{"$f":"_xlfn.CONCAT(Table3[[#This Row],[Company]:[Year Founded]]&\" \")","v":"TikTok MarTech Video-sharing, social networking platform. California https://careers.tiktok.com/position?keywords=&category=6704215913488451847&location=CT_243%2CCT_114&project=&type=1&job_hot_flag=&current=1&limit=10 2000 2016 "},{"$f":"Table3[[#This Row],[Column26]]","v":"Product Marketing Manager, Sales & Operations Management Platform (CRM)"},"Product Marketing Manager, Sales & Operations Management Platform (CRM)","TikTok","NA","Y"]
[null,"Trade Desk","MarTech","Online demand-side platform that provides buying tools for digital media buyers.","California; Washington; Colorado; Illinois; New York; Toronto","https://www.thetradedesk.com/careers/open-positions",944,2009,{"$f":"_xlfn.CONCAT(Table3[[#This Row],[Company]:[Year Founded]]&\" \")","v":"Trade Desk MarTech Online demand-side platform that provides buying tools for digital media buyers. California; Washington; Colorado; Illinois; New York; Toronto https://www.thetradedesk.com/careers/open-positions 944 2009 "},{"$f":"Table3[[#This Row],[Column26]]","v":"Senior Account Executive"},"Senior Account Executive","Trade Desk","Y","Y","https://www.indeed.com/jobs?q=Trade%20Desk&explvl=senior_level&start=60&vjk=fd2a367b66adb577"]
[null,"Trendkite","MarTech","Analytics platform for SEO measurement, campaign metrics and reporting solutions for brand and media agencies.","Texas","https://www.cision.com/careers/#postings",227,2012,{"$f":"_xlfn.CONCAT(Table3[[#This Row],[Company]:[Year Founded]]&\" \")","v":"Trendkite MarTech Analytics platform for SEO measurement, campaign metrics and reporting solutions for brand and media agencies. Texas https://www.cision.com/careers/#postings 227 2012 "},{"$f":"Table3[[#This Row],[Column26]]","v":"Senior Product Marketing Manager"},"Senior Product Marketing Manager","Trendkite","NA","N"]
[null,"TripleLift ","MarTech","Programmatic advertising platform that allows brands to amplify their content through in-feed native ads.","New York; Illinois; California; Michigan","https://triplelift.com/careers/",320,2012,{"$f":"_xlfn.CONCAT(Table3[[#This Row],[Company]:[Year Founded]]&\" \")","v":"TripleLift  MarTech Programmatic advertising platform that allows brands to amplify their content through in-feed native ads. New York; Illinois; California; Michigan https://triplelift.com/careers/ 320 2012 "},{"$f":"Table3[[#This Row],[Column26]]","v":"Sr. International Marketing Director, Sales Enablement"},"Sr. International Marketing Director, Sales Enablement","TripleLift ","NA","N"]
[null,"Uberflip","MarTech","Content marketing platform for B2B marketing and sales teams ","Toronto","https://www.uberflip.com/careers/",139,2012,{"$f":"_xlfn.CONCAT(Table3[[#This Row],[Company]:[Year Founded]]&\" \")","v":"Uberflip MarTech Content marketing platform for B2B marketing and sales teams  Toronto https://www.uberflip.com/careers/ 139 2012 "},{"$f":"Table3[[#This Row],[Column26]]","v":"Customer Success Manager"},"Customer Success Manager","Uberflip","NA","N"]
[null,"Unbounce","MarTech","AI-based marketing platform to create, launch and test landing pages, popups, and sticky bars.","Vancouver","https://unbounce.com/careers/",200,2009,{"$f":"_xlfn.CONCAT(Table3[[#This Row],[Company]:[Year Founded]]&\" \")","v":"Unbounce MarTech AI-based marketing platform to create, launch and test landing pages, popups, and sticky bars. Vancouver https://unbounce.com/careers/ 200 2009 "},{"$f":"Table3[[#This Row],[Column26]]","v":"SEO & Web Marketing Manager|Remote, CA"},"SEO & Web Marketing Manager|Remote, CA","Unbounce","NA","N"]
[null,"Upland Localytics","MarTech","Mobile engagement platform for analytics and marketing","Texas; Nebraska; Laval","https://uplandsoftware.com/about-upland/careers/",300,2010,{"$f":"_xlfn.CONCAT(Table3[[#This Row],[Company]:[Year Founded]]&\" \")","v":"Upland Localytics MarTech Mobile engagement platform for analytics and marketing Texas; Nebraska; Laval https://uplandsoftware.com/about-upland/careers/ 300 2010 "},{"$f":"Table3[[#This Row],[Column26]]","v":"Customer Success Manager"},"Customer Success Manager","Upland Localytics","NA","N"]
[null,"UST Global ","MarTech","Digital technology for various sectors, including media and technology.","California","https://www.ust-global.com/usa_careers",25000,1999,{"$f":"_xlfn.CONCAT(Table3[[#This Row],[Company]:[Year Founded]]&\" \")","v":"UST Global  MarTech Digital technology for various sectors, including media and technology. California https://www.ust-global.com/usa_careers 25000 1999 "},{"$f":"Table3[[#This Row],[Column26]]","v":"Project Manager"},"Project Manager","UST Global ","NA","N"]
[null,"Vendasta","MarTech","SaaS-based sales and marketing automation solutions for B2B companies","Saskatoon","https://www.vendasta.com/company/careers",410,2008,{"$f":"_xlfn.CONCAT(Table3[[#This Row],[Company]:[Year Founded]]&\" \")","v":"Vendasta MarTech SaaS-based sales and marketing automation solutions for B2B companies Saskatoon https://www.vendasta.com/company/careers 410 2008 "},{"$f":"Table3[[#This Row],[Column26]]","v":"Web Services Manager"},"Web Services Manager","Vendasta","NA","N"]
[null,"Vision Critical","MarTech","Cloud-based CXM and insights platform for customer satisfaction and employee engagement ","Washington; Minnesota; New York; California; Vancouver; Toronto","https://www.visioncritical.com/explorecareers",300,2000,{"$f":"_xlfn.CONCAT(Table3[[#This Row],[Company]:[Year Founded]]&\" \")","v":"Vision Critical MarTech Cloud-based CXM and insights platform for customer satisfaction and employee engagement  Washington; Minnesota; New York; California; Vancouver; Toronto https://www.visioncritical.com/explorecareers 300 2000 "},{"$f":"Table3[[#This Row],[Column26]]","v":"Customer Success Manager"},"Customer Success Manager","Vision Critical","NA","N"]
[null,"Vungle","MarTech","Mobile marketing platform for in-app messaging, push notification and data analytics","California","https://vungle.com/all-jobs",243,2011,{"$f":"_xlfn.CONCAT(Table3[[#This Row],[Company]:[Year Founded]]&\" \")","v":"Vungle MarTech Mobile marketing platform for in-app messaging, push notification and data analytics California https://vungle.com/all-jobs 243 2011 "},{"$f":"Table3[[#This Row],[Column26]]","v":"Account Executive"},"Account Executive","Vungle","NA","N"]
[null,"Weebly","MarTech","Web-hosting platform  to create websites, blogs and online stores.","California; New York","https://www.weebly.com/about?lang=en",350,2006,{"$f":"_xlfn.CONCAT(Table3[[#This Row],[Company]:[Year Founded]]&\" \")","v":"Weebly MarTech Web-hosting platform  to create websites, blogs and online stores. California; New York https://www.weebly.com/about?lang=en 350 2006 "},{"$f":"Table3[[#This Row],[Column26]]","v":"Enterprise Portfolio Manager, Credit Risk"},"Enterprise Portfolio Manager, Credit Risk","Weebly","NA","Y","https://www.indeed.com/jobs?q=Weebly&l=United%20States&explvl=mid_level&vjk=28914da93978be70"]
[null,"Wibbitz","MarTech"," AI-based  video creation platform ","New York","https://www.wibbitz.com/jobs/#explore_jobs",100,2010,{"$f":"_xlfn.CONCAT(Table3[[#This Row],[Company]:[Year Founded]]&\" \")","v":"Wibbitz MarTech  AI-based  video creation platform  New York https://www.wibbitz.com/jobs/#explore_jobs 100 2010 "},{"$f":"Table3[[#This Row],[Column26]]","v":"NA"},"NA","Wibbitz","NA","N"]
[null,"Yaguara","MarTech","Online platform that offers performance management and predictive analytics solutions for the eCommerce sector.","Colorado; New York; Texas","https://www.yaguara.co/",20,2016,{"$f":"_xlfn.CONCAT(Table3[[#This Row],[Company]:[Year Founded]]&\" \")","v":"Yaguara MarTech Online platform that offers performance management and predictive analytics solutions for the eCommerce sector. Colorado; New York; Texas https://www.yaguara.co/ 20 2016 "},{"$f":"Table3[[#This Row],[Column26]]","v":"NA"},"NA","Yaguara","NA","N"]
[null,"Zillow","MarTech","Online real estate marketplace ","Washington; Ohio; Nebraska; Kansas; California; Vancouver","https://www.zillow.com/careers/",2400,2006,{"$f":"_xlfn.CONCAT(Table3[[#This Row],[Company]:[Year Founded]]&\" \")","v":"Zillow MarTech Online real estate marketplace  Washington; Ohio; Nebraska; Kansas; California; Vancouver https://www.zillow.com/careers/ 2400 2006 "},{"$f":"Table3[[#This Row],[Column26]]","v":"Treasury Director, Finance & Capital Markets"},"Treasury Director, Finance & Capital Markets","Zillow","NA","N"]
[null,"Zyper","MarTech","Digital marketing platform  to track, manage and connect with  customers.","New York;  California; remote","https://www.zyper.com/",61,2017,{"$f":"_xlfn.CONCAT(Table3[[#This Row],[Company]:[Year Founded]]&\" \")","v":"Zyper MarTech Digital marketing platform  to track, manage and connect with  customers. New York;  California; remote https://www.zyper.com/ 61 2017 "},{"$f":"Table3[[#This Row],[Column26]]","v":"NA"},"NA","Zyper","NA","N"]
[null,"Axios","Media and Entertainment","Axios gets you smarter, faster with news and information that matters.","Virginia; New York; California","https://boards.greenhouse.io/axios",505,2016,{"$f":"_xlfn.CONCAT(Table3[[#This Row],[Company]:[Year Founded]]&\" \")","v":"Axios Media and Entertainment Axios gets you smarter, faster with news and information that matters. Virginia; New York; California https://boards.greenhouse.io/axios 505 2016 "},{"$f":"Table3[[#This Row],[Column26]]","v":"Associate Director, Operations"},"Associate Director, Operations","Axios"]
[null,"United Masters","Media and Entertainment","UnitedMasters is a record label in your pocket—upending the traditional music value chain to help independent creators thrive.","New York; California","https://boards.greenhouse.io/unitedmasters",365,2017,{"$f":"_xlfn.CONCAT(Table3[[#This Row],[Company]:[Year Founded]]&\" \")","v":"United Masters Media and Entertainment UnitedMasters is a record label in your pocket—upending the traditional music value chain to help independent creators thrive. New York; California https://boards.greenhouse.io/unitedmasters 365 2017 "},{"$f":"Table3[[#This Row],[Column26]]","v":"Senior Director of Business Development"},"Senior Director of Business Development","United Masters"]
[null,"Abbott Laboratories","Medtech","Health care, including nutrition and hydration products and Freestyle Diabetes devices.","Illinois; California; Texas; Minnesota; Mississauga; Montreal","https://www.abbott.com/careers.html",103000,1888,{"$f":"_xlfn.CONCAT(Table3[[#This Row],[Company]:[Year Founded]]&\" \")","v":"Abbott Laboratories Medtech Health care, including nutrition and hydration products and Freestyle Diabetes devices. Illinois; California; Texas; Minnesota; Mississauga; Montreal https://www.abbott.com/careers.html 103000 1888 "},{"$f":"Table3[[#This Row],[Column26]]","v":"MANAGER FINANCIAL PLANNING AND ANALYSIS"},"MANAGER FINANCIAL PLANNING AND ANALYSIS","Abbott Laboratories","Y","N"]
[null,"Adaptive Biotechnologies","Medtech","Sequencing assays of the adaptive immune system for research and biopharmaceutical industry.","Washington; New York; California","https://www.adaptivebiotech.com/about-us/careers/listings/",453,2009,{"$f":"_xlfn.CONCAT(Table3[[#This Row],[Company]:[Year Founded]]&\" \")","v":"Adaptive Biotechnologies Medtech Sequencing assays of the adaptive immune system for research and biopharmaceutical industry. Washington; New York; California https://www.adaptivebiotech.com/about-us/careers/listings/ 453 2009 "},{"$f":"Table3[[#This Row],[Column26]]","v":"Account Manager"},"Account Manager","Adaptive Biotechnologies","Y","Y","https://www.indeed.com/jobs?q=Adaptive%20Biotechnologies&l=United%20States&vjk=a028144d89185bff"]
[null,"Align Technology","Medtech","Align Technology designs, manufactures and markets invisalign system for treating malocclusion.","California; North Carolina","https://jobs.aligntech.com/careers",11600,1997,{"$f":"_xlfn.CONCAT(Table3[[#This Row],[Company]:[Year Founded]]&\" \")","v":"Align Technology Medtech Align Technology designs, manufactures and markets invisalign system for treating malocclusion. California; North Carolina https://jobs.aligntech.com/careers 11600 1997 "},{"$f":"Table3[[#This Row],[Column26]]","v":"Sr. Manager Revenue, Clear Aligner Revenue Accounting"},"Sr. Manager Revenue, Clear Aligner Revenue Accounting","Align Technology","Y","Y","https://www.indeed.com/jobs?q=Align%20Technology&l=United%20States&start=40&vjk=a8ec9c6d820f1057"]
[null,"Aspects Biosystems","Medtech","Microfluidic 3D bioprinting and tissue engineering.","Vancouver","https://www.aspectbiosystems.com/careers",48,2013,{"$f":"_xlfn.CONCAT(Table3[[#This Row],[Company]:[Year Founded]]&\" \")","v":"Aspects Biosystems Medtech Microfluidic 3D bioprinting and tissue engineering. Vancouver https://www.aspectbiosystems.com/careers 48 2013 "},{"$f":"Table3[[#This Row],[Column26]]","v":"NA"},"NA","Aspects Biosystems","NA","N"]
[null,"AthenaHealth","MedTech","Medical billing, patient engagement and care coordination solutions","Massachusetts; Georgia; Texas; Maine; Vermont","https://www.athenahealth.com/careers",5100,1997,{"$f":"_xlfn.CONCAT(Table3[[#This Row],[Company]:[Year Founded]]&\" \")","v":"AthenaHealth MedTech Medical billing, patient engagement and care coordination solutions Massachusetts; Georgia; Texas; Maine; Vermont https://www.athenahealth.com/careers 5100 1997 "},{"$f":"Table3[[#This Row],[Column26]]","v":"Strategy and Operations Manager"},"Strategy and Operations Manager","AthenaHealth","Y","Y","https://www.indeed.com/jobs?q=AthenaHealth&l=United%20States&vjk=6b370e56815bfb51"]
[null,"Bard","Medtech","Vascular, urological, oncological and specialty surgical equipment","New Jersey; Maryland; Utah; Georgia; California; Arizona; Rhode Island; Nebraska; Indiana; New Mexico; Quebec; Florida; Texas; Arkansas; Louisiana; Oklahoma; Washington; ","https://www.bd.com/en-us/company/about-bd",16000,1907,{"$f":"_xlfn.CONCAT(Table3[[#This Row],[Company]:[Year Founded]]&\" \")","v":"Bard Medtech Vascular, urological, oncological and specialty surgical equipment New Jersey; Maryland; Utah; Georgia; California; Arizona; Rhode Island; Nebraska; Indiana; New Mexico; Quebec; Florida; Texas; Arkansas; Louisiana; Oklahoma; Washington;  https://www.bd.com/en-us/company/about-bd 16000 1907 "},{"$f":"Table3[[#This Row],[Column26]]","v":"Director, Finance (REMOTE)"},"Director, Finance (REMOTE)","Bard","NA","N"]
[null,"Baxter International","Medtech","Develops, manufactures, and markets products and technologies used by hospitals, kidney dialysis centers, nursing homes, rehabilitation centers, and research laboratories.","Illinois;Maryland;Texas;Indiana;Massachusetts;Ohio; Colorado; California;Texas; Florida; Illinois; Minnesota; New York; New Jersey; Oklahoma; Mississauga; Surrey","https://www.baxter.com/careers",135000,1931,{"$f":"_xlfn.CONCAT(Table3[[#This Row],[Company]:[Year Founded]]&\" \")","v":"Baxter International Medtech Develops, manufactures, and markets products and technologies used by hospitals, kidney dialysis centers, nursing homes, rehabilitation centers, and research laboratories. Illinois;Maryland;Texas;Indiana;Massachusetts;Ohio; Colorado; California;Texas; Florida; Illinois; Minnesota; New York; New Jersey; Oklahoma; Mississauga; Surrey https://www.baxter.com/careers 135000 1931 "},{"$f":"Table3[[#This Row],[Column26]]","v":"Senior Marketing Manager"},"Senior Marketing Manager","Baxter International","NA","N"]
[null,"Becton Dickinson","Medtech","Medical devices, laboratory instruments, digital testing devices and reagents.","Mississauga; Quebec; New Jersey; Massachusetts; Nebraska; North Carolina; Connecticut; Maryland; Georgia; Illinois; Texas; Arizona; California; Indiana; Utah; South Carolina; Alabama; Pennsylvania; New York","https://www.bd.com/en-us/company/careers",76000,1897,{"$f":"_xlfn.CONCAT(Table3[[#This Row],[Company]:[Year Founded]]&\" \")","v":"Becton Dickinson Medtech Medical devices, laboratory instruments, digital testing devices and reagents. Mississauga; Quebec; New Jersey; Massachusetts; Nebraska; North Carolina; Connecticut; Maryland; Georgia; Illinois; Texas; Arizona; California; Indiana; Utah; South Carolina; Alabama; Pennsylvania; New York https://www.bd.com/en-us/company/careers 76000 1897 "},{"$f":"Table3[[#This Row],[Column26]]","v":"Director, Strategy & Business Development - Finance"},"Director, Strategy & Business Development - Finance","Becton Dickinson","N","N"]
[null,"BioElectronics ","Medtech","Medical devices to treat pain","Maryland","http://www.bielcorp.com/bioelectronics-career-opportunities/",91,2000,{"$f":"_xlfn.CONCAT(Table3[[#This Row],[Company]:[Year Founded]]&\" \")","v":"BioElectronics  Medtech Medical devices to treat pain Maryland http://www.bielcorp.com/bioelectronics-career-opportunities/ 91 2000 "},{"$f":"Table3[[#This Row],[Column26]]","v":"NA"},"NA","BioElectronics ","NA","N"]
[null,"Biotronik ","Medtech","Medical devices to treat patients suffering from cardiovascular and endovascular diseases.","Oregon; new York","https://career012.successfactors.eu/career?company=C0001096615P&site=VjItMEZ2ZlZmT2hNS29mS0YxZit5VnBpdz09",3000,1963,{"$f":"_xlfn.CONCAT(Table3[[#This Row],[Company]:[Year Founded]]&\" \")","v":"Biotronik  Medtech Medical devices to treat patients suffering from cardiovascular and endovascular diseases. Oregon; new York https://career012.successfactors.eu/career?company=C0001096615P&site=VjItMEZ2ZlZmT2hNS29mS0YxZit5VnBpdz09 3000 1963 "},{"$f":"Table3[[#This Row],[Column26]]","v":"Director of Marketing"},"Director of Marketing","Biotronik ","Y","N","https://www.indeed.com/jobs?q=Biotronik%C2%A0&l=United%20States&vjk=99bc4365307f6ca6"]
[null,"Bluebird Bio, Inc","MedTech","Gene therapies ","Massachusetts; North Carolina; Washington","https://boards.greenhouse.io/bluebirdbioinc",764,1992,{"$f":"_xlfn.CONCAT(Table3[[#This Row],[Company]:[Year Founded]]&\" \")","v":"Bluebird Bio, Inc MedTech Gene therapies  Massachusetts; North Carolina; Washington https://boards.greenhouse.io/bluebirdbioinc 764 1992 "},{"$f":"Table3[[#This Row],[Column26]]","v":"NA"},"NA","Bluebird Bio, Inc","NA","N"]
[null,"BlueRock Therapeutics","Medtech","Cell-based therapies to treat neurology, cardiology and immunology disorders. ","Massachusetts; New York; Toronto","https://bluerocktx.com/careers/",60,2016,{"$f":"_xlfn.CONCAT(Table3[[#This Row],[Company]:[Year Founded]]&\" \")","v":"BlueRock Therapeutics Medtech Cell-based therapies to treat neurology, cardiology and immunology disorders.  Massachusetts; New York; Toronto https://bluerocktx.com/careers/ 60 2016 "},{"$f":"Table3[[#This Row],[Column26]]","v":"Commercial Customer Success Manager - Remote"},"Commercial Customer Success Manager - Remote","BlueRock Therapeutics","NA","N"]
[null,"Boston Scientific","Medtech","Medical devices for heart, digestive, pulmonary, vascular, urological and chronic diseases.","Massachusetts; Minnesota; California; Indiana; DC; Florida","https://www.bostonscientific.com/en-US/careers.html",32000,1979,{"$f":"_xlfn.CONCAT(Table3[[#This Row],[Company]:[Year Founded]]&\" \")","v":"Boston Scientific Medtech Medical devices for heart, digestive, pulmonary, vascular, urological and chronic diseases. Massachusetts; Minnesota; California; Indiana; DC; Florida https://www.bostonscientific.com/en-US/careers.html 32000 1979 "},{"$f":"Table3[[#This Row],[Column26]]","v":"Project Manager"},"Project Manager","Boston Scientific","Y","N"]
[null,"Boston Scientific Corporation","Medtech","Medical devices, including deep brain stimulation systems and defibrillators. "," Marlborough, MA","https://jobs.bostonscientific.com/search/?createNewAlert=false&q=manager&locationsearch=United+states",36000,1979,{"$f":"_xlfn.CONCAT(Table3[[#This Row],[Company]:[Year Founded]]&\" \")","v":"Boston Scientific Corporation Medtech Medical devices, including deep brain stimulation systems and defibrillators.   Marlborough, MA https://jobs.bostonscientific.com/search/?createNewAlert=false&q=manager&locationsearch=United+states 36000 1979 "},{"$f":"Table3[[#This Row],[Column26]]","v":"Project Manager"},"Project Manager","Boston Scientific Corporation","NA","N"]
[null,"Capsule","MedTech","Medical device integration solutions ","Massachusetts; Connecticut","https://capsuletech.com/careers",300,1997,{"$f":"_xlfn.CONCAT(Table3[[#This Row],[Company]:[Year Founded]]&\" \")","v":"Capsule MedTech Medical device integration solutions  Massachusetts; Connecticut https://capsuletech.com/careers 300 1997 "},{"$f":"Table3[[#This Row],[Column26]]","v":"NA"},"NA","Capsule","Y","N","https://www.indeed.com/jobs?q=Capsule&l=United%20States&vjk=5143de71bc185d19"]
[null,"Cardinal Health, Inc.","Medtech","Integrated care coordination and patient management. Proprietary product, VitalSource™ GPO, provides innovative tech to physicians.","Ohio; New Mexico; Texas; Alaska; Wisconsin; California; North Carolina; Georgia; Washington; Colorado; Illinois; Maryland; West Virginia; Louisiana; Massachusetts; Pennsylvania; Alabama; Idaho; Connecticut; New York; Minnesota; Arizona; Virginia; Tennessee; Ohio; New Jersey; Florida; Colorado; Michigan; Missouri; Rhode Island; Mississippi; South Carolina; Indiana; Maine; Hawaii; Iowa; Nevada; Delaware; Kansas; Kentucky; Nebraska; Wisconsin; Oklahoma; West Virginia; South Dakota; Utah; Burnaby; Calgary; Dartmouth; Edmonton; Gananoque; Mississauga; Moncton; Mount Pearl; Pointe-Claire; Quebec; Vaughan; Winnipeg","https://www.cardinalhealth.com/en/careers.html",31000,1971,{"$f":"_xlfn.CONCAT(Table3[[#This Row],[Company]:[Year Founded]]&\" \")","v":"Cardinal Health, Inc. Medtech Integrated care coordination and patient management. Proprietary product, VitalSource™ GPO, provides innovative tech to physicians. Ohio; New Mexico; Texas; Alaska; Wisconsin; California; North Carolina; Georgia; Washington; Colorado; Illinois; Maryland; West Virginia; Louisiana; Massachusetts; Pennsylvania; Alabama; Idaho; Connecticut; New York; Minnesota; Arizona; Virginia; Tennessee; Ohio; New Jersey; Florida; Colorado; Michigan; Missouri; Rhode Island; Mississippi; South Carolina; Indiana; Maine; Hawaii; Iowa; Nevada; Delaware; Kansas; Kentucky; Nebraska; Wisconsin; Oklahoma; West Virginia; South Dakota; Utah; Burnaby; Calgary; Dartmouth; Edmonton; Gananoque; Mississauga; Moncton; Mount Pearl; Pointe-Claire; Quebec; Vaughan; Winnipeg https://www.cardinalhealth.com/en/careers.html 31000 1971 "},{"$f":"Table3[[#This Row],[Column26]]","v":"Marketing Manager"},"Marketing Manager","Cardinal Health, Inc.","Y","Y"]
[null,"Cardiva Medical","MedTech","Vascular access management products for interventional endovascular procedures. ","California","http://www.cardivamedical.com/contact-us/careers/",117,2002,{"$f":"_xlfn.CONCAT(Table3[[#This Row],[Company]:[Year Founded]]&\" \")","v":"Cardiva Medical MedTech Vascular access management products for interventional endovascular procedures.  California http://www.cardivamedical.com/contact-us/careers/ 117 2002 "},{"$f":"Table3[[#This Row],[Column26]]","v":"Market Development Manager"},"Market Development Manager","Cardiva Medical","Y","N"]
[null,"Castor","Medtech","Cloud-based clinical data platform that allows medical researchers to capture and integrate data from devices and EHR systems.","Remote","https://careers.castoredc.com/",70,2012,{"$f":"_xlfn.CONCAT(Table3[[#This Row],[Company]:[Year Founded]]&\" \")","v":"Castor Medtech Cloud-based clinical data platform that allows medical researchers to capture and integrate data from devices and EHR systems. Remote https://careers.castoredc.com/ 70 2012 "},{"$f":"Table3[[#This Row],[Column26]]","v":"NA"},"NA","Castor","NA","N"]
[null,"Cefaly Technology","Medtech","Neuro-modulating medical devices for the prevention and treatment of migraines.","Connecticut; Texas","https://www.cefaly.us/en/contact",25,2004,{"$f":"_xlfn.CONCAT(Table3[[#This Row],[Company]:[Year Founded]]&\" \")","v":"Cefaly Technology Medtech Neuro-modulating medical devices for the prevention and treatment of migraines. Connecticut; Texas https://www.cefaly.us/en/contact 25 2004 "},{"$f":"Table3[[#This Row],[Column26]]","v":"NA"},"NA","Cefaly Technology","NA","N"]
[null,"Cerner","Medtech","Web-based healthcare information products ","Missouri; Markham","https://careers.cerner.com/search",29200,1979,{"$f":"_xlfn.CONCAT(Table3[[#This Row],[Company]:[Year Founded]]&\" \")","v":"Cerner Medtech Web-based healthcare information products  Missouri; Markham https://careers.cerner.com/search 29200 1979 "},{"$f":"Table3[[#This Row],[Column26]]","v":"Project Manager"},"Project Manager","Cerner","Y","Y","https://www.indeed.com/jobs?q=Cerner&l=United%20States&start=60&vjk=36f1bbf9bb6f13e4"]
[null,"CirrusMD","MedTech","Closed loop virtual care so that patients can communicate with physicians through text messaging, phone and video chat.","Colorado","https://www.cirrusmd.com/careers",69,2012,{"$f":"_xlfn.CONCAT(Table3[[#This Row],[Company]:[Year Founded]]&\" \")","v":"CirrusMD MedTech Closed loop virtual care so that patients can communicate with physicians through text messaging, phone and video chat. Colorado https://www.cirrusmd.com/careers 69 2012 "},{"$f":"Table3[[#This Row],[Column26]]","v":"NA"},"NA","CirrusMD","Y","Y","https://www.indeed.com/jobs?q=CirrusMD&l=United%20States&vjk=4dbbd005635ef5e6"]
[null,"Cityblock Health","Medtech","Behavioral care, chronic disease management and substance abuse treatment services ","New York","https://www.cityblock.com/careers",180,2017,{"$f":"_xlfn.CONCAT(Table3[[#This Row],[Company]:[Year Founded]]&\" \")","v":"Cityblock Health Medtech Behavioral care, chronic disease management and substance abuse treatment services  New York https://www.cityblock.com/careers 180 2017 "},{"$f":"Table3[[#This Row],[Column26]]","v":"Lead Technical Project Manager"},"Lead Technical Project Manager","Cityblock Health","Y","Y","https://www.indeed.com/jobs?q=Cityblock%20Health&l=United%20States&vjk=0306e78be2eb6ef6"]
[null,"CloudFlare Inc","Medtech","An internet infrastructure company, beat on revenue expectations. Bucking the trend, the company forecasted Q3 revenue higher than what analysts were expecting. The stock was up as much as 26% after hours. ","California; Texas; Illinois; New York; DC","https://www.cloudflare.com/careers/jobs/",1200,2009,{"$f":"_xlfn.CONCAT(Table3[[#This Row],[Company]:[Year Founded]]&\" \")","v":"CloudFlare Inc Medtech An internet infrastructure company, beat on revenue expectations. Bucking the trend, the company forecasted Q3 revenue higher than what analysts were expecting. The stock was up as much as 26% after hours.  California; Texas; Illinois; New York; DC https://www.cloudflare.com/careers/jobs/ 1200 2009 "},{"$f":"Table3[[#This Row],[Column26]]","v":"Head of Marketing Technology and Marketing Analytics"},"Head of Marketing Technology and Marketing Analytics","CloudFlare Inc","Y","N"]
[null,"Cochlear Americas","Medtech","Implantable hearing devices","Colorado; Pennsylvania; Toronto","https://careers.cochlear.com/cw/en/listing/",4000,1967,{"$f":"_xlfn.CONCAT(Table3[[#This Row],[Company]:[Year Founded]]&\" \")","v":"Cochlear Americas Medtech Implantable hearing devices Colorado; Pennsylvania; Toronto https://careers.cochlear.com/cw/en/listing/ 4000 1967 "},{"$f":"Table3[[#This Row],[Column26]]","v":"Product Manager"},"Product Manager","Cochlear Americas","Y","Y","https://www.indeed.com/jobs?q=Cochlear%20Americas&l=United%20States&vjk=231b6f8c3bc118f3"]
[null,"Corindus Vascular Robotics, Inc","MedTech","Robotic-assisted vascular interventions. ","Massachusetts","https://www.corindus.com/about-corindus/careers",90,2002,{"$f":"_xlfn.CONCAT(Table3[[#This Row],[Company]:[Year Founded]]&\" \")","v":"Corindus Vascular Robotics, Inc MedTech Robotic-assisted vascular interventions.  Massachusetts https://www.corindus.com/about-corindus/careers 90 2002 "},{"$f":"Table3[[#This Row],[Column26]]","v":"Program Director - PMO Med Device"},"Program Director - PMO Med Device","Corindus Vascular Robotics, Inc","NA","N"]
[null,"CureMD","Medtech","Health information systems and services ","New York; North Carolina","https://www.curemd.com/career.asp",950,1997,{"$f":"_xlfn.CONCAT(Table3[[#This Row],[Company]:[Year Founded]]&\" \")","v":"CureMD Medtech Health information systems and services  New York; North Carolina https://www.curemd.com/career.asp 950 1997 "},{"$f":"Table3[[#This Row],[Column26]]","v":"Senior Sales Executive"},"Senior Sales Executive","CureMD","NA","N"]
[null,"Decision Resources Group","Medtech","Healthcare research, data analytics and consulting services to the life sciences industry.","Massachusetts; Missouri; Georgia; Wisconsin; Tennessee; New York; Kansas; New Jersey; Pennsylvania; Toronto","https://decisionresourcesgroup.com/careers/tab/job-listings/?keyword=&location=United+States&industry_sector=Select+Category",863,1990,{"$f":"_xlfn.CONCAT(Table3[[#This Row],[Company]:[Year Founded]]&\" \")","v":"Decision Resources Group Medtech Healthcare research, data analytics and consulting services to the life sciences industry. Massachusetts; Missouri; Georgia; Wisconsin; Tennessee; New York; Kansas; New Jersey; Pennsylvania; Toronto https://decisionresourcesgroup.com/careers/tab/job-listings/?keyword=&location=United+States&industry_sector=Select+Category 863 1990 "},{"$f":"Table3[[#This Row],[Column26]]","v":"NA"},"NA","Decision Resources Group","Y","Y"]
[null,"Dentsply Sirona Inc.","Medtech","Orthodontics and endodontics products, consumables and equipments.","North Carolina; Massachusetts; Vaughan","https://career012.successfactors.eu/career?company=DENTSPLY&career%5fns=job%5flisting%5fsummary&navBarLevel=JOB%5fSEARCH&_s.crb=aS3D6Yz11buy%2bdQD0Fg0ka%2bA4udYDD2Lba9ginx6Q0M%3d",16000,1899,{"$f":"_xlfn.CONCAT(Table3[[#This Row],[Company]:[Year Founded]]&\" \")","v":"Dentsply Sirona Inc. Medtech Orthodontics and endodontics products, consumables and equipments. North Carolina; Massachusetts; Vaughan https://career012.successfactors.eu/career?company=DENTSPLY&career%5fns=job%5flisting%5fsummary&navBarLevel=JOB%5fSEARCH&_s.crb=aS3D6Yz11buy%2bdQD0Fg0ka%2bA4udYDD2Lba9ginx6Q0M%3d 16000 1899 "},{"$f":"Table3[[#This Row],[Column26]]","v":"Marketing Automation Manager"},"Marketing Automation Manager","Dentsply Sirona Inc.","NA","N"]
[null,"Dexcom","Medtech","Continuous glucose monitoring systems for diabetes management. ","California, Arizona","https://careers.dexcom.com/careers/search?pid=1463941&query=%2A&domain=dexcom.com",3900,1999,{"$f":"_xlfn.CONCAT(Table3[[#This Row],[Company]:[Year Founded]]&\" \")","v":"Dexcom Medtech Continuous glucose monitoring systems for diabetes management.  California, Arizona https://careers.dexcom.com/careers/search?pid=1463941&query=%2A&domain=dexcom.com 3900 1999 "},{"$f":"Table3[[#This Row],[Column26]]","v":"NA"},"NA","Dexcom","Y","Y","https://www.indeed.com/jobs?q=Dexcom&l=United%20States&vjk=83c92f8d9ef9aa54"]
[null,"DispatchHealth","Medtech","Digital healthcare for in-home general and emergency medical care services for individuals.","Colorado","https://dispatchhealth.breezy.hr/p/4efc9bdbbdcc-market-operations-manager",300,2017,{"$f":"_xlfn.CONCAT(Table3[[#This Row],[Company]:[Year Founded]]&\" \")","v":"DispatchHealth Medtech Digital healthcare for in-home general and emergency medical care services for individuals. Colorado https://dispatchhealth.breezy.hr/p/4efc9bdbbdcc-market-operations-manager 300 2017 "},{"$f":"Table3[[#This Row],[Column26]]","v":"NA"},"NA","DispatchHealth","NA","N"]
[null,"Doximity","MedTech","Online network for physicians that offers case collaboration, physician-to-physician messaging and curated medical news.","California","https://workat.doximity.com/positions/",475,2010,{"$f":"_xlfn.CONCAT(Table3[[#This Row],[Company]:[Year Founded]]&\" \")","v":"Doximity MedTech Online network for physicians that offers case collaboration, physician-to-physician messaging and curated medical news. California https://workat.doximity.com/positions/ 475 2010 "},{"$f":"Table3[[#This Row],[Column26]]","v":"Client Operations Manager - Hospital Solutions"},"Client Operations Manager - Hospital Solutions","Doximity","Y","Y","https://www.indeed.com/jobs?q=Doximity&l=United%20States&vjk=1dddaedacc098f0a"]
[null,"Edwards Lifesciences Corporation","Medtech","Devices for structural heart disease surgery and critical-care monitoring. Specializes in heart valves.","California; Utah; DC; Mississauga","https://www.edwards.com/careers/home",13900,1958,{"$f":"_xlfn.CONCAT(Table3[[#This Row],[Company]:[Year Founded]]&\" \")","v":"Edwards Lifesciences Corporation Medtech Devices for structural heart disease surgery and critical-care monitoring. Specializes in heart valves. California; Utah; DC; Mississauga https://www.edwards.com/careers/home 13900 1958 "},"Marketing Automation Manager","Project Manager","Edwards Lifesciences Corporation","NA","N"]
[null,"electroCore","Medtech","Non-invasive vagus nerve stimulation therapies for the treatment of neurological disorders.","New Jersey; Parksville","http://electrocore.com/careers/",91,2018,{"$f":"_xlfn.CONCAT(Table3[[#This Row],[Company]:[Year Founded]]&\" \")","v":"electroCore Medtech Non-invasive vagus nerve stimulation therapies for the treatment of neurological disorders. New Jersey; Parksville http://electrocore.com/careers/ 91 2018 "},{"$f":"Table3[[#This Row],[Column26]]","v":"NA"},"NA","electroCore","NA","N"]
[null,"Exact Sciences Corp","MedTech","Molecular diagnostics company focused on colorectal cancer. Its proprietary products include Cologuard ","Wisconsin","https://careers.exactsciences.com/",4110,1995,{"$f":"_xlfn.CONCAT(Table3[[#This Row],[Company]:[Year Founded]]&\" \")","v":"Exact Sciences Corp MedTech Molecular diagnostics company focused on colorectal cancer. Its proprietary products include Cologuard  Wisconsin https://careers.exactsciences.com/ 4110 1995 "},{"$f":"Table3[[#This Row],[Column26]]","v":"Senior Product Marketing Manager, MRD"},"Senior Product Marketing Manager, MRD","Exact Sciences Corp","Y","Y","https://www.indeed.com/jobs?q=Exact%20Sciences&l=United%20States&rbc=Exact%20Sciences%20Corporation&jcid=6be47dbf935c613d&explvl=senior_level&vjk=2760a0c70c75982b"]
[null,"Foundation Medicine","Medtech","Genomic testing and personalized cancer treatment decisions, serving healthcare professionals","Massachusetts","https://careers.foundationmedicine.com/jobs/search",1100,2010,{"$f":"_xlfn.CONCAT(Table3[[#This Row],[Company]:[Year Founded]]&\" \")","v":"Foundation Medicine Medtech Genomic testing and personalized cancer treatment decisions, serving healthcare professionals Massachusetts https://careers.foundationmedicine.com/jobs/search 1100 2010 "},{"$f":"Table3[[#This Row],[Column26]]","v":"Senior Project Manager, Portfolio and Program Management"},"Senior Project Manager, Portfolio and Program Management","Foundation Medicine","NA","Y","https://www.indeed.com/jobs?q=Foundation%20Medicine&l&vjk=4ecdba2637346f80"]
[null,"Freenome","Medtech","Multiomics platform for early detection of cancer.","California","https://www.freenome.com/careers",160,2016,{"$f":"_xlfn.CONCAT(Table3[[#This Row],[Company]:[Year Founded]]&\" \")","v":"Freenome Medtech Multiomics platform for early detection of cancer. California https://www.freenome.com/careers 160 2016 "},{"$f":"Table3[[#This Row],[Column26]]","v":"Director/Senior Director, Corporate Development"},"Director/Senior Director, Corporate Development","Freenome","NA","N"]
[null,"Fresenius Medical Care AG & Co. KGaA","Medtech","Products and services targeting chronic kidney failure.","Tennessee; Massachusetts","https://karriere.fresenius.de/en/our-company/fresenius-medical-care",120000,1996,{"$f":"_xlfn.CONCAT(Table3[[#This Row],[Company]:[Year Founded]]&\" \")","v":"Fresenius Medical Care AG & Co. KGaA Medtech Products and services targeting chronic kidney failure. Tennessee; Massachusetts https://karriere.fresenius.de/en/our-company/fresenius-medical-care 120000 1996 "},{"$f":"Table3[[#This Row],[Column26]]","v":"NA"},"NA","Fresenius Medical Care AG & Co. KGaA","NA","Y"]
[null,"Get Maple","Medtech","Online healthcare services.","Toronto","https://www.getmaple.ca/careers/",79,2015,{"$f":"_xlfn.CONCAT(Table3[[#This Row],[Company]:[Year Founded]]&\" \")","v":"Get Maple Medtech Online healthcare services. Toronto https://www.getmaple.ca/careers/ 79 2015 "},{"$f":"Table3[[#This Row],[Column26]]","v":"Client Success Associate"},"Client Success Associate","Get Maple","NA","N"]
[null,"Grand Rounds","Medtech","Digital health platform that connects patients with physicians for medical guidance.","California; Washington; Texas; Maine; New York; Nevada","https://grandrounds.com/careers/",634,2011,{"$f":"_xlfn.CONCAT(Table3[[#This Row],[Company]:[Year Founded]]&\" \")","v":"Grand Rounds Medtech Digital health platform that connects patients with physicians for medical guidance. California; Washington; Texas; Maine; New York; Nevada https://grandrounds.com/careers/ 634 2011 "},{"$f":"Table3[[#This Row],[Column26]]","v":"Senior Marketing Manager"},"Senior Marketing Manager","Grand Rounds","Y","N"]
[null,"Greenlight Guru","Medtech","Is the only quality management software platform designed specifically for medical device companies.","Indiana","https://www.greenlight.guru/careers",80,2013,{"$f":"_xlfn.CONCAT(Table3[[#This Row],[Company]:[Year Founded]]&\" \")","v":"Greenlight Guru Medtech Is the only quality management software platform designed specifically for medical device companies. Indiana https://www.greenlight.guru/careers 80 2013 "},{"$f":"Table3[[#This Row],[Column26]]","v":"Customer Success Manager"},"Customer Success Manager","Greenlight Guru","Y","N"]
[null,"Grifols","Medtech","Plasma derivative products, diagnostic systems and medical devices. ","California; Barcelona; Connecticut; Florida; Michigan; New York; Tennessee; Utah; Mississauga","https://www.grifols.com/en/careers",24000,1940,{"$f":"_xlfn.CONCAT(Table3[[#This Row],[Company]:[Year Founded]]&\" \")","v":"Grifols Medtech Plasma derivative products, diagnostic systems and medical devices.  California; Barcelona; Connecticut; Florida; Michigan; New York; Tennessee; Utah; Mississauga https://www.grifols.com/en/careers 24000 1940 "},{"$f":"Table3[[#This Row],[Column26]]","v":"Associate Director Consumer Marketing"},"Associate Director Consumer Marketing","Grifols","Y","Y","https://www.indeed.com/jobs?q=Grifols&l=United%20States&vjk=57a90ba7b9596788"]
[null,"Hill-Rom Holdings, Inc.","Medtech","Pharmaceutical products, surgical equipment, patient handling and mobility systems.","Illinois; Massachusetts; Indiana; Michigan; North Carolina; Illinois; California; Florida; Wisconsin; South Carolina; Minnesota; DC; Mississauga","https://hillrom.taleo.net/careersection/2/jobsearch.ftl",10000,1929,{"$f":"_xlfn.CONCAT(Table3[[#This Row],[Company]:[Year Founded]]&\" \")","v":"Hill-Rom Holdings, Inc. Medtech Pharmaceutical products, surgical equipment, patient handling and mobility systems. Illinois; Massachusetts; Indiana; Michigan; North Carolina; Illinois; California; Florida; Wisconsin; South Carolina; Minnesota; DC; Mississauga https://hillrom.taleo.net/careersection/2/jobsearch.ftl 10000 1929 "},{"$f":"Table3[[#This Row],[Column26]]","v":"NA"},"NA","Hill-Rom Holdings, Inc.","NA","N"]
[null,"Hologic, Inc.","Medtech","Diagnostic, medical imaging systems and surgical products.","Massachusetts; Connecticut; New Hampshire; Delaware; California; Arizona; Mississauga","https://hologic.referrals.selectminds.com/jobs/search/1613114",6400,1985,{"$f":"_xlfn.CONCAT(Table3[[#This Row],[Company]:[Year Founded]]&\" \")","v":"Hologic, Inc. Medtech Diagnostic, medical imaging systems and surgical products. Massachusetts; Connecticut; New Hampshire; Delaware; California; Arizona; Mississauga https://hologic.referrals.selectminds.com/jobs/search/1613114 6400 1985 "},{"$f":"Table3[[#This Row],[Column26]]","v":"Digital Marketing Communications Manager"},"Digital Marketing Communications Manager","Hologic, Inc.","NA","Y"]
[null,"Intuitive Surgical","Medtech","Develops, manufactures and markets robot-assisted laparoscopic instruments","California; Georgia","https://www.intuitive.com/en-us/about-us/careers",5500,1995,{"$f":"_xlfn.CONCAT(Table3[[#This Row],[Company]:[Year Founded]]&\" \")","v":"Intuitive Surgical Medtech Develops, manufactures and markets robot-assisted laparoscopic instruments California; Georgia https://www.intuitive.com/en-us/about-us/careers 5500 1995 "},{"$f":"Table3[[#This Row],[Column26]]","v":"Senior Marketing Automation Manager"},"Senior Marketing Automation Manager","Intuitive Surgical","Y","N"]
[null,"Irhythm Thechnologies, Inc","MedTech","Biosensing technology for ambulatory cardiac monitoring. Proprietary products include Zio Patch.","California; Texas; Illinois; New York","https://www.irhythmtech.com/company/job-openings",997,2006,{"$f":"_xlfn.CONCAT(Table3[[#This Row],[Company]:[Year Founded]]&\" \")","v":"Irhythm Thechnologies, Inc MedTech Biosensing technology for ambulatory cardiac monitoring. Proprietary products include Zio Patch. California; Texas; Illinois; New York https://www.irhythmtech.com/company/job-openings 997 2006 "},{"$f":"Table3[[#This Row],[Column26]]","v":"Product Marketing Manager "},"Product Marketing Manager ","Irhythm Thechnologies, Inc","NA","Y","https://www.indeed.com/jobs?q=Irhythm%20Thechnologies%2C%20Inc&l=United%20States&vjk=b2926189db8eba83"]
[null,"Johnson and Johnson","Medtech","Medical devices, pharmaceuticals, and consumer products. Its consumer brands include Band-Aid, Aveeno, and Rogaine.","New Jersey; Florida; Pennsylvania; Guelph; Markham","https://www.careers.jnj.com/",135000,1886,{"$f":"_xlfn.CONCAT(Table3[[#This Row],[Company]:[Year Founded]]&\" \")","v":"Johnson and Johnson Medtech Medical devices, pharmaceuticals, and consumer products. Its consumer brands include Band-Aid, Aveeno, and Rogaine. New Jersey; Florida; Pennsylvania; Guelph; Markham https://www.careers.jnj.com/ 135000 1886 "},{"$f":"Table3[[#This Row],[Column26]]","v":"Associate Marketing Manager"},"Associate Marketing Manager","Johnson and Johnson","NA","Y","https://www.indeed.com/jobs?q=Johnson%20and%20Johnson&l=United%20States&vjk=68c76a6152fbad12"]
[null,"Kaleido BioSciences","Medtech","Platform to produce novel chemistries targeted at specific microbiome functions. Proprietary products include Microbiome Metabolic Therapies (MMT™).","Massachusetts","https://kaleido.com/join-us/",91,2015,{"$f":"_xlfn.CONCAT(Table3[[#This Row],[Company]:[Year Founded]]&\" \")","v":"Kaleido BioSciences Medtech Platform to produce novel chemistries targeted at specific microbiome functions. Proprietary products include Microbiome Metabolic Therapies (MMT™). Massachusetts https://kaleido.com/join-us/ 91 2015 "},{"$f":"Table3[[#This Row],[Column26]]","v":"NA"},"NA","Kaleido BioSciences","NA","N"]
[null,"Kareo","Medtech","Web-based medical billing, practice management and electronic claims processing solutions for independent primary care practices.","California; Nevada; Texas","https://www.kareo.com/careers/job-postings",545,2004,{"$f":"_xlfn.CONCAT(Table3[[#This Row],[Company]:[Year Founded]]&\" \")","v":"Kareo Medtech Web-based medical billing, practice management and electronic claims processing solutions for independent primary care practices. California; Nevada; Texas https://www.kareo.com/careers/job-postings 545 2004 "},{"$f":"Table3[[#This Row],[Column26]]","v":"Senior Director of Product, Revenue Cycle"},"Senior Director of Product, Revenue Cycle","Kareo","Y","Y","https://www.indeed.com/jobs?q=Kareo&l=United%20States&vjk=48b88cd024514073"]
[null,"Klara Technologies, Inc.","Medtech","Patient engagement platform for healthcare sector","New York; Germany","https://apply.workable.com/klara-1/",50,2013,{"$f":"_xlfn.CONCAT(Table3[[#This Row],[Company]:[Year Founded]]&\" \")","v":"Klara Technologies, Inc. Medtech Patient engagement platform for healthcare sector New York; Germany https://apply.workable.com/klara-1/ 50 2013 "},{"$f":"Table3[[#This Row],[Column26]]","v":"NA"},"NA","Klara Technologies, Inc.","NA","N"]
[null,"LivaNova","Medtech","Medical devices for neuromodulation and cardiac rhythm management.","Texas; Colorado; Markham","https://www.livanova.com/en-US/Home/Careers.aspx",4000,2015,{"$f":"_xlfn.CONCAT(Table3[[#This Row],[Company]:[Year Founded]]&\" \")","v":"LivaNova Medtech Medical devices for neuromodulation and cardiac rhythm management. Texas; Colorado; Markham https://www.livanova.com/en-US/Home/Careers.aspx 4000 2015 "},{"$f":"Table3[[#This Row],[Column26]]","v":"Marketing Manager"},"Marketing Manager","LivaNova","Y","N"]
[null,"Livongo Health","Medtech","Applied health signals platform for personalized, chronic care diabetes management.","California; Illinois; Colorado; California","https://boards.greenhouse.io/livongo",733,2014,{"$f":"_xlfn.CONCAT(Table3[[#This Row],[Company]:[Year Founded]]&\" \")","v":"Livongo Health Medtech Applied health signals platform for personalized, chronic care diabetes management. California; Illinois; Colorado; California https://boards.greenhouse.io/livongo 733 2014 "},{"$f":"Table3[[#This Row],[Column26]]","v":"NA"},"NA","Livongo Health","NA","N"]
[null,"MED-EL","Medtech","Devices to address hearing loss, including cochlear implants","North Carolina","https://www.medel.com/en-us/about-medel/usa/us-careers",1,1989,{"$f":"_xlfn.CONCAT(Table3[[#This Row],[Company]:[Year Founded]]&\" \")","v":"MED-EL Medtech Devices to address hearing loss, including cochlear implants North Carolina https://www.medel.com/en-us/about-medel/usa/us-careers 1 1989 "},{"$f":"Table3[[#This Row],[Column26]]","v":"Contrcats Business Development Manager"},"Contrcats Business Development Manager","MED-EL","NA","N"]
[null,"Medtronic","Medtech","Develops, manufactures, distributes, and sells device-based medical therapies and services. ","Minnesota; Colorado; Florida; Ohio; California; Massachusetts; Tennessee; Connecticut; New Hampshire; Texas; Arizona; Brampton; Kirkland","https://www.medtronic.com/us-en/about/careers.html",86000,1949,{"$f":"_xlfn.CONCAT(Table3[[#This Row],[Company]:[Year Founded]]&\" \")","v":"Medtronic Medtech Develops, manufactures, distributes, and sells device-based medical therapies and services.  Minnesota; Colorado; Florida; Ohio; California; Massachusetts; Tennessee; Connecticut; New Hampshire; Texas; Arizona; Brampton; Kirkland https://www.medtronic.com/us-en/about/careers.html 86000 1949 "},{"$f":"Table3[[#This Row],[Column26]]","v":"Senior Finance Program Manager "},"Senior Finance Program Manager ","Medtronic","Y","N"]
[null,"Merck & Co","Medtech","Prescription medicines, vaccines, biologic therapies, animal health, and consumer care products. Proprietary products include Clarinex, Januvia, Remicade and Keytruda","New Jersey; Kansas; Pennsylvania; Texas","https://www.merck.com/",71000,1891,{"$f":"_xlfn.CONCAT(Table3[[#This Row],[Company]:[Year Founded]]&\" \")","v":"Merck & Co Medtech Prescription medicines, vaccines, biologic therapies, animal health, and consumer care products. Proprietary products include Clarinex, Januvia, Remicade and Keytruda New Jersey; Kansas; Pennsylvania; Texas https://www.merck.com/ 71000 1891 "},{"$f":"Table3[[#This Row],[Column26]]","v":"Associate Director, Content Capabilities"},"Associate Director, Content Capabilities","Merck & Co","Y","Y","https://www.indeed.com/jobs?q=Merck%20%26%20Co&l=United%20States&start=10&vjk=3e88b36c306756cd"]
[null,"Nektar Therapeutics","MedTech","Therapeutics targeting cancer, auto-immune disease and chronic pain.","California; Alabama","https://www.nektar.com/careers/benefits-nektar",618,990,{"$f":"_xlfn.CONCAT(Table3[[#This Row],[Company]:[Year Founded]]&\" \")","v":"Nektar Therapeutics MedTech Therapeutics targeting cancer, auto-immune disease and chronic pain. California; Alabama https://www.nektar.com/careers/benefits-nektar 618 990 "},{"$f":"Table3[[#This Row],[Column26]]","v":"NA"},"NA","Nektar Therapeutics","NA","N"]
[null,"Neurocrine Biosciences, Inc","Medtech","Targets neurological and endocrine related diseases and disorders.","California","https://www.neurocrine.com/careers/overview/",585,1992,{"$f":"_xlfn.CONCAT(Table3[[#This Row],[Company]:[Year Founded]]&\" \")","v":"Neurocrine Biosciences, Inc Medtech Targets neurological and endocrine related diseases and disorders. California https://www.neurocrine.com/careers/overview/ 585 1992 "},{"$f":"Table3[[#This Row],[Column26]]","v":"Sr. Brand Manager – Medical Marketing (San Diego Based Position Hybrid Work Schedule)"},"Sr. Brand Manager – Medical Marketing (San Diego Based Position Hybrid Work Schedule)","Neurocrine Biosciences, Inc","Y","Y","https://www.indeed.com/jobs?q=Neurocrine%20Biosciences&l=United%20States&vjk=759060e3c5dded7c"]
[null,"Nevro Corporation","Medtech","Therapy and neuromodulation platform to manage chronic pain.","California; Michigan","https://www.nevro.com/English/us/careers/overview/default.aspx",804,2006,{"$f":"_xlfn.CONCAT(Table3[[#This Row],[Company]:[Year Founded]]&\" \")","v":"Nevro Corporation Medtech Therapy and neuromodulation platform to manage chronic pain. California; Michigan https://www.nevro.com/English/us/careers/overview/default.aspx 804 2006 "},{"$f":"Table3[[#This Row],[Column26]]","v":"NA"},"NA","Nevro Corporation","NA","N"]
[null,"Optos","Medtech","Optos is a medical retinal imaging company. It provides ultra-widefield (UWF) retinal imaging devices and enables eyecare professionals to discover, diagnose, document and treat ocular pathology.","Massachusetts","https://careers.optos.com/search/?searchby=location&createNewAlert=false&q=remote&locationsearch=&geolocation=",389,1992,{"$f":"_xlfn.CONCAT(Table3[[#This Row],[Company]:[Year Founded]]&\" \")","v":"Optos Medtech Optos is a medical retinal imaging company. It provides ultra-widefield (UWF) retinal imaging devices and enables eyecare professionals to discover, diagnose, document and treat ocular pathology. Massachusetts https://careers.optos.com/search/?searchby=location&createNewAlert=false&q=remote&locationsearch=&geolocation= 389 1992 "},{"$f":"Table3[[#This Row],[Column26]]","v":"NA"},"NA","Optos","NA","N"]
[null,"PillPack","Medtech","Sofware and hardware for prescription medication management. Amazon subsidiary.","New Hampshire; Texas; Florida; Arizona; New York","https://www.pillpack.com/careers",725,2013,{"$f":"_xlfn.CONCAT(Table3[[#This Row],[Company]:[Year Founded]]&\" \")","v":"PillPack Medtech Sofware and hardware for prescription medication management. Amazon subsidiary. New Hampshire; Texas; Florida; Arizona; New York https://www.pillpack.com/careers 725 2013 "},{"$f":"Table3[[#This Row],[Column26]]","v":"NA"},"NA","PillPack","NA","N"]
[null,"PlushCare","Medtech","Web-based telehealth platform ","California","https://boards.greenhouse.io/plushcare",100,2014,{"$f":"_xlfn.CONCAT(Table3[[#This Row],[Company]:[Year Founded]]&\" \")","v":"PlushCare Medtech Web-based telehealth platform  California https://boards.greenhouse.io/plushcare 100 2014 "},{"$f":"Table3[[#This Row],[Column26]]","v":"NA"},"NA","PlushCare","NA","N"]
[null,"PTC Therapeutics, Inc","MedTech","Small molecule drugs for the treatment of infectious diseases and neuromuscular disorders.","New Jersey","https://www.ptcbio.com/careers/careers-with-purpose/",517,1998,{"$f":"_xlfn.CONCAT(Table3[[#This Row],[Company]:[Year Founded]]&\" \")","v":"PTC Therapeutics, Inc MedTech Small molecule drugs for the treatment of infectious diseases and neuromuscular disorders. New Jersey https://www.ptcbio.com/careers/careers-with-purpose/ 517 1998 "},{"$f":"Table3[[#This Row],[Column26]]","v":"Director, Digital, Social Media & Corporate Communications - Remote"},"Director, Digital, Social Media & Corporate Communications - Remote","PTC Therapeutics, Inc","Y","Y","https://www.indeed.com/jobs?q=PTC%20Therapeutics&l=United%20States&vjk=c0a4d75d371c3ef8"]
[null,"Redox^","Medtech","API platform for healthcare applications and electronic health records systems ","Wisconsin and remote: \"All Redox^ employees are encouraged to live and work wherever they’re happiest. All you need is power, wifi, and a computer and you’re good to go.\"","https://www.redoxengine.com/",170,2014,{"$f":"_xlfn.CONCAT(Table3[[#This Row],[Company]:[Year Founded]]&\" \")","v":"Redox^ Medtech API platform for healthcare applications and electronic health records systems  Wisconsin and remote: \"All Redox^ employees are encouraged to live and work wherever they’re happiest. All you need is power, wifi, and a computer and you’re good to go.\" https://www.redoxengine.com/ 170 2014 "},{"$f":"Table3[[#This Row],[Column26]]","v":"Director of Professional Services - Customer Success"},"Director of Professional Services - Customer Success","Redox^","Y","Y","https://www.indeed.com/jobs?q=Redox&l=United%20States&explvl=mid_level&vjk=c904a6762df13bc9"]
[null,"ReShape Lifesciences","Medtech","Minimally invasive medical devices to treat obesity and metabolic diseases ","California","https://www.reshapelifesciences.com/about-us/careers/",38,2002,{"$f":"_xlfn.CONCAT(Table3[[#This Row],[Company]:[Year Founded]]&\" \")","v":"ReShape Lifesciences Medtech Minimally invasive medical devices to treat obesity and metabolic diseases  California https://www.reshapelifesciences.com/about-us/careers/ 38 2002 "},{"$f":"Table3[[#This Row],[Column26]]","v":"NA"},"NA","ReShape Lifesciences","NA","Y","https://www.indeed.com/jobs?q=Reshape&l&vjk=4dd69e1d294b303f"]
[null,"Roper Technologies","Medtech","Medical and scientific imaging, energy systems and RF technology.","Florida; Calgary","https://www.ropertech.com/",15000,1981,{"$f":"_xlfn.CONCAT(Table3[[#This Row],[Company]:[Year Founded]]&\" \")","v":"Roper Technologies Medtech Medical and scientific imaging, energy systems and RF technology. Florida; Calgary https://www.ropertech.com/ 15000 1981 "},{"$f":"Table3[[#This Row],[Column26]]","v":"NA"},"NA","Roper Technologies","NA","N"]
[null,"Royal Philips","Medtech","Diagnostic imaging, image-guided therapy, patient monitoring and health informatics, and consumer health and home care. ","Massachusetts; Connecticut; Markham","https://www.careers.philips.com/professional/na/en",80000,1891,{"$f":"_xlfn.CONCAT(Table3[[#This Row],[Company]:[Year Founded]]&\" \")","v":"Royal Philips Medtech Diagnostic imaging, image-guided therapy, patient monitoring and health informatics, and consumer health and home care.  Massachusetts; Connecticut; Markham https://www.careers.philips.com/professional/na/en 80000 1891 "},{"$f":"Table3[[#This Row],[Column26]]","v":"Senior Finance Manager Operations"},"Senior Finance Manager Operations","Royal Philips","NA","N"]
[null,"Second Sight Medical Products, Inc.","Medtech","Implantable visual prosthetics.","California","https://secondsight.com/careers/",129,1998,{"$f":"_xlfn.CONCAT(Table3[[#This Row],[Company]:[Year Founded]]&\" \")","v":"Second Sight Medical Products, Inc. Medtech Implantable visual prosthetics. California https://secondsight.com/careers/ 129 1998 "},{"$f":"Table3[[#This Row],[Column26]]","v":"NA"},"NA","Second Sight Medical Products, Inc.","NA","N"]
[null,"Semler Scientific, Inc","MedTech","Medical diagnostics and risk assessment","Oregon; California","http://www.semlerscientific.com/careers/",46,2007,{"$f":"_xlfn.CONCAT(Table3[[#This Row],[Company]:[Year Founded]]&\" \")","v":"Semler Scientific, Inc MedTech Medical diagnostics and risk assessment Oregon; California http://www.semlerscientific.com/careers/ 46 2007 "},{"$f":"Table3[[#This Row],[Column26]]","v":"Senior Technical Account Manager"},"Senior Technical Account Manager","Semler Scientific, Inc","Y","Y","https://www.indeed.com/jobs?q=Semler%20Scientific&l=United%20States&vjk=75252b1776497262"]
[null,"Shockwave medical","Medtech","Lithotripsy-enhanced interventional devices for the treatment of calcified cardiovascular disease.","Pennsylvania; California","https://shockwavemedical.com/about/careers/",284,2009,{"$f":"_xlfn.CONCAT(Table3[[#This Row],[Company]:[Year Founded]]&\" \")","v":"Shockwave medical Medtech Lithotripsy-enhanced interventional devices for the treatment of calcified cardiovascular disease. Pennsylvania; California https://shockwavemedical.com/about/careers/ 284 2009 "},{"$f":"Table3[[#This Row],[Column26]]","v":"IT Project Manager"},"IT Project Manager","Shockwave medical","Y","N"]
[null,"Siemens Healthineers","Medtech","Digital diagnostic, testing, and medical-care delivery devices.","Pennsylvania; New York; ; Georgia; Massachusetts; California; Idaho; Oklahoma;  Washington, Utah, Oregon, Nevada, Colorado, Delaware; Florida; Arizona, Minneapolis; Illinois; Texas","https://www.siemens-healthineers.com/en-ph/careers",53700,1896,{"$f":"_xlfn.CONCAT(Table3[[#This Row],[Company]:[Year Founded]]&\" \")","v":"Siemens Healthineers Medtech Digital diagnostic, testing, and medical-care delivery devices. Pennsylvania; New York; ; Georgia; Massachusetts; California; Idaho; Oklahoma;  Washington, Utah, Oregon, Nevada, Colorado, Delaware; Florida; Arizona, Minneapolis; Illinois; Texas https://www.siemens-healthineers.com/en-ph/careers 53700 1896 "},{"$f":"Table3[[#This Row],[Column26]]","v":"Head of Product and Portfolio Controlling / Operations"},"Head of Product and Portfolio Controlling / Operations","Siemens Healthineers","Y","N"]
[null,"Smith & Nephew plc","Medtech","Wound management and surgical devices for orthopedic reconstruction, sports medicine and trauma therapy.","Tennessee; Massachusetts; Texas; North Carolina; Florida","https://www.smith-nephew.com/careers/",17500,1856,{"$f":"_xlfn.CONCAT(Table3[[#This Row],[Company]:[Year Founded]]&\" \")","v":"Smith & Nephew plc Medtech Wound management and surgical devices for orthopedic reconstruction, sports medicine and trauma therapy. Tennessee; Massachusetts; Texas; North Carolina; Florida https://www.smith-nephew.com/careers/ 17500 1856 "},{"$f":"Table3[[#This Row],[Column26]]","v":"NA"},"NA","Smith & Nephew plc","NA","Y"]
[null,"Sorrento Therapeutics, Inc","Medtech","Therapeutic products for the treatment of cancer, inflammation and autoimmune diseases.","California","https://sorrentotherapeutics.com/careers/",382,2006,{"$f":"_xlfn.CONCAT(Table3[[#This Row],[Company]:[Year Founded]]&\" \")","v":"Sorrento Therapeutics, Inc Medtech Therapeutic products for the treatment of cancer, inflammation and autoimmune diseases. California https://sorrentotherapeutics.com/careers/ 382 2006 "},{"$f":"Table3[[#This Row],[Column26]]","v":"Project Manager Diagnostics"},"Project Manager Diagnostics","Sorrento Therapeutics, Inc","NA","N"]
[null,"Stimwave LLC","Medtech","Wireless injectable medical devices to treat neurological conditions ","Florida; Blainville","http://stimwave.com/mobile/about-us/careers/",158,2010,{"$f":"_xlfn.CONCAT(Table3[[#This Row],[Company]:[Year Founded]]&\" \")","v":"Stimwave LLC Medtech Wireless injectable medical devices to treat neurological conditions  Florida; Blainville http://stimwave.com/mobile/about-us/careers/ 158 2010 "},{"$f":"Table3[[#This Row],[Column26]]","v":"Associate Director, Customer Experience- Remote Opportunity"},"Associate Director, Customer Experience- Remote Opportunity","Stimwave LLC","NA","N"]
[null,"Stryker","Medtech","Manufactures orthopedic medical devices and instruments.","Michigan; Illinois; Florida; Texas; California; Colorado; Virginia; New Jersey; Michigan; Arizona; Hamilton","https://careers.stryker.com/en-US/search?keywords=&location=United%20States&placeid=ChIJCzYy5IS16lQRQrfeQ5K5Oxw&pagenumber=3",36000,1941,{"$f":"_xlfn.CONCAT(Table3[[#This Row],[Company]:[Year Founded]]&\" \")","v":"Stryker Medtech Manufactures orthopedic medical devices and instruments. Michigan; Illinois; Florida; Texas; California; Colorado; Virginia; New Jersey; Michigan; Arizona; Hamilton https://careers.stryker.com/en-US/search?keywords=&location=United%20States&placeid=ChIJCzYy5IS16lQRQrfeQ5K5Oxw&pagenumber=3 36000 1941 "},{"$f":"Table3[[#This Row],[Column26]]","v":"Senior Project Manager"},"Senior Project Manager","Stryker","Y","N"]
[null,"Teladoc Health","Medtech","Online platform connecting individual patients with doctors, therapists or other healthcare professionals.","New York","https://recruiting.ultipro.com/TEL1008/JobBoard/3b530b7e-b642-1e61-aafc-23506befa9a5/?q=&o=postedDateDesc",2000,2002,{"$f":"_xlfn.CONCAT(Table3[[#This Row],[Company]:[Year Founded]]&\" \")","v":"Teladoc Health Medtech Online platform connecting individual patients with doctors, therapists or other healthcare professionals. New York https://recruiting.ultipro.com/TEL1008/JobBoard/3b530b7e-b642-1e61-aafc-23506befa9a5/?q=&o=postedDateDesc 2000 2002 "},{"$f":"Table3[[#This Row],[Column26]]","v":"Sales Planning Lead"},"Sales Planning Lead","Teladoc Health","NA","Y","https://www.indeed.com/jobs?q=Teladoc%20Health&l=United%20States&vjk=d9d5a4a7a39c6d5b"]
[null,"Thermo Fisher Scientific ","MedTech","Laboratory products and services, life science solutions, analytical instruments, and specialty diagnostics.","Massachusetts; Pennsylvania; Michigan; North Carolina; Alabama; Texas; California; Illinois; Oregon; Missouri; New York; Washington; Maryland; Connecticut; Wisconsin; Ohio; Colorado; Minnesota; New Jersey; South Carolina; Kentucky; Arizona; Connecticut; Michigan; Kansas; Utah; Wisconsin; Tennessee; Oklahoma; Virginia; New Hampshire; Georgia; Massachusetts; Maryland; Florida; Washington; Delaware; Burlington; Burnaby; Dartmouth; Edmonton; High River; London; Markham; Mississauga; Ottawa; Saskatoon; Surrey; Whitby; Winnipeg","https://jobs.thermofisher.com/global/en/search-results?m=3&keywords=MBA",75000,1956,{"$f":"_xlfn.CONCAT(Table3[[#This Row],[Company]:[Year Founded]]&\" \")","v":"Thermo Fisher Scientific  MedTech Laboratory products and services, life science solutions, analytical instruments, and specialty diagnostics. Massachusetts; Pennsylvania; Michigan; North Carolina; Alabama; Texas; California; Illinois; Oregon; Missouri; New York; Washington; Maryland; Connecticut; Wisconsin; Ohio; Colorado; Minnesota; New Jersey; South Carolina; Kentucky; Arizona; Connecticut; Michigan; Kansas; Utah; Wisconsin; Tennessee; Oklahoma; Virginia; New Hampshire; Georgia; Massachusetts; Maryland; Florida; Washington; Delaware; Burlington; Burnaby; Dartmouth; Edmonton; High River; London; Markham; Mississauga; Ottawa; Saskatoon; Surrey; Whitby; Winnipeg https://jobs.thermofisher.com/global/en/search-results?m=3&keywords=MBA 75000 1956 "},{"$f":"Table3[[#This Row],[Column26]]","v":"Senior Manager, Finance – Operations "},"Senior Manager, Finance – Operations ","Thermo Fisher","Y","Y","https://www.indeed.com/jobs?q=Thermo%20Fisher%20Scientific%C2%A0&l=United%20States&vjk=13601c260885a683"]
[null,"Twistle","Medtech","Web- and mobile-based platform for patient engagement ","Washington; New Mexico; Tennessee","https://www.twistle.com/careers/",46,2011,{"$f":"_xlfn.CONCAT(Table3[[#This Row],[Company]:[Year Founded]]&\" \")","v":"Twistle Medtech Web- and mobile-based platform for patient engagement  Washington; New Mexico; Tennessee https://www.twistle.com/careers/ 46 2011 "},{"$f":"Table3[[#This Row],[Column26]]","v":"Project Manager"},"Project Manager","Twistle","NA","N"]
[null,"Tytocare","Medtech","Web- and mobile-based platform for patient engagement ","New York","http://www.tytocare.com",64,2011,{"$f":"_xlfn.CONCAT(Table3[[#This Row],[Company]:[Year Founded]]&\" \")","v":"Tytocare Medtech Web- and mobile-based platform for patient engagement  New York http://www.tytocare.com 64 2011 "},{"$f":"Table3[[#This Row],[Column26]]","v":"Enterprise Customer Success Account Manager"},"Enterprise Customer Success Account Manager","Tytocare","NA","N"]
[null,"Varian Medical Systems, Inc.","Medtech","Radiation therapy systems.","California; Georgia; Virginia; Illinois; Nevada; Washington; Winnipeg","https://www.varian.com/about-varian/careers",10000,1948,{"$f":"_xlfn.CONCAT(Table3[[#This Row],[Company]:[Year Founded]]&\" \")","v":"Varian Medical Systems, Inc. Medtech Radiation therapy systems. California; Georgia; Virginia; Illinois; Nevada; Washington; Winnipeg https://www.varian.com/about-varian/careers 10000 1948 "},{"$f":"Table3[[#This Row],[Column26]]","v":"IT Project Manager"},"IT Project Manager","Varian Medical Systems, Inc.","NA","Y","https://www.indeed.com/jobs?q=Varian%20Medical%20Systems%2C%20Inc.&l=United%20States&vjk=6c2a1f3f8887d4eb"]
[null,"Viz.AI","Medtech","AI-based medical imaging platform to diagnose and treat strokes","California","vhttps://www.viz.ai/careers/",116,2016,{"$f":"_xlfn.CONCAT(Table3[[#This Row],[Company]:[Year Founded]]&\" \")","v":"Viz.AI Medtech AI-based medical imaging platform to diagnose and treat strokes California vhttps://www.viz.ai/careers/ 116 2016 "},{"$f":"Table3[[#This Row],[Column26]]","v":"Customer Success Manager"},"Customer Success Manager","Viz.AI","NA","Y","https://www.indeed.com/jobs?q=Viz.AI&l=United%20States&vjk=f0dee64ea7228ce7"]
[null,"Vomaris","Medtech","Non-antibiotic and antimicrobial medical devices for wound care","Arizona","https://vomaris.com/company/",93,2004,{"$f":"_xlfn.CONCAT(Table3[[#This Row],[Company]:[Year Founded]]&\" \")","v":"Vomaris Medtech Non-antibiotic and antimicrobial medical devices for wound care Arizona https://vomaris.com/company/ 93 2004 "},{"$f":"Table3[[#This Row],[Column26]]","v":"Senior Manager, North America Commercial Operations Data Science and Innovation Lead"},"Senior Manager, North America Commercial Operations Data Science and Innovation Lead","Vomaris","NA","N"]
[null,"Zipline","Medtech","Medical drones ","California","https://flyzipline.com/careers/",122,2011,{"$f":"_xlfn.CONCAT(Table3[[#This Row],[Company]:[Year Founded]]&\" \")","v":"Zipline Medtech Medical drones  California https://flyzipline.com/careers/ 122 2011 "},{"$f":"Table3[[#This Row],[Column26]]","v":"Global Product Marketing Manager"},"Global Product Marketing Manager","Zipline","NA","N"]
[null,"Zocdoc","Medtech","Digital health platform for patients to find and book in-network neighborhood doctors.","New York; Arizona","https://www.zocdoc.com/",576,2007,{"$f":"_xlfn.CONCAT(Table3[[#This Row],[Company]:[Year Founded]]&\" \")","v":"Zocdoc Medtech Digital health platform for patients to find and book in-network neighborhood doctors. New York; Arizona https://www.zocdoc.com/ 576 2007 "},{"$f":"Table3[[#This Row],[Column26]]","v":"Customer Success Manager"},"Customer Success Manager","Zocdoc","NA","N"]
[null,"\tAmerisourceBergen","Pharmatech","Pharmaceutical products and supply chain management solutions for the healthcare industry.","Pennsylvania","https://abccareers.taleo.net/careersection/2/jobsearch.ftl?lang=en",22000,2001,{"$f":"_xlfn.CONCAT(Table3[[#This Row],[Company]:[Year Founded]]&\" \")","v":"\tAmerisourceBergen Pharmatech Pharmaceutical products and supply chain management solutions for the healthcare industry. Pennsylvania https://abccareers.taleo.net/careersection/2/jobsearch.ftl?lang=en 22000 2001 "},{"$f":"Table3[[#This Row],[Column26]]","v":"Senior Manager, Financial Planning & Analysis"},"Senior Manager, Financial Planning & Analysis","\tAmerisourceBergen","Y","Y","https://www.indeed.com/jobs?q=%22%09AmerisourceBergen%22&l=United%20States&start=20&vjk=cbb0ded2cf83deb4"]
[null,"Amgen","Pharmatech","Therapeutics, including immunology and novel antibody therapy","Thousand Oaks, CA; Woburn, MA","http://careers.amgen.com/",22000,1980,{"$f":"_xlfn.CONCAT(Table3[[#This Row],[Company]:[Year Founded]]&\" \")","v":"Amgen Pharmatech Therapeutics, including immunology and novel antibody therapy Thousand Oaks, CA; Woburn, MA http://careers.amgen.com/ 22000 1980 "},{"$f":"Table3[[#This Row],[Column26]]","v":"Finance Manager"},"Finance Manager","Amgen","Y","N"]
[null,"Ascendis Pharma","Pharmatech","Drugs for endocrinology, central nervous system disorders and infectious diseases.","California","https://apply.workable.com/ascendis-pharma/",78,2006,{"$f":"_xlfn.CONCAT(Table3[[#This Row],[Company]:[Year Founded]]&\" \")","v":"Ascendis Pharma Pharmatech Drugs for endocrinology, central nervous system disorders and infectious diseases. California https://apply.workable.com/ascendis-pharma/ 78 2006 "},{"$f":"Table3[[#This Row],[Column26]]","v":"Senior Director, Program & Project Management Excellence"},"Senior Director, Program & Project Management Excellence","Ascendis Pharma","NA","N"]
[null,"Daiichi-Sankyo, Inc.","Pharmatech","Therapeutics for oncology, cardiovascular-metabolics, pain management and rare diseases","New Jersey","https://www.daiichisankyo.com/career.html",84,2006,{"$f":"_xlfn.CONCAT(Table3[[#This Row],[Company]:[Year Founded]]&\" \")","v":"Daiichi-Sankyo, Inc. Pharmatech Therapeutics for oncology, cardiovascular-metabolics, pain management and rare diseases New Jersey https://www.daiichisankyo.com/career.html 84 2006 "},{"$f":"Table3[[#This Row],[Column26]]","v":"Manager Global Project Management - Strategic Initiatives"},"Manager Global Project Management - Strategic Initiatives","Daiichi-Sankyo, Inc.","NA","Y","https://www.indeed.com/jobs?q=Daiichi-Sankyo%2C%20Inc.&l&vjk=7c2a8753c0240df7"]
[null,"Incyte","Pharmatech","Medicinal chemistry and biology. Proprietary products include FGFR2 fusions to treat cholangiocarcinoma","Delaware","https://www.incyte.com/join-us/careers",700,1991,{"$f":"_xlfn.CONCAT(Table3[[#This Row],[Company]:[Year Founded]]&\" \")","v":"Incyte Pharmatech Medicinal chemistry and biology. Proprietary products include FGFR2 fusions to treat cholangiocarcinoma Delaware https://www.incyte.com/join-us/careers 700 1991 "},{"$f":"Table3[[#This Row],[Column26]]","v":"Manager to Sr. Manager, Financial Planning & Analysis"},"Manager to Sr. Manager, Financial Planning & Analysis","Incyte","Y","Y","https://www.indeed.com/jobs?q=Incyte&l=United%20States&vjk=d4cb1b5de847a79f"]
[null,"Kite Pharma","Pharmatech","Cell-based immunotherapies for cancer treatment ","California; Maryland","https://www.kitepharma.com/careers/careers-at-kite",2000,2009,{"$f":"_xlfn.CONCAT(Table3[[#This Row],[Company]:[Year Founded]]&\" \")","v":"Kite Pharma Pharmatech Cell-based immunotherapies for cancer treatment  California; Maryland https://www.kitepharma.com/careers/careers-at-kite 2000 2009 "},{"$f":"Table3[[#This Row],[Column26]]","v":"Project Manager, Facilities Operations"},"Project Manager, Facilities Operations","Kite Pharma","Y","Y","https://www.indeed.com/jobs?q=Kite%20Pharma&l=United%20States&vjk=a25d0b8c4bb2ba56"]
[null,"Lilly","Pharmatech","Products include Cialis and Cymbalta.","Indiana; New Jersey; Massachusetts; New York; California; Washington; Toronto","https://careers.lilly.com/search-jobs/MBA/410-33041/1",36000,1876,{"$f":"_xlfn.CONCAT(Table3[[#This Row],[Company]:[Year Founded]]&\" \")","v":"Lilly Pharmatech Products include Cialis and Cymbalta. Indiana; New Jersey; Massachusetts; New York; California; Washington; Toronto https://careers.lilly.com/search-jobs/MBA/410-33041/1 36000 1876 "},{"$f":"Table3[[#This Row],[Column26]]","v":"Compensation and M&A Projects Manager "},"Compensation and M&A Projects Manager ","Lilly","NA","Y","https://www.indeed.com/jobs?q=Lilly&explvl=senior_level&vjk=237ac379ebdea6ff"]
[null,"Novartis AG","Pharmatech","Pharmaceuticals: prescription; over-the-counter; and veterinary products. Proprietary products include Cipro and Ritalin","Colorado; Massachusetts; California; Georgia; New Jersey; Texas; North Carolina; West Virginia; New York; Florida; Pennsylvania; DC; North Carolina; Dorval","https://www.novartis.com/careers",118000,1996,{"$f":"_xlfn.CONCAT(Table3[[#This Row],[Company]:[Year Founded]]&\" \")","v":"Novartis AG Pharmatech Pharmaceuticals: prescription; over-the-counter; and veterinary products. Proprietary products include Cipro and Ritalin Colorado; Massachusetts; California; Georgia; New Jersey; Texas; North Carolina; West Virginia; New York; Florida; Pennsylvania; DC; North Carolina; Dorval https://www.novartis.com/careers 118000 1996 "},{"$f":"Table3[[#This Row],[Column26]]","v":"Strategic Account Manager"},"Strategic Account Manager","Novartis AG","Y","Y"]
[null,"Novocure","Pharmatech","Research, development and commercialization of therapeutics for treating solid tumor cancers.","Georgia; Massachusetts; North Carolina; Illinois; Texas; Ohio; Colorado; Michigan; Indiana; Florida; New Jersey; Wisconsin; California; Pennsylvania; New York; Oklahoma; Arizona; Oregon; New Hampshire; North Carolina; Washington; Delaware; ","https://careers.novocure.com/go/USA/8193800/",598,2000,{"$f":"_xlfn.CONCAT(Table3[[#This Row],[Company]:[Year Founded]]&\" \")","v":"Novocure Pharmatech Research, development and commercialization of therapeutics for treating solid tumor cancers. Georgia; Massachusetts; North Carolina; Illinois; Texas; Ohio; Colorado; Michigan; Indiana; Florida; New Jersey; Wisconsin; California; Pennsylvania; New York; Oklahoma; Arizona; Oregon; New Hampshire; North Carolina; Washington; Delaware;  https://careers.novocure.com/go/USA/8193800/ 598 2000 "},{"$f":"Table3[[#This Row],[Column26]]","v":" Senior Manager, Brand Strategy and Communications"}," Senior Manager, Brand Strategy and Communications","Novocure","NA","N"]
[null,"Pacific Pharmaceuticals USA Inc.","Pharmatech","Production of dietary supplements, OTC drug products, and softgel cap formulations. ","California","https://www.pacificpharmausa.com/about-us/",3,2017,{"$f":"_xlfn.CONCAT(Table3[[#This Row],[Company]:[Year Founded]]&\" \")","v":"Pacific Pharmaceuticals USA Inc. Pharmatech Production of dietary supplements, OTC drug products, and softgel cap formulations.  California https://www.pacificpharmausa.com/about-us/ 3 2017 "},{"$f":"Table3[[#This Row],[Column26]]","v":"NA"},"NA","Pacific Pharmaceuticals USA Inc.","NA","N"]
[null,"Quidel","Pharmatech","Diagnostic product manufacturer that produces and supplies rapid test kits and cellular-based virology assays.","California; Ohio; Massachusetts","https://www.quidel.com/careers",1200,1979,{"$f":"_xlfn.CONCAT(Table3[[#This Row],[Company]:[Year Founded]]&\" \")","v":"Quidel Pharmatech Diagnostic product manufacturer that produces and supplies rapid test kits and cellular-based virology assays. California; Ohio; Massachusetts https://www.quidel.com/careers 1200 1979 "},{"$f":"Table3[[#This Row],[Column26]]","v":"Marketing Director"},"Marketing Director","Quidel","NA","N"]
[null,"Regeneron","Pharmatech","Medicines for the treatment of metabolic, inflammatory and infectious diseases.","New York; New Jersey; Washington","https://careers.regeneron.com/",7400,1988,{"$f":"_xlfn.CONCAT(Table3[[#This Row],[Company]:[Year Founded]]&\" \")","v":"Regeneron Pharmatech Medicines for the treatment of metabolic, inflammatory and infectious diseases. New York; New Jersey; Washington https://careers.regeneron.com/ 7400 1988 "},{"$f":"Table3[[#This Row],[Column26]]","v":"NA"},"NA","Regeneron","Y","Y","https://www.indeed.com/jobs?q=Regeneron&l=United%20States&vjk=f1f01959814cad26"]
[null,"Roche","Pharmatech","Diagnostic and therapeutic products and services. Its products include Tamiflu and Valium.","Connecticut; Massachusetts; Indiana; New Jersey; Wisconsin; Arizona; Laval; Mississauga","https://www.roche.com/careers/jobs/jobsearch.htm?countryCodes=US&offset=1",98000,1896,{"$f":"_xlfn.CONCAT(Table3[[#This Row],[Company]:[Year Founded]]&\" \")","v":"Roche Pharmatech Diagnostic and therapeutic products and services. Its products include Tamiflu and Valium. Connecticut; Massachusetts; Indiana; New Jersey; Wisconsin; Arizona; Laval; Mississauga https://www.roche.com/careers/jobs/jobsearch.htm?countryCodes=US&offset=1 98000 1896 "},{"$f":"Table3[[#This Row],[Column26]]","v":"Finance Business Partner Customer Solutions (R&D)"},"Finance Business Partner Customer Solutions (R&D)","Roche","Y","Y","https://www.indeed.com/jobs?q=Roche&l=United%20States&vjk=00d14ef7371e3269"]
[null,"The FlexPro Group","PharmaTech","Consulting for pharmaceutical clients.","Pennsylvania; Massachusetts","https://theflexprogroup.com/openings/",34,2008,{"$f":"_xlfn.CONCAT(Table3[[#This Row],[Company]:[Year Founded]]&\" \")","v":"The FlexPro Group PharmaTech Consulting for pharmaceutical clients. Pennsylvania; Massachusetts https://theflexprogroup.com/openings/ 34 2008 "},"Account Manager","Customer Operations Manager","The FlexPro Group","NA","N"]
[null,"Vertex Pharmaceuticals","Pharmatech","Pharmaceuticals include SYMKEVI® and KALYDECO to treat cystic fibrosis","Massachusetts; California; Washington; Toronto","https://www.vrtx.com/working-here/",1100,1989,{"$f":"_xlfn.CONCAT(Table3[[#This Row],[Company]:[Year Founded]]&\" \")","v":"Vertex Pharmaceuticals Pharmatech Pharmaceuticals include SYMKEVI® and KALYDECO to treat cystic fibrosis Massachusetts; California; Washington; Toronto https://www.vrtx.com/working-here/ 1100 1989 "},{"$f":"Table3[[#This Row],[Column26]]","v":"Associate Director, Contract Development - Finance"},"Associate Director, Contract Development - Finance","Vertex Pharmaceuticals","Y","Y","https://www.indeed.com/jobs?q=Vertex%20Pharmaceuticals&l=United%20States&vjk=2ba29b8ac010a8e3"]
[null,"OpenTrons","Robotics","OpenTrons builds open-source liquid handling robots for personal use in the lab.","New York","https://opentrons.com/jobs",439,2014,{"$f":"_xlfn.CONCAT(Table3[[#This Row],[Company]:[Year Founded]]&\" \")","v":"OpenTrons Robotics OpenTrons builds open-source liquid handling robots for personal use in the lab. New York https://opentrons.com/jobs 439 2014 "},{"$f":"Table3[[#This Row],[Column26]]","v":"Customer Success Manager"},"Customer Success Manager","OpenTrons"]
[null,"Reliable Optics","Robotics","Reliable Robotics is expanding access to air transportation with advanced aircraft automation.","California","https://reliable.co/careers",112,2017,{"$f":"_xlfn.CONCAT(Table3[[#This Row],[Company]:[Year Founded]]&\" \")","v":"Reliable Optics Robotics Reliable Robotics is expanding access to air transportation with advanced aircraft automation. California https://reliable.co/careers 112 2017 "},{"$f":"Table3[[#This Row],[Column26]]","v":"NA"},"NA","Reliable Optics"]
[null,"Analog Devices","Semiconductors","Analog, mixed-signal and digital signal processing integrated circuits.","Massachusetts; Ottawa","https://careers.analog.com/",15800,1965,{"$f":"_xlfn.CONCAT(Table3[[#This Row],[Company]:[Year Founded]]&\" \")","v":"Analog Devices Semiconductors Analog, mixed-signal and digital signal processing integrated circuits. Massachusetts; Ottawa https://careers.analog.com/ 15800 1965 "},{"$f":"Table3[[#This Row],[Column26]]","v":"Corporate Strategy Associate - Finance"},"Corporate Strategy Associate - Finance","Analog Devices","NA","N"]
[null,"ARM","Semiconductors","Arm technology enables specialized processing built on the economics, design freedom and accessibility of general-purpose compute that has, so far, led to more than 180 billion chips being shipped by our partners.","Texas; Washington; Arizona; California; Massachusetts; Vancouver","https://careers.peopleclick.com/careerscp/client_arm/external/search.do",8500,1990,{"$f":"_xlfn.CONCAT(Table3[[#This Row],[Company]:[Year Founded]]&\" \")","v":"ARM Semiconductors Arm technology enables specialized processing built on the economics, design freedom and accessibility of general-purpose compute that has, so far, led to more than 180 billion chips being shipped by our partners. Texas; Washington; Arizona; California; Massachusetts; Vancouver https://careers.peopleclick.com/careerscp/client_arm/external/search.do 8500 1990 "},{"$f":"Table3[[#This Row],[Column26]]","v":"NA"},"NA","ARM","NA","N"]
[null,"Cirrus Logic","Semiconductors","Analog and digital signal processing components.","Texas; California; Arizona; Utah","https://www.cirrus.com/careers/corporate/",1500,1984,{"$f":"_xlfn.CONCAT(Table3[[#This Row],[Company]:[Year Founded]]&\" \")","v":"Cirrus Logic Semiconductors Analog and digital signal processing components. Texas; California; Arizona; Utah https://www.cirrus.com/careers/corporate/ 1500 1984 "},{"$f":"Table3[[#This Row],[Column26]]","v":"NA"},"NA","Cirrus Logic","NA","N"]
[null,"Cree","Semiconductors","Manufactures LED lighting and semiconductor products for power and radio frequency applications.","North Carolina; Arizona; California; Mississauga","https://www.cree.com/careers",5300,1987,{"$f":"_xlfn.CONCAT(Table3[[#This Row],[Company]:[Year Founded]]&\" \")","v":"Cree Semiconductors Manufactures LED lighting and semiconductor products for power and radio frequency applications. North Carolina; Arizona; California; Mississauga https://www.cree.com/careers 5300 1987 "},{"$f":"Table3[[#This Row],[Column26]]","v":"Channel Marketing Manager"},"Channel Marketing Manager","Cree","NA","N"]
[null,"Inphi Corporation","Semiconductors","High-speed analog, DSP, and optical semiconductor solutions for the cloud and service-provider communication markets","California; North Carolina; Ottawa","https://www.inphi.com/careers/current-openings/",685,2000,{"$f":"_xlfn.CONCAT(Table3[[#This Row],[Company]:[Year Founded]]&\" \")","v":"Inphi Corporation Semiconductors High-speed analog, DSP, and optical semiconductor solutions for the cloud and service-provider communication markets California; North Carolina; Ottawa https://www.inphi.com/careers/current-openings/ 685 2000 "},{"$f":"Table3[[#This Row],[Column26]]","v":"NA"},"NA","Inphi Corporation","NA","N"]
[null,"LAM research","Semiconductors","Wafer fabrication equipment for smart microprocessors and electronic devices.","California; New York; New Mexico; Texas; Idaho; Arizona; Ohio; Oregon; Utah; North Carolina; Waltham; ","https://careers.lamresearch.com/search/?q=&locationsearch=United+States+US&startrow=25",10900,1980,{"$f":"_xlfn.CONCAT(Table3[[#This Row],[Company]:[Year Founded]]&\" \")","v":"LAM research Semiconductors Wafer fabrication equipment for smart microprocessors and electronic devices. California; New York; New Mexico; Texas; Idaho; Arizona; Ohio; Oregon; Utah; North Carolina; Waltham;  https://careers.lamresearch.com/search/?q=&locationsearch=United+States+US&startrow=25 10900 1980 "},{"$f":"Table3[[#This Row],[Column26]]","v":"Senior Manager/Director Digital Transformation, Finance"},"Senior Manager/Director Digital Transformation, Finance","LAM research","NA","Y"]
[null,"Marvell","Semiconductors","Semiconductors, including NOR flash memories and microcontrollers, for the industrial sector.","California; Texas; Idaho; Arizona; Minnesota; Massachusetts; North Carolina","https://www.marvell.com/company/careers.html",5200,1995,{"$f":"_xlfn.CONCAT(Table3[[#This Row],[Company]:[Year Founded]]&\" \")","v":"Marvell Semiconductors Semiconductors, including NOR flash memories and microcontrollers, for the industrial sector. California; Texas; Idaho; Arizona; Minnesota; Massachusetts; North Carolina https://www.marvell.com/company/careers.html 5200 1995 "},{"$f":"Table3[[#This Row],[Column26]]","v":"Sales Account Manager"},"Sales Account Manager","Marvell","NA","Y"]
[null,"Micron technology","Semiconductors","Semiconductor devices, including dynamic random-access memory, flash memory and solid-state drives.","Idaho; Texas; California; Utah; Colorado; Virginia; Minnesota; Washington","https://www.micron.com/careers",37000,1978,{"$f":"_xlfn.CONCAT(Table3[[#This Row],[Company]:[Year Founded]]&\" \")","v":"Micron technology Semiconductors Semiconductor devices, including dynamic random-access memory, flash memory and solid-state drives. Idaho; Texas; California; Utah; Colorado; Virginia; Minnesota; Washington https://www.micron.com/careers 37000 1978 "},{"$f":"Table3[[#This Row],[Column26]]","v":"Sr. Manager, Business Planning"},"Sr. Manager, Business Planning","Micron technology","NA","Y"]
[null,"Qorvo","Semiconductors","Radio frequency systems and power amplifiers for defense and communication applications.","North Carolina; Florida; Oregon; California; Arizona; Massachusetts; Texas; Iowa; Minnesota; ","https://www.qorvo.com/careers",8100,2015,{"$f":"_xlfn.CONCAT(Table3[[#This Row],[Company]:[Year Founded]]&\" \")","v":"Qorvo Semiconductors Radio frequency systems and power amplifiers for defense and communication applications. North Carolina; Florida; Oregon; California; Arizona; Massachusetts; Texas; Iowa; Minnesota;  https://www.qorvo.com/careers 8100 2015 "},{"$f":"Table3[[#This Row],[Column26]]","v":"Sr Project Manager"},"Sr Project Manager","Qorvo","NA","Y"]
[null,"Xilinx","Semiconductors","Programmable system-on-chips for aerospace, automotive and healthcare sectors.","California; Colorado","https://careers.xilinx.com/",4400,1984,{"$f":"_xlfn.CONCAT(Table3[[#This Row],[Company]:[Year Founded]]&\" \")","v":"Xilinx Semiconductors Programmable system-on-chips for aerospace, automotive and healthcare sectors. California; Colorado https://careers.xilinx.com/ 4400 1984 "},{"$f":"Table3[[#This Row],[Column26]]","v":"Sr. Strategic Marketing Manager"},"Sr. Strategic Marketing Manager","Xilinx","NA","N"]
[null,"Ansys Inc","Transportation Technology","Multiphysics engineering simulation software for product design, testing and operation.","Pennsylvania","https://careers.ansys.com/search/?createNewAlert=false&q=&locationsearch=&optionsFacetsDD_facility=&optionsFacetsDD_country=&optionsFacetsDD_state=&optionsFacetsDD_city=&optionsFacetsDD_department=&optionsFacetsDD_title=",3400,1970,{"$f":"_xlfn.CONCAT(Table3[[#This Row],[Company]:[Year Founded]]&\" \")","v":"Ansys Inc Transportation Technology Multiphysics engineering simulation software for product design, testing and operation. Pennsylvania https://careers.ansys.com/search/?createNewAlert=false&q=&locationsearch=&optionsFacetsDD_facility=&optionsFacetsDD_country=&optionsFacetsDD_state=&optionsFacetsDD_city=&optionsFacetsDD_department=&optionsFacetsDD_title= 3400 1970 "},{"$f":"Table3[[#This Row],[Column26]]","v":"\nMergers and Acquisitions Senior Manager - Remote"},"\nMergers and Acquisitions Senior Manager - Remote","Ansys Inc","Y","Y","https://www.indeed.com/jobs?q=Ansys%20Inc&l&vjk=499cf28ba5571104"]
[null,"Aptiv","Transportation Technology","Electrical and electronic, powertrain, and safety for the automotive industry","California; Massachusetts; Indiana; Nevada; Pennsylvania; Michigan","https://www.aptiv.com/careers/search?joblocations=us",143000,1994,{"$f":"_xlfn.CONCAT(Table3[[#This Row],[Company]:[Year Founded]]&\" \")","v":"Aptiv Transportation Technology Electrical and electronic, powertrain, and safety for the automotive industry California; Massachusetts; Indiana; Nevada; Pennsylvania; Michigan https://www.aptiv.com/careers/search?joblocations=us 143000 1994 "},{"$f":"Table3[[#This Row],[Column26]]","v":"Business Manager"},"Business Manager","Aptiv","NA","N"]
[null,"Bird","Transportation Technology","Mobile app to rent personal electric vehicles.","California","https://www.bird.co/",985,2017,{"$f":"_xlfn.CONCAT(Table3[[#This Row],[Company]:[Year Founded]]&\" \")","v":"Bird Transportation Technology Mobile app to rent personal electric vehicles. California https://www.bird.co/ 985 2017 "},{"$f":"Table3[[#This Row],[Column26]]","v":"Manager, Strategic Finance, Cost of Sales (FP&A)"},"Manager, Strategic Finance, Cost of Sales (FP&A)","Bird","NA","N"]
[null,"Brain Corporation","Transportation Technology","Autonomous, material-handling vehicles and cleaning robots.","California","https://www.braincorp.com/careers#open-position",320,2009,{"$f":"_xlfn.CONCAT(Table3[[#This Row],[Company]:[Year Founded]]&\" \")","v":"Brain Corporation Transportation Technology Autonomous, material-handling vehicles and cleaning robots. California https://www.braincorp.com/careers#open-position 320 2009 "},{"$f":"Table3[[#This Row],[Column26]]","v":"Product Manager"},"Product Manager","Brain Corporation","Y","N"]
[null,"Chargepoint","Transportation Technology","Electric vehicle charging network","California; Arizona","https://www.chargepoint.com/about/opportunities/",550,2007,{"$f":"_xlfn.CONCAT(Table3[[#This Row],[Company]:[Year Founded]]&\" \")","v":"Chargepoint Transportation Technology Electric vehicle charging network California; Arizona https://www.chargepoint.com/about/opportunities/ 550 2007 "},{"$f":"Table3[[#This Row],[Column26]]","v":"Marketing Operations Manager"},"Marketing Operations Manager","Chargepoint","NA","N"]
[null,"Cruise","Transportation Technology","Designs and manufactures driverless vehicles, including its proprietary product, Cruise Rp-1.","California; Arizona; Washington","https://getcruise.com/careers/jobs",1800,2013,{"$f":"_xlfn.CONCAT(Table3[[#This Row],[Company]:[Year Founded]]&\" \")","v":"Cruise Transportation Technology Designs and manufactures driverless vehicles, including its proprietary product, Cruise Rp-1. California; Arizona; Washington https://getcruise.com/careers/jobs 1800 2013 "},{"$f":"Table3[[#This Row],[Column26]]","v":"Senior Technical Learning & Development Program Manager, Customer Success"},"Senior Technical Learning & Development Program Manager, Customer Success","Cruise","Y","N"]
[null,"Damon Motorcycles","Transportation Technology","Software and hardware  for motorcycle rider safety. Propriety product is a 360°advanced warning system.","Vancouver","https://www.damon.com/team",18,2017,{"$f":"_xlfn.CONCAT(Table3[[#This Row],[Company]:[Year Founded]]&\" \")","v":"Damon Motorcycles Transportation Technology Software and hardware  for motorcycle rider safety. Propriety product is a 360°advanced warning system. Vancouver https://www.damon.com/team 18 2017 "},{"$f":"Table3[[#This Row],[Column26]]","v":"NA"},"NA","Damon Motorcycles","NA","N"]
[null,"FCA - Fiat Chrysler Automobiles","Transportation Technology","Cars, crossovers, electric vehicles and accessories.","Michigan; Windsor","https://careers.fcagroup.com/job-search-results/?keyword=manager&parent_category=Purchasing%20%26%20SCM&department=NORTH%20AMERICA",191700,1899,{"$f":"_xlfn.CONCAT(Table3[[#This Row],[Company]:[Year Founded]]&\" \")","v":"FCA - Fiat Chrysler Automobiles Transportation Technology Cars, crossovers, electric vehicles and accessories. Michigan; Windsor https://careers.fcagroup.com/job-search-results/?keyword=manager&parent_category=Purchasing%20%26%20SCM&department=NORTH%20AMERICA 191700 1899 "},{"$f":"Table3[[#This Row],[Column26]]","v":"Regional Sales Manager- Southern California"},"Regional Sales Manager- Southern California","FCA - Fiat Chrysler Automobiles","Y","Y","https://www.indeed.com/jobs?q=FCA%20&l=United%20States&vjk=0ed990fcede9a3c2"]
[null,"Mapbox, Inc","Transportation Technology","Data platform to build custom interactive maps and live navigation software for web, mobile, augmented reality, and vehicle-integrated applications.","Washington","https://www.mapbox.com/careers/#grnhse_app",400,2010,{"$f":"_xlfn.CONCAT(Table3[[#This Row],[Company]:[Year Founded]]&\" \")","v":"Mapbox, Inc Transportation Technology Data platform to build custom interactive maps and live navigation software for web, mobile, augmented reality, and vehicle-integrated applications. Washington https://www.mapbox.com/careers/#grnhse_app 400 2010 "},{"$f":"Table3[[#This Row],[Column26]]","v":"Director Partner Development"},"Director Partner Development","Mapbox, Inc","NA","N"]
[null,"Nauto","Transportation Technology","AI-based, connected camera network to track driver attention and actions.","California","https://www.nauto.com/careers/all",100,2015,{"$f":"_xlfn.CONCAT(Table3[[#This Row],[Company]:[Year Founded]]&\" \")","v":"Nauto Transportation Technology AI-based, connected camera network to track driver attention and actions. California https://www.nauto.com/careers/all 100 2015 "},{"$f":"Table3[[#This Row],[Column26]]","v":"NA"},"NA","Nauto","Y","N"]
[null,"Nikola Motor Company","Transportation Technology","Zero-emissions vehicles","Arizona","https://nikolamotor.com/careers/jobs",294,2014,{"$f":"_xlfn.CONCAT(Table3[[#This Row],[Company]:[Year Founded]]&\" \")","v":"Nikola Motor Company Transportation Technology Zero-emissions vehicles Arizona https://nikolamotor.com/careers/jobs 294 2014 "},{"$f":"Table3[[#This Row],[Column26]]","v":"Customer Success Lead"},"Customer Success Lead","Nikola Motor Company","Y","Y","https://www.indeed.com/jobs?q=Nikola%20Motor%20Company&l=United%20States&start=20&vjk=ddd7f0db31a29d80"]
[null,"Pony.ai","Transportation Technology","AI for self-driving vehicles","California","https://www.pony.ai/en/careers.html",200,2016,{"$f":"_xlfn.CONCAT(Table3[[#This Row],[Company]:[Year Founded]]&\" \")","v":"Pony.ai Transportation Technology AI for self-driving vehicles California https://www.pony.ai/en/careers.html 200 2016 "},{"$f":"Table3[[#This Row],[Column26]]","v":"Senior Manager, Business Development"},"Senior Manager, Business Development","Pony.ai","NA","Y","https://www.indeed.com/jobs?q=Pony.ai&explvl=senior_level&vjk=dd70309c6fe82c13"]
[null,"Proterra","Transportation Technology","Electric buses","California; South Carolina","https://www.proterra.com/company/careers/",600,2004,{"$f":"_xlfn.CONCAT(Table3[[#This Row],[Company]:[Year Founded]]&\" \")","v":"Proterra Transportation Technology Electric buses California; South Carolina https://www.proterra.com/company/careers/ 600 2004 "},{"$f":"Table3[[#This Row],[Column26]]","v":"Project Manager"},"Project Manager","Proterra","NA","Y","https://www.indeed.com/jobs?q=Proterra&l&vjk=7b20322e0467c5d7"]
[null,"SmartDrive Systems","Transportation Technology","Commercial driver safety technology and data analytics","California","https://www.smartdrive.net/careers",725,2004,{"$f":"_xlfn.CONCAT(Table3[[#This Row],[Company]:[Year Founded]]&\" \")","v":"SmartDrive Systems Transportation Technology Commercial driver safety technology and data analytics California https://www.smartdrive.net/careers 725 2004 "},{"$f":"Table3[[#This Row],[Column26]]","v":"NA"},"NA","SmartDrive Systems","NA","N"]
[null,"Tesla","Transportation Technology","Electric cars, powertrain components and batteries.","California; Nevada","https://www.tesla.com/?redirect=no",48800,2003,{"$f":"_xlfn.CONCAT(Table3[[#This Row],[Company]:[Year Founded]]&\" \")","v":"Tesla Transportation Technology Electric cars, powertrain components and batteries. California; Nevada https://www.tesla.com/?redirect=no 48800 2003 "},{"$f":"Table3[[#This Row],[Column26]]","v":"Accounts Payable Lead"},"Accounts Payable Lead","Tesla","Y","Y","https://www.indeed.com/jobs?q=Tesla&l=United%20States&vjk=243843f7ff40893d"]
[null,"Vecna Robotics","Transportation Technology","Automated material handling, hybrid fulfillment, and workflow optimization solutions featuring self-driving vehicles ","Massachusetts","https://www.vecnarobotics.com/careers/",98,2018,{"$f":"_xlfn.CONCAT(Table3[[#This Row],[Company]:[Year Founded]]&\" \")","v":"Vecna Robotics Transportation Technology Automated material handling, hybrid fulfillment, and workflow optimization solutions featuring self-driving vehicles  Massachusetts https://www.vecnarobotics.com/careers/ 98 2018 "},{"$f":"Table3[[#This Row],[Column26]]","v":"NA"},"NA","Vecna Robotics","NA","N"]
[null,"Waymo","Transportation Technology","Designs, manufactures and markets autonomous electric vehicles for consumer and commercial sectors.","California; Texas, Washington; Arizona","https://waymo.com/joinus/",1500,2009,{"$f":"_xlfn.CONCAT(Table3[[#This Row],[Company]:[Year Founded]]&\" \")","v":"Waymo Transportation Technology Designs, manufactures and markets autonomous electric vehicles for consumer and commercial sectors. California; Texas, Washington; Arizona https://waymo.com/joinus/ 1500 2009 "},{"$f":"Table3[[#This Row],[Column26]]","v":"Business Finance Manager"},"Business Finance Manager","Waymo","Y","Y","https://www.indeed.com/jobs?q=Waymo&l&vjk=2db83ddb75f58348"]
[null,"Zoox","Transportation Technology","Autonomous electric vehicles; owned by Amazon.","California","https://zoox.com/join/",1000,2014,{"$f":"_xlfn.CONCAT(Table3[[#This Row],[Company]:[Year Founded]]&\" \")","v":"Zoox Transportation Technology Autonomous electric vehicles; owned by Amazon. California https://zoox.com/join/ 1000 2014 "},{"$f":"Table3[[#This Row],[Column26]]","v":"Senior Director of Finance and Strategy"},"Senior Director of Finance and Strategy","Zoox","NA","Y","https://www.indeed.com/jobs?q=NCR%20Corporation&explvl=senior_level&start=20&vjk=9336c14d71c9449f"]
[null,"Tyler Technologies","InfoTech - Services","Tyler Technologies is a company that provides integrated information management solutions and services for the public sector.","Texas, Alabama; Arizona; Arkansas; British Columbia; California; Colorado; Connecticut; Georgia; Hawaii; Idaho; Indiana; Kansas; Kentucky; Luoisiana; Maine; Maryland; Massachssets; Michigan; Mississipi; Missouri; Montana; Nebraska; New Hampshire; New Jersey; New Mexico; New York; North Carolina; Ohio; Oklahoma; Ontario; Oregon; Pennsylvania; Rhode Island; South Carolina; Tennessee; Utah; Vermont; Virginia; Washington; Washington D.C. ; West Virginia; Wisconsin","https://www.tylertech.com/careers/job-openings",6800,1966,{"$f":"_xlfn.CONCAT(Table3[[#This Row],[Company]:[Year Founded]]&\" \")","v":"Tyler Technologies InfoTech - Services Tyler Technologies is a company that provides integrated information management solutions and services for the public sector. Texas, Alabama; Arizona; Arkansas; British Columbia; California; Colorado; Connecticut; Georgia; Hawaii; Idaho; Indiana; Kansas; Kentucky; Luoisiana; Maine; Maryland; Massachssets; Michigan; Mississipi; Missouri; Montana; Nebraska; New Hampshire; New Jersey; New Mexico; New York; North Carolina; Ohio; Oklahoma; Ontario; Oregon; Pennsylvania; Rhode Island; South Carolina; Tennessee; Utah; Vermont; Virginia; Washington; Washington D.C. ; West Virginia; Wisconsin https://www.tylertech.com/careers/job-openings 6800 1966 "},"Customer Success Manager"]
[null,"Nike, Inc","Consumer Goods","Nike is a company that designs, develops, and markets footwear, apparel, equipment, and accessory products.","Oregon; Mississippi; Tennessee; New York; Markham","https://jobs.nike.com/",79000,1967,{"$f":"_xlfn.CONCAT(Table3[[#This Row],[Company]:[Year Founded]]&\" \")","v":"Nike, Inc Consumer Goods Nike is a company that designs, develops, and markets footwear, apparel, equipment, and accessory products. Oregon; Mississippi; Tennessee; New York; Markham https://jobs.nike.com/ 79000 1967 "},null,null,null,"NA","Y","https://www.indeed.com/jobs?q=NIKE&l=&vjk=1b651e7e7034c600"]
[null,"Blue Triton","Consumer Goods","As the world’s leading producer of bottled water, BlueTriton is creating healthier lives.","Connecticut ; Texas; Florida; California; Colorado; Ontario","https://www.bluetritoncareers.com/",6600,1842,{"$f":"_xlfn.CONCAT(Table3[[#This Row],[Company]:[Year Founded]]&\" \")","v":"Blue Triton Consumer Goods As the world’s leading producer of bottled water, BlueTriton is creating healthier lives. Connecticut ; Texas; Florida; California; Colorado; Ontario https://www.bluetritoncareers.com/ 6600 1842 "},null,null,null,"Y","Y","https://www.indeed.com/jobs?q=Blue+triton&l=&vjk=cf4d4cdfd69995cb"]
[null,"Gemini","FinTech","\nGemini Trust is a cryptocurrency exchange and custodian company. It provides an electronic trading platform that enables users to buy and sell cryptocurrencies, such as bitcoin and ether.","New York","https://www.gemini.com/careers",1450,2014,{"$f":"_xlfn.CONCAT(Table3[[#This Row],[Company]:[Year Founded]]&\" \")","v":"Gemini FinTech \nGemini Trust is a cryptocurrency exchange and custodian company. It provides an electronic trading platform that enables users to buy and sell cryptocurrencies, such as bitcoin and ether. New York https://www.gemini.com/careers 1450 2014 "},null,null,null,"NA","N"]
[null,"Northrop Grumman","InfoTech - Services","Northrop Grumman is a company providing autonomous systems, cyber, C4ISR (Command, Control, Communications, Computers, Intelligence, Surveillance, and Reconnaissance), strike, space, logistics, and modernization solutions","California; DC; Florida; Maryland","https://www.northropgrumman.com/careers/northrop-grumman-careers-locations/",23000,1939,{"$f":"_xlfn.CONCAT(Table3[[#This Row],[Company]:[Year Founded]]&\" \")","v":"Northrop Grumman InfoTech - Services Northrop Grumman is a company providing autonomous systems, cyber, C4ISR (Command, Control, Communications, Computers, Intelligence, Surveillance, and Reconnaissance), strike, space, logistics, and modernization solutions California; DC; Florida; Maryland https://www.northropgrumman.com/careers/northrop-grumman-careers-locations/ 23000 1939 "},null,null,null,"Y","Y","https://www.indeed.com/cmp/Northrop-Grumman"]
[null,"Suse","Infotech - Software","SUSE is an open-source software company. It develops and sells Linux products and cloud infrastructure solutions. The company serves the needs of business customers.","Washington; Utah; Massachusetts","https://jobs.suse.com/us/en",2000,1992,{"$f":"_xlfn.CONCAT(Table3[[#This Row],[Company]:[Year Founded]]&\" \")","v":"Suse Infotech - Software SUSE is an open-source software company. It develops and sells Linux products and cloud infrastructure solutions. The company serves the needs of business customers. Washington; Utah; Massachusetts https://jobs.suse.com/us/en 2000 1992 "},null,null,null,"Y","Y","https://www.indeed.com/cmp/Suse-2c6f8ada"]
[null,"Equity Lifestyle Properties","Real Estate","ELS owns and operates more than 400 communities and resorts with multiple offices across North America.","Illinois; Florida; Arizona; Colorado; California; Pennsylvania; Nevada; North Carolina; Washington; New Jersey; Michigan;  Virginia","https://equitylifestyleproperties.wd5.myworkdayjobs.com/ELS",4100,1969,{"$f":"_xlfn.CONCAT(Table3[[#This Row],[Company]:[Year Founded]]&\" \")","v":"Equity Lifestyle Properties Real Estate ELS owns and operates more than 400 communities and resorts with multiple offices across North America. Illinois; Florida; Arizona; Colorado; California; Pennsylvania; Nevada; North Carolina; Washington; New Jersey; Michigan;  Virginia https://equitylifestyleproperties.wd5.myworkdayjobs.com/ELS 4100 1969 "},null,null,null,"NA","Y","https://www.indeed.com/cmp/Equity-Lifestyle-Properties"]
[null,"Panorama Education","EdTech","Panorama Education is a data analytics company for K-12 education.","Massachusetts; California","https://www.panoramaed.com/careers",286,2012,{"$f":"_xlfn.CONCAT(Table3[[#This Row],[Company]:[Year Founded]]&\" \")","v":"Panorama Education EdTech Panorama Education is a data analytics company for K-12 education. Massachusetts; California https://www.panoramaed.com/careers 286 2012 "},null,null,null,"NA","Y","https://www.indeed.com/cmp/Panorama-Education"]
["Tax Bit","Tax Bit, Inc","FinTech","TaxBit connects consumer, enterprise, and government tax and accounting ecosystems within the tokenized economy","Utah; California; Washington; DC","https://taxbit.com/careers",230,2018,{"$f":"_xlfn.CONCAT(Table3[[#This Row],[Company]:[Year Founded]]&\" \")","v":"Tax Bit, Inc FinTech TaxBit connects consumer, enterprise, and government tax and accounting ecosystems within the tokenized economy Utah; California; Washington; DC https://taxbit.com/careers 230 2018 "},null,null,null,"NA","Y","https://www.indeed.com/cmp/Taxbit"]
[null,"Kinaxis","Infotech - Software","\nKinaxis is a provider of cloud-based supply chain planning and sales and operations solutions","Ontario, Illinois, Texas","https://www.kinaxis.com/en/open-positions",1000,1984,{"$f":"_xlfn.CONCAT(Table3[[#This Row],[Company]:[Year Founded]]&\" \")","v":"Kinaxis Infotech - Software \nKinaxis is a provider of cloud-based supply chain planning and sales and operations solutions Ontario, Illinois, Texas https://www.kinaxis.com/en/open-positions 1000 1984 "},null,null,null,"Y","Y","https://www.indeed.com/jobs?q=Kinaxis&l=usa&vjk=fafbbc3dd58e4eb2"]
[null,"Universal Matter Inc.","Chemical Manufacturing","Universal Matter, Inc. is commercializing a new patent-pending process to become the world’s leading supplier of the most economical and high-quality graphene that is also turbostratic in nature. ","Texas, Ontario","https://www.universalmatter.com/career/",25,2019,{"$f":"_xlfn.CONCAT(Table3[[#This Row],[Company]:[Year Founded]]&\" \")","v":"Universal Matter Inc. Chemical Manufacturing Universal Matter, Inc. is commercializing a new patent-pending process to become the world’s leading supplier of the most economical and high-quality graphene that is also turbostratic in nature.  Texas, Ontario https://www.universalmatter.com/career/ 25 2019 "}]
[null,"PTC","Infotech - Software","\nPTC (formerly known as Parametric Technology Corporation) is a software and services company delivering digital transformation for industrial companies","Massachusetts, Illinois, California, Maryland, Virginia, USA Remote","https://ptc.eightfold.ai/careers",6503,1985,{"$f":"_xlfn.CONCAT(Table3[[#This Row],[Company]:[Year Founded]]&\" \")","v":"PTC Infotech - Software \nPTC (formerly known as Parametric Technology Corporation) is a software and services company delivering digital transformation for industrial companies Massachusetts, Illinois, California, Maryland, Virginia, USA Remote https://ptc.eightfold.ai/careers 6503 1985 "}]
[null,null,null,null,null,null,null,null,{"$f":"_xlfn.CONCAT(Table3[[#This Row],[Company]:[Year Founded]]&\" \")","v":"       "}]
[null,null,null,null,null,null,null,null,{"$f":"_xlfn.CONCAT(Table3[[#This Row],[Company]:[Year Founded]]&\" \")","v":"       "}]
[null,null,null,null,null,null,null,null,{"$f":"_xlfn.CONCAT(Table3[[#This Row],[Company]:[Year Founded]]&\" \")","v":"       "}]
[null,null,null,null,null,null,null,null,{"$f":"_xlfn.CONCAT(Table3[[#This Row],[Company]:[Year Founded]]&\" \")","v":"       "}]
[null,null,null,null,null,null,null,null,{"$f":"_xlfn.CONCAT(Table3[[#This Row],[Company]:[Year Founded]]&\" \")","v":"       "}]
[null,null,null,null,null,null,null,null,{"$f":"_xlfn.CONCAT(Table3[[#This Row],[Company]:[Year Founded]]&\" \")","v":"       "}]
[null,null,null,null,null,null,null,null,{"$f":"_xlfn.CONCAT(Table3[[#This Row],[Company]:[Year Founded]]&\" \")","v":"       "}]
[null,null,null,null,null,null,null,null,{"$f":"_xlfn.CONCAT(Table3[[#This Row],[Company]:[Year Founded]]&\" \")","v":"       "}]
[null,null,null,null,null,null,null,null,{"$f":"_xlfn.CONCAT(Table3[[#This Row],[Company]:[Year Founded]]&\" \")","v":"       "}]
[null,null,null,null,null,null,null,null,{"$f":"_xlfn.CONCAT(Table3[[#This Row],[Company]:[Year Founded]]&\" \")","v":"       "}]
[null,null,null,null,null,null,null,null,{"$f":"_xlfn.CONCAT(Table3[[#This Row],[Company]:[Year Founded]]&\" \")","v":"       "}]
[null,null,null,null,null,null,null,null,{"$f":"_xlfn.CONCAT(Table3[[#This Row],[Company]:[Year Founded]]&\" \")","v":"       "}]
[null,null,null,null,null,null,null,null,{"$f":"_xlfn.CONCAT(Table3[[#This Row],[Company]:[Year Founded]]&\" \")","v":"       "}]
[null,null,null,null,null,null,null,null,{"$f":"_xlfn.CONCAT(Table3[[#This Row],[Company]:[Year Founded]]&\" \")","v":"       "}]
[null,null,null,null,null,null,null,null,{"$f":"_xlfn.CONCAT(Table3[[#This Row],[Company]:[Year Founded]]&\" \")","v":"       "}]
[null,null,null,null,null,null,null,null,{"$f":"_xlfn.CONCAT(Table3[[#This Row],[Company]:[Year Founded]]&\" \")","v":"       "}]
[null,null,null,null,null,null,null,null,{"$f":"_xlfn.CONCAT(Table3[[#This Row],[Company]:[Year Founded]]&\" \")","v":"       "}]
[null,null,null,null,null,null,null,null,{"$f":"_xlfn.CONCAT(Table3[[#This Row],[Company]:[Year Founded]]&\" \")","v":"       "}]
[null,null,null,null,null,null,null,null,{"$f":"_xlfn.CONCAT(Table3[[#This Row],[Company]:[Year Founded]]&\" \")","v":"       "}]
[null,null,null,null,null,null,null,null,{"$f":"_xlfn.CONCAT(Table3[[#This Row],[Company]:[Year Founded]]&\" \")","v":"       "}]
[null,null,null,null,null,null,null,null,{"$f":"_xlfn.CONCAT(Table3[[#This Row],[Company]:[Year Founded]]&\" \")","v":"       "}]
[null,null,null,null,null,null,null,null,{"$f":"_xlfn.CONCAT(Table3[[#This Row],[Company]:[Year Founded]]&\" \")","v":"       "}]
[null,null,null,null,null,null,null,null,{"$f":"_xlfn.CONCAT(Table3[[#This Row],[Company]:[Year Founded]]&\" \")","v":"       "}]
[null,null,null,null,null,null,null,null,{"$f":"_xlfn.CONCAT(Table3[[#This Row],[Company]:[Year Founded]]&\" \")","v":"       "}]
[null,null,null,null,null,null,null,null,{"$f":"_xlfn.CONCAT(Table3[[#This Row],[Company]:[Year Founded]]&\" \")","v":"       "}]
[null,null,null,null,null,null,null,null,{"$f":"_xlfn.CONCAT(Table3[[#This Row],[Company]:[Year Founded]]&\" \")","v":"       "}]
[null,null,null,null,null,null,null,null,{"$f":"_xlfn.CONCAT(Table3[[#This Row],[Company]:[Year Founded]]&\" \")","v":"       "}]
[null,null,null,null,null,null,null,null,{"$f":"_xlfn.CONCAT(Table3[[#This Row],[Company]:[Year Founded]]&\" \")","v":"       "}]
[null,null,null,null,null,null,null,null,{"$f":"_xlfn.CONCAT(Table3[[#This Row],[Company]:[Year Founded]]&\" \")","v":"       "}]
[null,null,null,null,null,null,null,null,{"$f":"_xlfn.CONCAT(Table3[[#This Row],[Company]:[Year Founded]]&\" \")","v":"       "}]
[null,null,null,null,null,null,null,null,{"$f":"_xlfn.CONCAT(Table3[[#This Row],[Company]:[Year Founded]]&\" \")","v":"       "}]
[null,null,null,null,null,null,null,null,{"$f":"_xlfn.CONCAT(Table3[[#This Row],[Company]:[Year Founded]]&\" \")","v":"       "}]
[null,null,null,null,null,null,null,null,{"$f":"_xlfn.CONCAT(Table3[[#This Row],[Company]:[Year Founded]]&\" \")","v":"       "}]
[null,null,null,null,null,null,null,null,{"$f":"_xlfn.CONCAT(Table3[[#This Row],[Company]:[Year Founded]]&\" \")","v":"       "}]
[null,null,null,null,null,null,null,null,{"$f":"_xlfn.CONCAT(Table3[[#This Row],[Company]:[Year Founded]]&\" \")","v":"       "}]
[null,null,null,null,null,null,null,null,{"$f":"_xlfn.CONCAT(Table3[[#This Row],[Company]:[Year Founded]]&\" \")","v":"       "}]
[null,null,null,null,null,null,null,null,{"$f":"_xlfn.CONCAT(Table3[[#This Row],[Company]:[Year Founded]]&\" \")","v":"       "}]
[null,null,null,null,null,null,null,null,{"$f":"_xlfn.CONCAT(Table3[[#This Row],[Company]:[Year Founded]]&\" \")","v":"       "}]
[null,null,null,null,null,null,null,null,{"$f":"_xlfn.CONCAT(Table3[[#This Row],[Company]:[Year Founded]]&\" \")","v":"       "}]
[null,null,null,null,null,null,null,null,{"$f":"_xlfn.CONCAT(Table3[[#This Row],[Company]:[Year Founded]]&\" \")","v":"       "}]
[null,null,null,null,null,null,null,null,{"$f":"_xlfn.CONCAT(Table3[[#This Row],[Company]:[Year Founded]]&\" \")","v":"       "}]
[null,null,null,null,null,null,null,null,{"$f":"_xlfn.CONCAT(Table3[[#This Row],[Company]:[Year Founded]]&\" \")","v":"       "}]
[null,null,null,null,null,null,null,null,{"$f":"_xlfn.CONCAT(Table3[[#This Row],[Company]:[Year Founded]]&\" \")","v":"       "}]
[null,null,null,null,null,null,null,null,{"$f":"_xlfn.CONCAT(Table3[[#This Row],[Company]:[Year Founded]]&\" \")","v":"       "}]
[null,null,null,null,null,null,null,null,{"$f":"_xlfn.CONCAT(Table3[[#This Row],[Company]:[Year Founded]]&\" \")","v":"       "}]
[null,null,null,null,null,null,null,null,{"$f":"_xlfn.CONCAT(Table3[[#This Row],[Company]:[Year Founded]]&\" \")","v":"       "}]
[null,null,null,null,null,null,null,null,{"$f":"_xlfn.CONCAT(Table3[[#This Row],[Company]:[Year Founded]]&\" \")","v":"       "}]
[null,null,null,null,null,null,null,null,{"$f":"_xlfn.CONCAT(Table3[[#This Row],[Company]:[Year Founded]]&\" \")","v":"       "}]
[null,null,null,null,null,null,null,null,{"$f":"_xlfn.CONCAT(Table3[[#This Row],[Company]:[Year Founded]]&\" \")","v":"       "}]
[null,null,null,null,null,null,null,null,{"$f":"_xlfn.CONCAT(Table3[[#This Row],[Company]:[Year Founded]]&\" \")","v":"       "}]
[null,null,null,null,null,null,null,null,{"$f":"_xlfn.CONCAT(Table3[[#This Row],[Company]:[Year Founded]]&\" \")","v":"       "}]
[null,null,null,null,null,null,null,null,{"$f":"_xlfn.CONCAT(Table3[[#This Row],[Company]:[Year Founded]]&\" \")","v":"       "}]
[null,null,null,null,null,null,null,null,{"$f":"_xlfn.CONCAT(Table3[[#This Row],[Company]:[Year Founded]]&\" \")","v":"       "}]
[null,null,null,null,null,null,null,null,{"$f":"_xlfn.CONCAT(Table3[[#This Row],[Company]:[Year Founded]]&\" \")","v":"       "}]
[null,null,null,null,null,null,null,null,{"$f":"_xlfn.CONCAT(Table3[[#This Row],[Company]:[Year Founded]]&\" \")","v":"       "}]
[null,null,null,null,null,null,null,null,{"$f":"_xlfn.CONCAT(Table3[[#This Row],[Company]:[Year Founded]]&\" \")","v":"       "}]
[null,null,null,null,null,null,null,null,{"$f":"_xlfn.CONCAT(Table3[[#This Row],[Company]:[Year Founded]]&\" \")","v":"       "}]
[null,null,null,null,null,null,null,null,{"$f":"_xlfn.CONCAT(Table3[[#This Row],[Company]:[Year Founded]]&\" \")","v":"       "}]
[null,null,null,null,null,null,null,null,{"$f":"_xlfn.CONCAT(Table3[[#This Row],[Company]:[Year Founded]]&\" \")","v":"       "}]
[null,null,null,null,null,null,null,null,{"$f":"_xlfn.CONCAT(Table3[[#This Row],[Company]:[Year Founded]]&\" \")","v":"       "}]
[null,null,null,null,null,null,null,null,{"$f":"_xlfn.CONCAT(Table3[[#This Row],[Company]:[Year Founded]]&\" \")","v":"       "}]
[null,null,null,null,null,null,null,null,{"$f":"_xlfn.CONCAT(Table3[[#This Row],[Company]:[Year Founded]]&\" \")","v":"       "}]
[null,null,null,null,null,null,null,null,{"$f":"_xlfn.CONCAT(Table3[[#This Row],[Company]:[Year Founded]]&\" \")","v":"       "}]
[null,null,null,null,null,null,null,null,{"$f":"_xlfn.CONCAT(Table3[[#This Row],[Company]:[Year Founded]]&\" \")","v":"       "}]
[null,null,null,null,null,null,null,null,{"$f":"_xlfn.CONCAT(Table3[[#This Row],[Company]:[Year Founded]]&\" \")","v":"       "}]
[null,null,null,null,null,null,null,null,{"$f":"_xlfn.CONCAT(Table3[[#This Row],[Company]:[Year Founded]]&\" \")","v":"       "}]
[null,null,null,null,null,null,null,null,{"$f":"_xlfn.CONCAT(Table3[[#This Row],[Company]:[Year Founded]]&\" \")","v":"       "}]
[null,null,null,null,null,null,null,null,{"$f":"_xlfn.CONCAT(Table3[[#This Row],[Company]:[Year Founded]]&\" \")","v":"       "}]
[null,null,null,null,null,null,null,null,{"$f":"_xlfn.CONCAT(Table3[[#This Row],[Company]:[Year Founded]]&\" \")","v":"       "}]
[null,null,null,null,null,null,null,null,{"$f":"_xlfn.CONCAT(Table3[[#This Row],[Company]:[Year Founded]]&\" \")","v":"       "}]
[null,null,null,null,null,null,null,null,{"$f":"_xlfn.CONCAT(Table3[[#This Row],[Company]:[Year Founded]]&\" \")","v":"       "}]
[null,null,null,null,null,null,null,null,{"$f":"_xlfn.CONCAT(Table3[[#This Row],[Company]:[Year Founded]]&\" \")","v":"       "}]
[null,null,null,null,null,null,null,null,{"$f":"_xlfn.CONCAT(Table3[[#This Row],[Company]:[Year Founded]]&\" \")","v":"       "}]
[null,null,null,null,null,null,null,null,{"$f":"_xlfn.CONCAT(Table3[[#This Row],[Company]:[Year Founded]]&\" \")","v":"       "}]
[null,null,null,null,null,null,null,null,{"$f":"_xlfn.CONCAT(Table3[[#This Row],[Company]:[Year Founded]]&\" \")","v":"       "}]
[null,null,null,null,null,null,null,null,{"$f":"_xlfn.CONCAT(Table3[[#This Row],[Company]:[Year Founded]]&\" \")","v":"       "}]
[null,null,null,null,null,null,null,null,{"$f":"_xlfn.CONCAT(Table3[[#This Row],[Company]:[Year Founded]]&\" \")","v":"       "}]
[null,null,null,null,null,null,null,null,{"$f":"_xlfn.CONCAT(Table3[[#This Row],[Company]:[Year Founded]]&\" \")","v":"       "}]
[null,null,null,null,null,null,null,null,{"$f":"_xlfn.CONCAT(Table3[[#This Row],[Company]:[Year Founded]]&\" \")","v":"       "}]
[null,null,null,null,null,null,null,null,{"$f":"_xlfn.CONCAT(Table3[[#This Row],[Company]:[Year Founded]]&\" \")","v":"       "}]
[null,null,null,null,null,null,null,null,{"$f":"_xlfn.CONCAT(Table3[[#This Row],[Company]:[Year Founded]]&\" \")","v":"       "}]
[null,null,null,null,null,null,null,null,{"$f":"_xlfn.CONCAT(Table3[[#This Row],[Company]:[Year Founded]]&\" \")","v":"       "}]
[null,null,null,null,null,null,null,null,{"$f":"_xlfn.CONCAT(Table3[[#This Row],[Company]:[Year Founded]]&\" \")","v":"       "}]
[null,null,null,null,null,null,null,null,{"$f":"_xlfn.CONCAT(Table3[[#This Row],[Company]:[Year Founded]]&\" \")","v":"       "}]
[null,null,null,null,null,null,null,null,{"$f":"_xlfn.CONCAT(Table3[[#This Row],[Company]:[Year Founded]]&\" \")","v":"       "}]
[null,null,null,null,null,null,null,null,{"$f":"_xlfn.CONCAT(Table3[[#This Row],[Company]:[Year Founded]]&\" \")","v":"       "}]
[null,null,null,null,null,null,null,null,{"$f":"_xlfn.CONCAT(Table3[[#This Row],[Company]:[Year Founded]]&\" \")","v":"       "}]
[null,null,null,null,null,null,null,null,{"$f":"_xlfn.CONCAT(Table3[[#This Row],[Company]:[Year Founded]]&\" \")","v":"       "}]
[null,null,null,null,null,null,null,null,{"$f":"_xlfn.CONCAT(Table3[[#This Row],[Company]:[Year Founded]]&\" \")","v":"       "}]
[null,null,null,null,null,null,null,null,{"$f":"_xlfn.CONCAT(Table3[[#This Row],[Company]:[Year Founded]]&\" \")","v":"       "}]
[null,null,null,null,null,null,null,null,{"$f":"_xlfn.CONCAT(Table3[[#This Row],[Company]:[Year Founded]]&\" \")","v":"       "}]
[null,null,null,null,null,null,null,null,{"$f":"_xlfn.CONCAT(Table3[[#This Row],[Company]:[Year Founded]]&\" \")","v":"       "}]
[null,null,null,null,null,null,null,null,{"$f":"_xlfn.CONCAT(Table3[[#This Row],[Company]:[Year Founded]]&\" \")","v":"       "}]
[null,null,null,null,null,null,null,null,{"$f":"_xlfn.CONCAT(Table3[[#This Row],[Company]:[Year Founded]]&\" \")","v":"       "}]
[null,null,null,null,null,null,null,null,{"$f":"_xlfn.CONCAT(Table3[[#This Row],[Company]:[Year Founded]]&\" \")","v":"       "}]
[null,null,null,null,null,null,null,null,{"$f":"_xlfn.CONCAT(Table3[[#This Row],[Company]:[Year Founded]]&\" \")","v":"       "}]
[null,null,null,null,null,null,null,null,{"$f":"_xlfn.CONCAT(Table3[[#This Row],[Company]:[Year Founded]]&\" \")","v":"       "}]
[null,null,null,null,null,null,null,null,{"$f":"_xlfn.CONCAT(Table3[[#This Row],[Company]:[Year Founded]]&\" \")","v":"       "}]
[null,null,null,null,null,null,null,null,{"$f":"_xlfn.CONCAT(Table3[[#This Row],[Company]:[Year Founded]]&\" \")","v":"       "}]
[null,null,null,null,null,null,null,null,{"$f":"_xlfn.CONCAT(Table3[[#This Row],[Company]:[Year Founded]]&\" \")","v":"       "}]
[null,null,null,null,null,null,null,null,{"$f":"_xlfn.CONCAT(Table3[[#This Row],[Company]:[Year Founded]]&\" \")","v":"       "}]
[null,null,null,null,null,null,null,null,{"$f":"_xlfn.CONCAT(Table3[[#This Row],[Company]:[Year Founded]]&\" \")","v":"       "}]
[null,null,null,null,null,null,null,null,{"$f":"_xlfn.CONCAT(Table3[[#This Row],[Company]:[Year Founded]]&\" \")","v":"       "}]
[null,null,null,null,null,null,null,null,{"$f":"_xlfn.CONCAT(Table3[[#This Row],[Company]:[Year Founded]]&\" \")","v":"       "}]
[null,null,null,null,null,null,null,null,{"$f":"_xlfn.CONCAT(Table3[[#This Row],[Company]:[Year Founded]]&\" \")","v":"       "}]
[null,null,null,null,null,null,null,null,{"$f":"_xlfn.CONCAT(Table3[[#This Row],[Company]:[Year Founded]]&\" \")","v":"       "}]
[null,null,null,null,null,null,null,null,{"$f":"_xlfn.CONCAT(Table3[[#This Row],[Company]:[Year Founded]]&\" \")","v":"       "}]
[null,null,null,null,null,null,null,null,{"$f":"_xlfn.CONCAT(Table3[[#This Row],[Company]:[Year Founded]]&\" \")","v":"       "}]
[null,null,null,null,null,null,null,null,{"$f":"_xlfn.CONCAT(Table3[[#This Row],[Company]:[Year Founded]]&\" \")","v":"       "}]
[null,null,null,null,null,null,null,null,{"$f":"_xlfn.CONCAT(Table3[[#This Row],[Company]:[Year Founded]]&\" \")","v":"       "}]
[null,null,null,null,null,null,null,null,{"$f":"_xlfn.CONCAT(Table3[[#This Row],[Company]:[Year Founded]]&\" \")","v":"       "}]
[null,null,null,null,null,null,null,null,{"$f":"_xlfn.CONCAT(Table3[[#This Row],[Company]:[Year Founded]]&\" \")","v":"       "}]
[null,null,null,null,null,null,null,null,{"$f":"_xlfn.CONCAT(Table3[[#This Row],[Company]:[Year Founded]]&\" \")","v":"       "}]
[null,null,null,null,null,null,null,null,{"$f":"_xlfn.CONCAT(Table3[[#This Row],[Company]:[Year Founded]]&\" \")","v":"       "}]
[null,null,null,null,null,null,null,null,{"$f":"_xlfn.CONCAT(Table3[[#This Row],[Company]:[Year Founded]]&\" \")","v":"       "}]
[null,null,null,null,null,null,null,null,{"$f":"_xlfn.CONCAT(Table3[[#This Row],[Company]:[Year Founded]]&\" \")","v":"       "}]
[null,null,null,null,null,null,null,null,{"$f":"_xlfn.CONCAT(Table3[[#This Row],[Company]:[Year Founded]]&\" \")","v":"       "}]
[null,null,null,null,null,null,null,null,{"$f":"_xlfn.CONCAT(Table3[[#This Row],[Company]:[Year Founded]]&\" \")","v":"       "}]
[null,null,null,null,null,null,null,null,{"$f":"_xlfn.CONCAT(Table3[[#This Row],[Company]:[Year Founded]]&\" \")","v":"       "}]
[null,null,null,null,null,null,null,null,{"$f":"_xlfn.CONCAT(Table3[[#This Row],[Company]:[Year Founded]]&\" \")","v":"       "}]
[null,null,null,null,null,null,null,null,{"$f":"_xlfn.CONCAT(Table3[[#This Row],[Company]:[Year Founded]]&\" \")","v":"       "}]
[null,null,null,null,null,null,null,null,{"$f":"_xlfn.CONCAT(Table3[[#This Row],[Company]:[Year Founded]]&\" \")","v":"       "}]
[null,null,null,null,null,null,null,null,{"$f":"_xlfn.CONCAT(Table3[[#This Row],[Company]:[Year Founded]]&\" \")","v":"       "}]
[null,null,null,null,null,null,null,null,{"$f":"_xlfn.CONCAT(Table3[[#This Row],[Company]:[Year Founded]]&\" \")","v":"       "}]
[null,null,null,null,null,null,null,null,{"$f":"_xlfn.CONCAT(Table3[[#This Row],[Company]:[Year Founded]]&\" \")","v":"       "}]
[null,null,null,null,null,null,null,null,{"$f":"_xlfn.CONCAT(Table3[[#This Row],[Company]:[Year Founded]]&\" \")","v":"       "}]
[null,null,null,null,null,null,null,null,{"$f":"_xlfn.CONCAT(Table3[[#This Row],[Company]:[Year Founded]]&\" \")","v":"       "}]
[null,null,null,null,null,null,null,null,{"$f":"_xlfn.CONCAT(Table3[[#This Row],[Company]:[Year Founded]]&\" \")","v":"       "}]
[null,null,null,null,null,null,null,null,{"$f":"_xlfn.CONCAT(Table3[[#This Row],[Company]:[Year Founded]]&\" \")","v":"       "}]
[null,null,null,null,null,null,null,null,{"$f":"_xlfn.CONCAT(Table3[[#This Row],[Company]:[Year Founded]]&\" \")","v":"       "}]
[null,null,null,null,null,null,null,null,{"$f":"_xlfn.CONCAT(Table3[[#This Row],[Company]:[Year Founded]]&\" \")","v":"       "}]
[null,null,null,null,null,null,null,null,{"$f":"_xlfn.CONCAT(Table3[[#This Row],[Company]:[Year Founded]]&\" \")","v":"       "}]
[null,null,null,null,null,null,null,null,{"$f":"_xlfn.CONCAT(Table3[[#This Row],[Company]:[Year Founded]]&\" \")","v":"       "}]
[null,null,null,null,null,null,null,null,{"$f":"_xlfn.CONCAT(Table3[[#This Row],[Company]:[Year Founded]]&\" \")","v":"       "}]
[null,null,null,null,null,null,null,null,{"$f":"_xlfn.CONCAT(Table3[[#This Row],[Company]:[Year Founded]]&\" \")","v":"       "}]
[null,null,null,null,null,null,null,null,{"$f":"_xlfn.CONCAT(Table3[[#This Row],[Company]:[Year Founded]]&\" \")","v":"       "}]
[null,null,null,null,null,null,null,null,{"$f":"_xlfn.CONCAT(Table3[[#This Row],[Company]:[Year Founded]]&\" \")","v":"       "}]
[null,null,null,null,null,null,null,null,{"$f":"_xlfn.CONCAT(Table3[[#This Row],[Company]:[Year Founded]]&\" \")","v":"       "}]
[null,null,null,null,null,null,null,null,{"$f":"_xlfn.CONCAT(Table3[[#This Row],[Company]:[Year Founded]]&\" \")","v":"       "}]
[null,null,null,null,null,null,null,null,{"$f":"_xlfn.CONCAT(Table3[[#This Row],[Company]:[Year Founded]]&\" \")","v":"       "}]
[null,null,null,null,null,null,null,null,{"$f":"_xlfn.CONCAT(Table3[[#This Row],[Company]:[Year Founded]]&\" \")","v":"       "}]
[null,null,null,null,null,null,null,null,{"$f":"_xlfn.CONCAT(Table3[[#This Row],[Company]:[Year Founded]]&\" \")","v":"       "}]
[null,null,null,null,null,null,null,null,{"$f":"_xlfn.CONCAT(Table3[[#This Row],[Company]:[Year Founded]]&\" \")","v":"       "}]
[null,null,null,null,null,null,null,null,{"$f":"_xlfn.CONCAT(Table3[[#This Row],[Company]:[Year Founded]]&\" \")","v":"       "}]
[null,null,null,null,null,null,null,null,{"$f":"_xlfn.CONCAT(Table3[[#This Row],[Company]:[Year Founded]]&\" \")","v":"       "}]
[null,null,null,null,null,null,null,null,{"$f":"_xlfn.CONCAT(Table3[[#This Row],[Company]:[Year Founded]]&\" \")","v":"       "}]
[null,null,null,null,null,null,null,null,{"$f":"_xlfn.CONCAT(Table3[[#This Row],[Company]:[Year Founded]]&\" \")","v":"       "}]
[null,null,null,null,null,null,null,null,{"$f":"_xlfn.CONCAT(Table3[[#This Row],[Company]:[Year Founded]]&\" \")","v":"       "}]
[null,null,null,null,null,null,null,null,{"$f":"_xlfn.CONCAT(Table3[[#This Row],[Company]:[Year Founded]]&\" \")","v":"       "}]
[null,null,null,null,null,null,null,null,{"$f":"_xlfn.CONCAT(Table3[[#This Row],[Company]:[Year Founded]]&\" \")","v":"       "}]
[null,null,null,null,null,null,null,null,{"$f":"_xlfn.CONCAT(Table3[[#This Row],[Company]:[Year Founded]]&\" \")","v":"       "}]
[null,null,null,null,null,null,null,null,{"$f":"_xlfn.CONCAT(Table3[[#This Row],[Company]:[Year Founded]]&\" \")","v":"       "}]
[null,null,null,null,null,null,null,null,{"$f":"_xlfn.CONCAT(Table3[[#This Row],[Company]:[Year Founded]]&\" \")","v":"       "}]
[null,null,null,null,null,null,null,null,{"$f":"_xlfn.CONCAT(Table3[[#This Row],[Company]:[Year Founded]]&\" \")","v":"       "}]
[null,null,null,null,null,null,null,null,{"$f":"_xlfn.CONCAT(Table3[[#This Row],[Company]:[Year Founded]]&\" \")","v":"       "}]
[null,null,null,null,null,null,null,null,{"$f":"_xlfn.CONCAT(Table3[[#This Row],[Company]:[Year Founded]]&\" \")","v":"       "}]
[null,null,null,null,null,null,null,null,{"$f":"_xlfn.CONCAT(Table3[[#This Row],[Company]:[Year Founded]]&\" \")","v":"       "}]
[null,null,null,null,null,null,null,null,{"$f":"_xlfn.CONCAT(Table3[[#This Row],[Company]:[Year Founded]]&\" \")","v":"       "}]
[null,null,null,null,null,null,null,null,{"$f":"_xlfn.CONCAT(Table3[[#This Row],[Company]:[Year Founded]]&\" \")","v":"       "}]
[null,null,null,null,null,null,null,null,{"$f":"_xlfn.CONCAT(Table3[[#This Row],[Company]:[Year Founded]]&\" \")","v":"       "}]
[null,null,null,null,null,null,null,null,{"$f":"_xlfn.CONCAT(Table3[[#This Row],[Company]:[Year Founded]]&\" \")","v":"       "}]
[null,null,null,null,null,null,null,null,{"$f":"_xlfn.CONCAT(Table3[[#This Row],[Company]:[Year Founded]]&\" \")","v":"       "}]
[null,null,null,null,null,null,null,null,{"$f":"_xlfn.CONCAT(Table3[[#This Row],[Company]:[Year Founded]]&\" \")","v":"       "}]
[null,null,null,null,null,null,null,null,{"$f":"_xlfn.CONCAT(Table3[[#This Row],[Company]:[Year Founded]]&\" \")","v":"       "}]
[null,null,null,null,null,null,null,null,{"$f":"_xlfn.CONCAT(Table3[[#This Row],[Company]:[Year Founded]]&\" \")","v":"       "}]
[null,null,null,null,null,null,null,null,{"$f":"_xlfn.CONCAT(Table3[[#This Row],[Company]:[Year Founded]]&\" \")","v":"       "}]
[null,null,null,null,null,null,null,null,{"$f":"_xlfn.CONCAT(Table3[[#This Row],[Company]:[Year Founded]]&\" \")","v":"       "}]
[null,null,null,null,null,null,null,null,{"$f":"_xlfn.CONCAT(Table3[[#This Row],[Company]:[Year Founded]]&\" \")","v":"       "}]
[null,null,null,null,null,null,null,null,{"$f":"_xlfn.CONCAT(Table3[[#This Row],[Company]:[Year Founded]]&\" \")","v":"       "}]
[null,null,null,null,null,null,null,null,{"$f":"_xlfn.CONCAT(Table3[[#This Row],[Company]:[Year Founded]]&\" \")","v":"       "}]
[null,null,null,null,null,null,null,null,{"$f":"_xlfn.CONCAT(Table3[[#This Row],[Company]:[Year Founded]]&\" \")","v":"       "}]
[null,null,null,null,null,null,null,null,{"$f":"_xlfn.CONCAT(Table3[[#This Row],[Company]:[Year Founded]]&\" \")","v":"       "}]
[null,null,null,null,null,null,null,null,{"$f":"_xlfn.CONCAT(Table3[[#This Row],[Company]:[Year Founded]]&\" \")","v":"       "}]
[null,null,null,null,null,null,null,null,{"$f":"_xlfn.CONCAT(Table3[[#This Row],[Company]:[Year Founded]]&\" \")","v":"       "}]
[null,null,null,null,null,null,null,null,{"$f":"_xlfn.CONCAT(Table3[[#This Row],[Company]:[Year Founded]]&\" \")","v":"       "}]
[null,null,null,null,null,null,null,null,{"$f":"_xlfn.CONCAT(Table3[[#This Row],[Company]:[Year Founded]]&\" \")","v":"       "}]
[null,null,null,null,null,null,null,null,{"$f":"_xlfn.CONCAT(Table3[[#This Row],[Company]:[Year Founded]]&\" \")","v":"       "}]
[null,null,null,null,null,null,null,null,{"$f":"_xlfn.CONCAT(Table3[[#This Row],[Company]:[Year Founded]]&\" \")","v":"       "}]
[null,null,null,null,null,null,null,null,{"$f":"_xlfn.CONCAT(Table3[[#This Row],[Company]:[Year Founded]]&\" \")","v":"       "}]
[null,null,null,null,null,null,null,null,{"$f":"_xlfn.CONCAT(Table3[[#This Row],[Company]:[Year Founded]]&\" \")","v":"       "}]
[null,null,null,null,null,null,null,null,{"$f":"_xlfn.CONCAT(Table3[[#This Row],[Company]:[Year Founded]]&\" \")","v":"       "}]
[null,null,null,null,null,null,null,null,{"$f":"_xlfn.CONCAT(Table3[[#This Row],[Company]:[Year Founded]]&\" \")","v":"       "}]
[null,null,null,null,null,null,null,null,{"$f":"_xlfn.CONCAT(Table3[[#This Row],[Company]:[Year Founded]]&\" \")","v":"       "}]
[null,null,null,null,null,null,null,null,{"$f":"_xlfn.CONCAT(Table3[[#This Row],[Company]:[Year Founded]]&\" \")","v":"       "}]
[null,null,null,null,null,null,null,null,{"$f":"_xlfn.CONCAT(Table3[[#This Row],[Company]:[Year Founded]]&\" \")","v":"       "}]
[null,null,null,null,null,null,null,null,{"$f":"_xlfn.CONCAT(Table3[[#This Row],[Company]:[Year Founded]]&\" \")","v":"       "}]
[null,null,null,null,null,null,null,null,{"$f":"_xlfn.CONCAT(Table3[[#This Row],[Company]:[Year Founded]]&\" \")","v":"       "}]
[null,null,null,null,null,null,null,null,{"$f":"_xlfn.CONCAT(Table3[[#This Row],[Company]:[Year Founded]]&\" \")","v":"       "}]
[null,null,null,null,null,null,null,null,{"$f":"_xlfn.CONCAT(Table3[[#This Row],[Company]:[Year Founded]]&\" \")","v":"       "}]
[null,null,null,null,null,null,null,null,{"$f":"_xlfn.CONCAT(Table3[[#This Row],[Company]:[Year Founded]]&\" \")","v":"       "}]
[null,null,null,null,null,null,null,null,{"$f":"_xlfn.CONCAT(Table3[[#This Row],[Company]:[Year Founded]]&\" \")","v":"       "}]
[null,null,null,null,null,null,null,null,{"$f":"_xlfn.CONCAT(Table3[[#This Row],[Company]:[Year Founded]]&\" \")","v":"       "}]
[null,null,null,null,null,null,null,null,{"$f":"_xlfn.CONCAT(Table3[[#This Row],[Company]:[Year Founded]]&\" \")","v":"       "}]
[null,null,null,null,null,null,null,null,{"$f":"_xlfn.CONCAT(Table3[[#This Row],[Company]:[Year Founded]]&\" \")","v":"       "}]
[null,null,null,null,null,null,null,null,{"$f":"_xlfn.CONCAT(Table3[[#This Row],[Company]:[Year Founded]]&\" \")","v":"       "}]
[null,null,null,null,null,null,null,null,{"$f":"_xlfn.CONCAT(Table3[[#This Row],[Company]:[Year Founded]]&\" \")","v":"       "}]
[null,null,null,null,null,null,null,null,{"$f":"_xlfn.CONCAT(Table3[[#This Row],[Company]:[Year Founded]]&\" \")","v":"       "}]
[null,null,null,null,null,null,null,null,{"$f":"_xlfn.CONCAT(Table3[[#This Row],[Company]:[Year Founded]]&\" \")","v":"       "}]
[null,null,null,null,null,null,null,null,{"$f":"_xlfn.CONCAT(Table3[[#This Row],[Company]:[Year Founded]]&\" \")","v":"       "}]
[null,null,null,null,null,null,null,null,{"$f":"_xlfn.CONCAT(Table3[[#This Row],[Company]:[Year Founded]]&\" \")","v":"       "}]
[null,null,null,null,null,null,null,null,{"$f":"_xlfn.CONCAT(Table3[[#This Row],[Company]:[Year Founded]]&\" \")","v":"       "}]
[null,null,null,null,null,null,null,null,{"$f":"_xlfn.CONCAT(Table3[[#This Row],[Company]:[Year Founded]]&\" \")","v":"       "}]
[null,null,null,null,null,null,null,null,{"$f":"_xlfn.CONCAT(Table3[[#This Row],[Company]:[Year Founded]]&\" \")","v":"       "}]
[null,null,null,null,null,null,null,null,{"$f":"_xlfn.CONCAT(Table3[[#This Row],[Company]:[Year Founded]]&\" \")","v":"       "}]
[null,null,null,null,null,null,null,null,{"$f":"_xlfn.CONCAT(Table3[[#This Row],[Company]:[Year Founded]]&\" \")","v":"       "}]
[null,null,null,null,null,null,null,null,{"$f":"_xlfn.CONCAT(Table3[[#This Row],[Company]:[Year Founded]]&\" \")","v":"       "}]
[null,null,null,null,null,null,null,null,{"$f":"_xlfn.CONCAT(Table3[[#This Row],[Company]:[Year Founded]]&\" \")","v":"       "}]
[null,null,null,null,null,null,null,null,{"$f":"_xlfn.CONCAT(Table3[[#This Row],[Company]:[Year Founded]]&\" \")","v":"       "}]
[null,null,null,null,null,null,null,null,{"$f":"_xlfn.CONCAT(Table3[[#This Row],[Company]:[Year Founded]]&\" \")","v":"       "}]
[null,null,null,null,null,null,null,null,{"$f":"_xlfn.CONCAT(Table3[[#This Row],[Company]:[Year Founded]]&\" \")","v":"       "}]
[null,null,null,null,null,null,null,null,{"$f":"_xlfn.CONCAT(Table3[[#This Row],[Company]:[Year Founded]]&\" \")","v":"       "}]
[null,null,null,null,null,null,null,null,{"$f":"_xlfn.CONCAT(Table3[[#This Row],[Company]:[Year Founded]]&\" \")","v":"       "}]
[null,null,null,null,null,null,null,null,{"$f":"_xlfn.CONCAT(Table3[[#This Row],[Company]:[Year Founded]]&\" \")","v":"       "}]
[null,null,null,null,null,null,null,null,{"$f":"_xlfn.CONCAT(Table3[[#This Row],[Company]:[Year Founded]]&\" \")","v":"       "}]
[null,null,null,null,null,null,null,null,{"$f":"_xlfn.CONCAT(Table3[[#This Row],[Company]:[Year Founded]]&\" \")","v":"       "}]
[null,null,null,null,null,null,null,null,{"$f":"_xlfn.CONCAT(Table3[[#This Row],[Company]:[Year Founded]]&\" \")","v":"       "}]
[null,null,null,null,null,null,null,null,{"$f":"_xlfn.CONCAT(Table3[[#This Row],[Company]:[Year Founded]]&\" \")","v":"       "}]
[null,null,null,null,null,null,null,null,{"$f":"_xlfn.CONCAT(Table3[[#This Row],[Company]:[Year Founded]]&\" \")","v":"       "}]
[null,null,null,null,null,null,null,null,{"$f":"_xlfn.CONCAT(Table3[[#This Row],[Company]:[Year Founded]]&\" \")","v":"       "}]
[null,null,null,null,null,null,null,null,{"$f":"_xlfn.CONCAT(Table3[[#This Row],[Company]:[Year Founded]]&\" \")","v":"       "}]
[null,null,null,null,null,null,null,null,{"$f":"_xlfn.CONCAT(Table3[[#This Row],[Company]:[Year Founded]]&\" \")","v":"       "}]
[null,null,null,null,null,null,null,null,{"$f":"_xlfn.CONCAT(Table3[[#This Row],[Company]:[Year Founded]]&\" \")","v":"       "}]
[null,null,null,null,null,null,null,null,{"$f":"_xlfn.CONCAT(Table3[[#This Row],[Company]:[Year Founded]]&\" \")","v":"       "}]
[null,null,null,null,null,null,null,null,{"$f":"_xlfn.CONCAT(Table3[[#This Row],[Company]:[Year Founded]]&\" \")","v":"       "}]
[null,null,null,null,null,null,null,null,{"$f":"_xlfn.CONCAT(Table3[[#This Row],[Company]:[Year Founded]]&\" \")","v":"       "}]
[null,null,null,null,null,null,null,null,{"$f":"_xlfn.CONCAT(Table3[[#This Row],[Company]:[Year Founded]]&\" \")","v":"       "}]
[null,null,null,null,null,null,null,null,{"$f":"_xlfn.CONCAT(Table3[[#This Row],[Company]:[Year Founded]]&\" \")","v":"       "}]
[null,null,null,null,null,null,null,null,{"$f":"_xlfn.CONCAT(Table3[[#This Row],[Company]:[Year Founded]]&\" \")","v":"       "}]
[null,null,null,null,null,null,null,null,{"$f":"_xlfn.CONCAT(Table3[[#This Row],[Company]:[Year Founded]]&\" \")","v":"       "}]
[null,null,null,null,null,null,null,null,{"$f":"_xlfn.CONCAT(Table3[[#This Row],[Company]:[Year Founded]]&\" \")","v":"       "}]
[null,null,null,null,null,null,null,null,{"$f":"_xlfn.CONCAT(Table3[[#This Row],[Company]:[Year Founded]]&\" \")","v":"       "}]
[null,null,null,null,null,null,null,null,{"$f":"_xlfn.CONCAT(Table3[[#This Row],[Company]:[Year Founded]]&\" \")","v":"       "}]
[null,null,null,null,null,null,null,null,{"$f":"_xlfn.CONCAT(Table3[[#This Row],[Company]:[Year Founded]]&\" \")","v":"       "}]
[null,null,null,null,null,null,null,null,{"$f":"_xlfn.CONCAT(Table3[[#This Row],[Company]:[Year Founded]]&\" \")","v":"       "}]
[null,null,null,null,null,null,null,null,{"$f":"_xlfn.CONCAT(Table3[[#This Row],[Company]:[Year Founded]]&\" \")","v":"       "}]
[null,null,null,null,null,null,null,null,{"$f":"_xlfn.CONCAT(Table3[[#This Row],[Company]:[Year Founded]]&\" \")","v":"       "}]
[null,null,null,null,null,null,null,null,{"$f":"_xlfn.CONCAT(Table3[[#This Row],[Company]:[Year Founded]]&\" \")","v":"       "}]
[null,null,null,null,null,null,null,null,{"$f":"_xlfn.CONCAT(Table3[[#This Row],[Company]:[Year Founded]]&\" \")","v":"       "}]
[null,null,null,null,null,null,null,null,{"$f":"_xlfn.CONCAT(Table3[[#This Row],[Company]:[Year Founded]]&\" \")","v":"       "}]
[null,null,null,null,null,null,null,null,{"$f":"_xlfn.CONCAT(Table3[[#This Row],[Company]:[Year Founded]]&\" \")","v":"       "}]
[null,null,null,null,null,null,null,null,{"$f":"_xlfn.CONCAT(Table3[[#This Row],[Company]:[Year Founded]]&\" \")","v":"       "}]
[null,null,null,null,null,null,null,null,{"$f":"_xlfn.CONCAT(Table3[[#This Row],[Company]:[Year Founded]]&\" \")","v":"       "}]
[null,null,null,null,null,null,null,null,{"$f":"_xlfn.CONCAT(Table3[[#This Row],[Company]:[Year Founded]]&\" \")","v":"       "}]
[null,null,null,null,null,null,null,null,{"$f":"_xlfn.CONCAT(Table3[[#This Row],[Company]:[Year Founded]]&\" \")","v":"       "}]
[null,null,null,null,null,null,null,null,{"$f":"_xlfn.CONCAT(Table3[[#This Row],[Company]:[Year Founded]]&\" \")","v":"       "}]
[null,null,null,null,null,null,null,null,{"$f":"_xlfn.CONCAT(Table3[[#This Row],[Company]:[Year Founded]]&\" \")","v":"       "}]
[null,null,null,null,null,null,null,null,{"$f":"_xlfn.CONCAT(Table3[[#This Row],[Company]:[Year Founded]]&\" \")","v":"       "}]
[null,null,null,null,null,null,null,null,{"$f":"_xlfn.CONCAT(Table3[[#This Row],[Company]:[Year Founded]]&\" \")","v":"       "}]
[null,null,null,null,null,null,null,null,{"$f":"_xlfn.CONCAT(Table3[[#This Row],[Company]:[Year Founded]]&\" \")","v":"       "}]
[null,null,null,null,null,null,null,null,{"$f":"_xlfn.CONCAT(Table3[[#This Row],[Company]:[Year Founded]]&\" \")","v":"       "}]
[null,null,null,null,null,null,null,null,{"$f":"_xlfn.CONCAT(Table3[[#This Row],[Company]:[Year Founded]]&\" \")","v":"       "}]
[null,null,null,null,null,null,null,null,{"$f":"_xlfn.CONCAT(Table3[[#This Row],[Company]:[Year Founded]]&\" \")","v":"       "}]
[null,null,null,null,null,null,null,null,{"$f":"_xlfn.CONCAT(Table3[[#This Row],[Company]:[Year Founded]]&\" \")","v":"       "}]
[null,null,null,null,null,null,null,null,{"$f":"_xlfn.CONCAT(Table3[[#This Row],[Company]:[Year Founded]]&\" \")","v":"       "}]
[null,null,null,null,null,null,null,null,{"$f":"_xlfn.CONCAT(Table3[[#This Row],[Company]:[Year Founded]]&\" \")","v":"       "}]
[null,null,null,null,null,null,null,null,{"$f":"_xlfn.CONCAT(Table3[[#This Row],[Company]:[Year Founded]]&\" \")","v":"       "}]
[null,null,null,null,null,null,null,null,{"$f":"_xlfn.CONCAT(Table3[[#This Row],[Company]:[Year Founded]]&\" \")","v":"       "}]
[null,null,null,null,null,null,null,null,{"$f":"_xlfn.CONCAT(Table3[[#This Row],[Company]:[Year Founded]]&\" \")","v":"       "}]
[null,null,null,null,null,null,null,null,{"$f":"_xlfn.CONCAT(Table3[[#This Row],[Company]:[Year Founded]]&\" \")","v":"       "}]
[null,null,null,null,null,null,null,null,{"$f":"_xlfn.CONCAT(Table3[[#This Row],[Company]:[Year Founded]]&\" \")","v":"       "}]
[null,null,null,null,null,null,null,null,{"$f":"_xlfn.CONCAT(Table3[[#This Row],[Company]:[Year Founded]]&\" \")","v":"       "}]
[null,null,null,null,null,null,null,null,{"$f":"_xlfn.CONCAT(Table3[[#This Row],[Company]:[Year Founded]]&\" \")","v":"       "}]
[null,null,null,null,null,null,null,null,{"$f":"_xlfn.CONCAT(Table3[[#This Row],[Company]:[Year Founded]]&\" \")","v":"       "}]
[null,null,null,null,null,null,null,null,{"$f":"_xlfn.CONCAT(Table3[[#This Row],[Company]:[Year Founded]]&\" \")","v":"       "}]
[null,null,null,null,null,null,null,null,{"$f":"_xlfn.CONCAT(Table3[[#This Row],[Company]:[Year Founded]]&\" \")","v":"       "}]
[null,null,null,null,null,null,null,null,{"$f":"_xlfn.CONCAT(Table3[[#This Row],[Company]:[Year Founded]]&\" \")","v":"       "}]
[null,null,null,null,null,null,null,null,{"$f":"_xlfn.CONCAT(Table3[[#This Row],[Company]:[Year Founded]]&\" \")","v":"       "}]
[null,null,null,null,null,null,null,null,{"$f":"_xlfn.CONCAT(Table3[[#This Row],[Company]:[Year Founded]]&\" \")","v":"       "}]
[null,null,null,null,null,null,null,null,{"$f":"_xlfn.CONCAT(Table3[[#This Row],[Company]:[Year Founded]]&\" \")","v":"       "}]
[null,null,null,null,null,null,null,null,{"$f":"_xlfn.CONCAT(Table3[[#This Row],[Company]:[Year Founded]]&\" \")","v":"       "}]
[null,null,null,null,null,null,null,null,{"$f":"_xlfn.CONCAT(Table3[[#This Row],[Company]:[Year Founded]]&\" \")","v":"       "}]
[null,null,null,null,null,null,null,null,{"$f":"_xlfn.CONCAT(Table3[[#This Row],[Company]:[Year Founded]]&\" \")","v":"       "}]
[null,null,null,null,null,null,null,null,{"$f":"_xlfn.CONCAT(Table3[[#This Row],[Company]:[Year Founded]]&\" \")","v":"       "}]
[null,null,null,null,null,null,null,null,{"$f":"_xlfn.CONCAT(Table3[[#This Row],[Company]:[Year Founded]]&\" \")","v":"       "}]
[null,null,null,null,null,null,null,null,{"$f":"_xlfn.CONCAT(Table3[[#This Row],[Company]:[Year Founded]]&\" \")","v":"       "}]
[null,null,null,null,null,null,null,null,{"$f":"_xlfn.CONCAT(Table3[[#This Row],[Company]:[Year Founded]]&\" \")","v":"       "}]
[null,null,null,null,null,null,null,null,{"$f":"_xlfn.CONCAT(Table3[[#This Row],[Company]:[Year Founded]]&\" \")","v":"       "}]
[null,null,null,null,null,null,null,null,{"$f":"_xlfn.CONCAT(Table3[[#This Row],[Company]:[Year Founded]]&\" \")","v":"       "}]
[null,null,null,null,null,null,null,null,{"$f":"_xlfn.CONCAT(Table3[[#This Row],[Company]:[Year Founded]]&\" \")","v":"       "}]
[null,null,null,null,null,null,null,null,{"$f":"_xlfn.CONCAT(Table3[[#This Row],[Company]:[Year Founded]]&\" \")","v":"       "}]
[null,null,null,null,null,null,null,null,{"$f":"_xlfn.CONCAT(Table3[[#This Row],[Company]:[Year Founded]]&\" \")","v":"       "}]
[null,null,null,null,null,null,null,null,{"$f":"_xlfn.CONCAT(Table3[[#This Row],[Company]:[Year Founded]]&\" \")","v":"       "}]
[null,null,null,null,null,null,null,null,{"$f":"_xlfn.CONCAT(Table3[[#This Row],[Company]:[Year Founded]]&\" \")","v":"       "}]
[null,null,null,null,null,null,null,null,{"$f":"_xlfn.CONCAT(Table3[[#This Row],[Company]:[Year Founded]]&\" \")","v":"       "}]
[null,null,null,null,null,null,null,null,{"$f":"_xlfn.CONCAT(Table3[[#This Row],[Company]:[Year Founded]]&\" \")","v":"       "}]
[null,null,null,null,null,null,null,null,{"$f":"_xlfn.CONCAT(Table3[[#This Row],[Company]:[Year Founded]]&\" \")","v":"       "}]
[null,null,null,null,null,null,null,null,{"$f":"_xlfn.CONCAT(Table3[[#This Row],[Company]:[Year Founded]]&\" \")","v":"       "}]
[null,null,null,null,null,null,null,null,{"$f":"_xlfn.CONCAT(Table3[[#This Row],[Company]:[Year Founded]]&\" \")","v":"       "}]
[null,null,null,null,null,null,null,null,{"$f":"_xlfn.CONCAT(Table3[[#This Row],[Company]:[Year Founded]]&\" \")","v":"       "}]
[null,null,null,null,null,null,null,null,{"$f":"_xlfn.CONCAT(Table3[[#This Row],[Company]:[Year Founded]]&\" \")","v":"       "}]
[null,null,null,null,null,null,null,null,{"$f":"_xlfn.CONCAT(Table3[[#This Row],[Company]:[Year Founded]]&\" \")","v":"       "}]
[null,null,null,null,null,null,null,null,{"$f":"_xlfn.CONCAT(Table3[[#This Row],[Company]:[Year Founded]]&\" \")","v":"       "}]
[null,null,null,null,null,null,null,null,{"$f":"_xlfn.CONCAT(Table3[[#This Row],[Company]:[Year Founded]]&\" \")","v":"       "}]
[null,null,null,null,null,null,null,null,{"$f":"_xlfn.CONCAT(Table3[[#This Row],[Company]:[Year Founded]]&\" \")","v":"       "}]
[null,null,null,null,null,null,null,null,{"$f":"_xlfn.CONCAT(Table3[[#This Row],[Company]:[Year Founded]]&\" \")","v":"       "}]
[null,null,null,null,null,null,null,null,{"$f":"_xlfn.CONCAT(Table3[[#This Row],[Company]:[Year Founded]]&\" \")","v":"       "}]
[null,null,null,null,null,null,null,null,{"$f":"_xlfn.CONCAT(Table3[[#This Row],[Company]:[Year Founded]]&\" \")","v":"       "}]
[null,null,null,null,null,null,null,null,{"$f":"_xlfn.CONCAT(Table3[[#This Row],[Company]:[Year Founded]]&\" \")","v":"       "}]
[null,null,null,null,null,null,null,null,{"$f":"_xlfn.CONCAT(Table3[[#This Row],[Company]:[Year Founded]]&\" \")","v":"       "}]
[null,null,null,null,null,null,null,null,{"$f":"_xlfn.CONCAT(Table3[[#This Row],[Company]:[Year Founded]]&\" \")","v":"       "}]
[null,null,null,null,null,null,null,null,{"$f":"_xlfn.CONCAT(Table3[[#This Row],[Company]:[Year Founded]]&\" \")","v":"       "}]
[null,null,null,null,null,null,null,null,{"$f":"_xlfn.CONCAT(Table3[[#This Row],[Company]:[Year Founded]]&\" \")","v":"       "}]
[null,null,null,null,null,null,null,null,{"$f":"_xlfn.CONCAT(Table3[[#This Row],[Company]:[Year Founded]]&\" \")","v":"       "}]
[null,null,null,null,null,null,null,null,{"$f":"_xlfn.CONCAT(Table3[[#This Row],[Company]:[Year Founded]]&\" \")","v":"       "}]
[null,null,null,null,null,null,null,null,{"$f":"_xlfn.CONCAT(Table3[[#This Row],[Company]:[Year Founded]]&\" \")","v":"       "}]
[null,null,null,null,null,null,null,null,{"$f":"_xlfn.CONCAT(Table3[[#This Row],[Company]:[Year Founded]]&\" \")","v":"       "}]
[null,null,null,null,null,null,null,null,{"$f":"_xlfn.CONCAT(Table3[[#This Row],[Company]:[Year Founded]]&\" \")","v":"       "}]
[null,null,null,null,null,null,null,null,{"$f":"_xlfn.CONCAT(Table3[[#This Row],[Company]:[Year Founded]]&\" \")","v":"       "}]
[null,null,null,null,null,null,null,null,{"$f":"_xlfn.CONCAT(Table3[[#This Row],[Company]:[Year Founded]]&\" \")","v":"       "}]
[null,null,null,null,null,null,null,null,{"$f":"_xlfn.CONCAT(Table3[[#This Row],[Company]:[Year Founded]]&\" \")","v":"       "}]
[null,null,null,null,null,null,null,null,{"$f":"_xlfn.CONCAT(Table3[[#This Row],[Company]:[Year Founded]]&\" \")","v":"       "}]
[null,null,null,null,null,null,null,null,{"$f":"_xlfn.CONCAT(Table3[[#This Row],[Company]:[Year Founded]]&\" \")","v":"       "}]
[null,null,null,null,null,null,null,null,{"$f":"_xlfn.CONCAT(Table3[[#This Row],[Company]:[Year Founded]]&\" \")","v":"       "}]
[null,null,null,null,null,null,null,null,{"$f":"_xlfn.CONCAT(Table3[[#This Row],[Company]:[Year Founded]]&\" \")","v":"       "}]
[null,null,null,null,null,null,null,null,{"$f":"_xlfn.CONCAT(Table3[[#This Row],[Company]:[Year Founded]]&\" \")","v":"       "}]
[null,null,null,null,null,null,null,null,{"$f":"_xlfn.CONCAT(Table3[[#This Row],[Company]:[Year Founded]]&\" \")","v":"       "}]
[null,null,null,null,null,null,null,null,{"$f":"_xlfn.CONCAT(Table3[[#This Row],[Company]:[Year Founded]]&\" \")","v":"       "}]
[null,null,null,null,null,null,null,null,{"$f":"_xlfn.CONCAT(Table3[[#This Row],[Company]:[Year Founded]]&\" \")","v":"       "}]
[null,null,null,null,null,null,null,null,{"$f":"_xlfn.CONCAT(Table3[[#This Row],[Company]:[Year Founded]]&\" \")","v":"       "}]
[null,null,null,null,null,null,null,null,{"$f":"_xlfn.CONCAT(Table3[[#This Row],[Company]:[Year Founded]]&\" \")","v":"       "}]
[null,null,null,null,null,null,null,null,{"$f":"_xlfn.CONCAT(Table3[[#This Row],[Company]:[Year Founded]]&\" \")","v":"       "}]
[null,null,null,null,null,null,null,null,{"$f":"_xlfn.CONCAT(Table3[[#This Row],[Company]:[Year Founded]]&\" \")","v":"       "}]
[null,null,null,null,null,null,null,null,{"$f":"_xlfn.CONCAT(Table3[[#This Row],[Company]:[Year Founded]]&\" \")","v":"       "}]
[null,null,null,null,null,null,null,null,{"$f":"_xlfn.CONCAT(Table3[[#This Row],[Company]:[Year Founded]]&\" \")","v":"       "}]
[null,null,null,null,null,null,null,null,{"$f":"_xlfn.CONCAT(Table3[[#This Row],[Company]:[Year Founded]]&\" \")","v":"       "}]
[null,null,null,null,null,null,null,null,{"$f":"_xlfn.CONCAT(Table3[[#This Row],[Company]:[Year Founded]]&\" \")","v":"       "}]
[null,null,null,null,null,null,null,null,{"$f":"_xlfn.CONCAT(Table3[[#This Row],[Company]:[Year Founded]]&\" \")","v":"       "}]
[null,null,null,null,null,null,null,null,{"$f":"_xlfn.CONCAT(Table3[[#This Row],[Company]:[Year Founded]]&\" \")","v":"       "}]
[null,null,null,null,null,null,null,null,{"$f":"_xlfn.CONCAT(Table3[[#This Row],[Company]:[Year Founded]]&\" \")","v":"       "}]
[null,null,null,null,null,null,null,null,{"$f":"_xlfn.CONCAT(Table3[[#This Row],[Company]:[Year Founded]]&\" \")","v":"       "}]
[null,null,null,null,null,null,null,null,{"$f":"_xlfn.CONCAT(Table3[[#This Row],[Company]:[Year Founded]]&\" \")","v":"       "}]
[null,null,null,null,null,null,null,null,{"$f":"_xlfn.CONCAT(Table3[[#This Row],[Company]:[Year Founded]]&\" \")","v":"       "}]
[null,null,null,null,null,null,null,null,{"$f":"_xlfn.CONCAT(Table3[[#This Row],[Company]:[Year Founded]]&\" \")","v":"       "}]
[null,null,null,null,null,null,null,null,{"$f":"_xlfn.CONCAT(Table3[[#This Row],[Company]:[Year Founded]]&\" \")","v":"       "}]
[null,null,null,null,null,null,null,null,{"$f":"_xlfn.CONCAT(Table3[[#This Row],[Company]:[Year Founded]]&\" \")","v":"       "}]
[null,null,null,null,null,null,null,null,{"$f":"_xlfn.CONCAT(Table3[[#This Row],[Company]:[Year Founded]]&\" \")","v":"       "}]
[null,null,null,null,null,null,null,null,{"$f":"_xlfn.CONCAT(Table3[[#This Row],[Company]:[Year Founded]]&\" \")","v":"       "}]
[null,null,null,null,null,null,null,null,{"$f":"_xlfn.CONCAT(Table3[[#This Row],[Company]:[Year Founded]]&\" \")","v":"       "}]
[null,null,null,null,null,null,null,null,{"$f":"_xlfn.CONCAT(Table3[[#This Row],[Company]:[Year Founded]]&\" \")","v":"       "}]
[null,null,null,null,null,null,null,null,{"$f":"_xlfn.CONCAT(Table3[[#This Row],[Company]:[Year Founded]]&\" \")","v":"       "}]
[null,null,null,null,null,null,null,null,{"$f":"_xlfn.CONCAT(Table3[[#This Row],[Company]:[Year Founded]]&\" \")","v":"       "}]
[null,null,null,null,null,null,null,null,{"$f":"_xlfn.CONCAT(Table3[[#This Row],[Company]:[Year Founded]]&\" \")","v":"       "}]
[null,null,null,null,null,null,null,null,{"$f":"_xlfn.CONCAT(Table3[[#This Row],[Company]:[Year Founded]]&\" \")","v":"       "}]
[null,null,null,null,null,null,null,null,{"$f":"_xlfn.CONCAT(Table3[[#This Row],[Company]:[Year Founded]]&\" \")","v":"       "}]
[null,null,null,null,null,null,null,null,{"$f":"_xlfn.CONCAT(Table3[[#This Row],[Company]:[Year Founded]]&\" \")","v":"       "}]
[null,null,null,null,null,null,null,null,{"$f":"_xlfn.CONCAT(Table3[[#This Row],[Company]:[Year Founded]]&\" \")","v":"       "}]
[null,null,null,null,null,null,null,null,{"$f":"_xlfn.CONCAT(Table3[[#This Row],[Company]:[Year Founded]]&\" \")","v":"       "}]
[null,null,null,null,null,null,null,null,{"$f":"_xlfn.CONCAT(Table3[[#This Row],[Company]:[Year Founded]]&\" \")","v":"       "}]
[null,null,null,null,null,null,null,null,{"$f":"_xlfn.CONCAT(Table3[[#This Row],[Company]:[Year Founded]]&\" \")","v":"       "}]
[null,null,null,null,null,null,null,null,{"$f":"_xlfn.CONCAT(Table3[[#This Row],[Company]:[Year Founded]]&\" \")","v":"       "}]
[null,null,null,null,null,null,null,null,{"$f":"_xlfn.CONCAT(Table3[[#This Row],[Company]:[Year Founded]]&\" \")","v":"       "}]
[null,null,null,null,null,null,null,null,{"$f":"_xlfn.CONCAT(Table3[[#This Row],[Company]:[Year Founded]]&\" \")","v":"       "}]
[null,null,null,null,null,null,null,null,{"$f":"_xlfn.CONCAT(Table3[[#This Row],[Company]:[Year Founded]]&\" \")","v":"       "}]
[null,null,null,null,null,null,null,null,{"$f":"_xlfn.CONCAT(Table3[[#This Row],[Company]:[Year Founded]]&\" \")","v":"       "}]
[null,null,null,null,null,null,null,null,{"$f":"_xlfn.CONCAT(Table3[[#This Row],[Company]:[Year Founded]]&\" \")","v":"       "}]
[null,null,null,null,null,null,null,null,{"$f":"_xlfn.CONCAT(Table3[[#This Row],[Company]:[Year Founded]]&\" \")","v":"       "}]
[null,null,null,null,null,null,null,null,{"$f":"_xlfn.CONCAT(Table3[[#This Row],[Company]:[Year Founded]]&\" \")","v":"       "}]
[null,null,null,null,null,null,null,null,{"$f":"_xlfn.CONCAT(Table3[[#This Row],[Company]:[Year Founded]]&\" \")","v":"       "}]
[null,null,null,null,null,null,null,null,{"$f":"_xlfn.CONCAT(Table3[[#This Row],[Company]:[Year Founded]]&\" \")","v":"       "}]
[null,null,null,null,null,null,null,null,{"$f":"_xlfn.CONCAT(Table3[[#This Row],[Company]:[Year Founded]]&\" \")","v":"       "}]
[null,null,null,null,null,null,null,null,{"$f":"_xlfn.CONCAT(Table3[[#This Row],[Company]:[Year Founded]]&\" \")","v":"       "}]
[null,null,null,null,null,null,null,null,{"$f":"_xlfn.CONCAT(Table3[[#This Row],[Company]:[Year Founded]]&\" \")","v":"       "}]
[null,null,null,null,null,null,null,null,{"$f":"_xlfn.CONCAT(Table3[[#This Row],[Company]:[Year Founded]]&\" \")","v":"       "}]
[null,null,null,null,null,null,null,null,{"$f":"_xlfn.CONCAT(Table3[[#This Row],[Company]:[Year Founded]]&\" \")","v":"       "}]
[null,null,null,null,null,null,null,null,{"$f":"_xlfn.CONCAT(Table3[[#This Row],[Company]:[Year Founded]]&\" \")","v":"       "}]
[null,null,null,null,null,null,null,null,{"$f":"_xlfn.CONCAT(Table3[[#This Row],[Company]:[Year Founded]]&\" \")","v":"       "}]
[null,null,null,null,null,null,null,null,{"$f":"_xlfn.CONCAT(Table3[[#This Row],[Company]:[Year Founded]]&\" \")","v":"       "}]
[null,null,null,null,null,null,null,null,{"$f":"_xlfn.CONCAT(Table3[[#This Row],[Company]:[Year Founded]]&\" \")","v":"       "}]
[null,null,null,null,null,null,null,null,{"$f":"_xlfn.CONCAT(Table3[[#This Row],[Company]:[Year Founded]]&\" \")","v":"       "}]
[null,null,null,null,null,null,null,null,{"$f":"_xlfn.CONCAT(Table3[[#This Row],[Company]:[Year Founded]]&\" \")","v":"       "}]
[null,null,null,null,null,null,null,null,{"$f":"_xlfn.CONCAT(Table3[[#This Row],[Company]:[Year Founded]]&\" \")","v":"       "}]
[null,null,null,null,null,null,null,null,{"$f":"_xlfn.CONCAT(Table3[[#This Row],[Company]:[Year Founded]]&\" \")","v":"       "}]
[null,null,null,null,null,null,null,null,{"$f":"_xlfn.CONCAT(Table3[[#This Row],[Company]:[Year Founded]]&\" \")","v":"       "}]
[null,null,null,null,null,null,null,null,{"$f":"_xlfn.CONCAT(Table3[[#This Row],[Company]:[Year Founded]]&\" \")","v":"       "}]
[null,null,null,null,null,null,null,null,{"$f":"_xlfn.CONCAT(Table3[[#This Row],[Company]:[Year Founded]]&\" \")","v":"       "}]
[null,null,null,null,null,null,null,null,{"$f":"_xlfn.CONCAT(Table3[[#This Row],[Company]:[Year Founded]]&\" \")","v":"       "}]
[null,null,null,null,null,null,null,null,{"$f":"_xlfn.CONCAT(Table3[[#This Row],[Company]:[Year Founded]]&\" \")","v":"       "}]
[null,null,null,null,null,null,null,null,{"$f":"_xlfn.CONCAT(Table3[[#This Row],[Company]:[Year Founded]]&\" \")","v":"       "}]
[null,null,null,null,null,null,null,null,{"$f":"_xlfn.CONCAT(Table3[[#This Row],[Company]:[Year Founded]]&\" \")","v":"       "}]
[null,null,null,null,null,null,null,null,{"$f":"_xlfn.CONCAT(Table3[[#This Row],[Company]:[Year Founded]]&\" \")","v":"       "}]
[null,null,null,null,null,null,null,null,{"$f":"_xlfn.CONCAT(Table3[[#This Row],[Company]:[Year Founded]]&\" \")","v":"       "}]
[null,null,null,null,null,null,null,null,{"$f":"_xlfn.CONCAT(Table3[[#This Row],[Company]:[Year Founded]]&\" \")","v":"       "}]
[null,null,null,null,null,null,null,null,{"$f":"_xlfn.CONCAT(Table3[[#This Row],[Company]:[Year Founded]]&\" \")","v":"       "}]
[null,null,null,null,null,null,null,null,{"$f":"_xlfn.CONCAT(Table3[[#This Row],[Company]:[Year Founded]]&\" \")","v":"       "}]
[null,null,null,null,null,null,null,null,{"$f":"_xlfn.CONCAT(Table3[[#This Row],[Company]:[Year Founded]]&\" \")","v":"       "}]
[null,null,null,null,null,null,null,null,{"$f":"_xlfn.CONCAT(Table3[[#This Row],[Company]:[Year Founded]]&\" \")","v":"       "}]
[null,null,null,null,null,null,null,null,{"$f":"_xlfn.CONCAT(Table3[[#This Row],[Company]:[Year Founded]]&\" \")","v":"       "}]
[null,null,null,null,null,null,null,null,{"$f":"_xlfn.CONCAT(Table3[[#This Row],[Company]:[Year Founded]]&\" \")","v":"       "}]
[null,null,null,null,null,null,null,null,{"$f":"_xlfn.CONCAT(Table3[[#This Row],[Company]:[Year Founded]]&\" \")","v":"       "}]
[null,null,null,null,null,null,null,null,{"$f":"_xlfn.CONCAT(Table3[[#This Row],[Company]:[Year Founded]]&\" \")","v":"       "}]
[null,null,null,null,null,null,null,null,{"$f":"_xlfn.CONCAT(Table3[[#This Row],[Company]:[Year Founded]]&\" \")","v":"       "}]
[null,null,null,null,null,null,null,null,{"$f":"_xlfn.CONCAT(Table3[[#This Row],[Company]:[Year Founded]]&\" \")","v":"       "}]
[null,null,null,null,null,null,null,null,{"$f":"_xlfn.CONCAT(Table3[[#This Row],[Company]:[Year Founded]]&\" \")","v":"       "}]
[null,null,null,null,null,null,null,null,{"$f":"_xlfn.CONCAT(Table3[[#This Row],[Company]:[Year Founded]]&\" \")","v":"       "}]
[null,null,null,null,null,null,null,null,{"$f":"_xlfn.CONCAT(Table3[[#This Row],[Company]:[Year Founded]]&\" \")","v":"       "}]
[null,null,null,null,null,null,null,null,{"$f":"_xlfn.CONCAT(Table3[[#This Row],[Company]:[Year Founded]]&\" \")","v":"       "}]
[null,null,null,null,null,null,null,null,{"$f":"_xlfn.CONCAT(Table3[[#This Row],[Company]:[Year Founded]]&\" \")","v":"       "}]
[null,null,null,null,null,null,null,null,{"$f":"_xlfn.CONCAT(Table3[[#This Row],[Company]:[Year Founded]]&\" \")","v":"       "}]
[null,null,null,null,null,null,null,null,{"$f":"_xlfn.CONCAT(Table3[[#This Row],[Company]:[Year Founded]]&\" \")","v":"       "}]
[null,null,null,null,null,null,null,null,{"$f":"_xlfn.CONCAT(Table3[[#This Row],[Company]:[Year Founded]]&\" \")","v":"       "}]
[null,null,null,null,null,null,null,null,{"$f":"_xlfn.CONCAT(Table3[[#This Row],[Company]:[Year Founded]]&\" \")","v":"       "}]
[null,null,null,null,null,null,null,null,{"$f":"_xlfn.CONCAT(Table3[[#This Row],[Company]:[Year Founded]]&\" \")","v":"       "}]
[null,null,null,null,null,null,null,null,{"$f":"_xlfn.CONCAT(Table3[[#This Row],[Company]:[Year Founded]]&\" \")","v":"       "}]
[null,null,null,null,null,null,null,null,{"$f":"_xlfn.CONCAT(Table3[[#This Row],[Company]:[Year Founded]]&\" \")","v":"       "}]
[null,null,null,null,null,null,null,null,{"$f":"_xlfn.CONCAT(Table3[[#This Row],[Company]:[Year Founded]]&\" \")","v":"       "}]
[null,null,null,null,null,null,null,null,{"$f":"_xlfn.CONCAT(Table3[[#This Row],[Company]:[Year Founded]]&\" \")","v":"       "}]
[null,null,null,null,null,null,null,null,{"$f":"_xlfn.CONCAT(Table3[[#This Row],[Company]:[Year Founded]]&\" \")","v":"       "}]
[null,null,null,null,null,null,null,null,{"$f":"_xlfn.CONCAT(Table3[[#This Row],[Company]:[Year Founded]]&\" \")","v":"       "}]
[null,null,null,null,null,null,null,null,{"$f":"_xlfn.CONCAT(Table3[[#This Row],[Company]:[Year Founded]]&\" \")","v":"       "}]
[null,null,null,null,null,null,null,null,{"$f":"_xlfn.CONCAT(Table3[[#This Row],[Company]:[Year Founded]]&\" \")","v":"       "}]
[null,null,null,null,null,null,null,null,{"$f":"_xlfn.CONCAT(Table3[[#This Row],[Company]:[Year Founded]]&\" \")","v":"       "}]
[null,null,null,null,null,null,null,null,{"$f":"_xlfn.CONCAT(Table3[[#This Row],[Company]:[Year Founded]]&\" \")","v":"       "}]
[null,null,null,null,null,null,null,null,{"$f":"_xlfn.CONCAT(Table3[[#This Row],[Company]:[Year Founded]]&\" \")","v":"       "}]
[null,null,null,null,null,null,null,null,{"$f":"_xlfn.CONCAT(Table3[[#This Row],[Company]:[Year Founded]]&\" \")","v":"       "}]
[null,null,null,null,null,null,null,null,{"$f":"_xlfn.CONCAT(Table3[[#This Row],[Company]:[Year Founded]]&\" \")","v":"       "}]
[null,null,null,null,null,null,null,null,{"$f":"_xlfn.CONCAT(Table3[[#This Row],[Company]:[Year Founded]]&\" \")","v":"       "}]
[null,null,null,null,null,null,null,null,{"$f":"_xlfn.CONCAT(Table3[[#This Row],[Company]:[Year Founded]]&\" \")","v":"       "}]
[null,null,null,null,null,null,null,null,{"$f":"_xlfn.CONCAT(Table3[[#This Row],[Company]:[Year Founded]]&\" \")","v":"       "}]
[null,null,null,null,null,null,null,null,{"$f":"_xlfn.CONCAT(Table3[[#This Row],[Company]:[Year Founded]]&\" \")","v":"       "}]
[null,null,null,null,null,null,null,null,{"$f":"_xlfn.CONCAT(Table3[[#This Row],[Company]:[Year Founded]]&\" \")","v":"       "}]
[null,null,null,null,null,null,null,null,{"$f":"_xlfn.CONCAT(Table3[[#This Row],[Company]:[Year Founded]]&\" \")","v":"       "}]
[null,null,null,null,null,null,null,null,{"$f":"_xlfn.CONCAT(Table3[[#This Row],[Company]:[Year Founded]]&\" \")","v":"       "}]
[null,null,null,null,null,null,null,null,{"$f":"_xlfn.CONCAT(Table3[[#This Row],[Company]:[Year Founded]]&\" \")","v":"       "}]
[null,null,null,null,null,null,null,null,{"$f":"_xlfn.CONCAT(Table3[[#This Row],[Company]:[Year Founded]]&\" \")","v":"       "}]
[null,null,null,null,null,null,null,null,{"$f":"_xlfn.CONCAT(Table3[[#This Row],[Company]:[Year Founded]]&\" \")","v":"       "}]
[null,null,null,null,null,null,null,null,{"$f":"_xlfn.CONCAT(Table3[[#This Row],[Company]:[Year Founded]]&\" \")","v":"       "}]
[null,null,null,null,null,null,null,null,{"$f":"_xlfn.CONCAT(Table3[[#This Row],[Company]:[Year Founded]]&\" \")","v":"       "}]
[null,null,null,null,null,null,null,null,{"$f":"_xlfn.CONCAT(Table3[[#This Row],[Company]:[Year Founded]]&\" \")","v":"       "}]
[null,null,null,null,null,null,null,null,{"$f":"_xlfn.CONCAT(Table3[[#This Row],[Company]:[Year Founded]]&\" \")","v":"       "}]
[null,null,null,null,null,null,null,null,{"$f":"_xlfn.CONCAT(Table3[[#This Row],[Company]:[Year Founded]]&\" \")","v":"       "}]
[null,null,null,null,null,null,null,null,{"$f":"_xlfn.CONCAT(Table3[[#This Row],[Company]:[Year Founded]]&\" \")","v":"       "}]
[null,null,null,null,null,null,null,null,{"$f":"_xlfn.CONCAT(Table3[[#This Row],[Company]:[Year Founded]]&\" \")","v":"       "}]
[null,null,null,null,null,null,null,null,{"$f":"_xlfn.CONCAT(Table3[[#This Row],[Company]:[Year Founded]]&\" \")","v":"       "}]
[null,null,null,null,null,null,null,null,{"$f":"_xlfn.CONCAT(Table3[[#This Row],[Company]:[Year Founded]]&\" \")","v":"       "}]
[null,null,null,null,null,null,null,null,{"$f":"_xlfn.CONCAT(Table3[[#This Row],[Company]:[Year Founded]]&\" \")","v":"       "}]
[null,null,null,null,null,null,null,null,{"$f":"_xlfn.CONCAT(Table3[[#This Row],[Company]:[Year Founded]]&\" \")","v":"       "}]
[null,null,null,null,null,null,null,null,{"$f":"_xlfn.CONCAT(Table3[[#This Row],[Company]:[Year Founded]]&\" \")","v":"       "}]
[null,null,null,null,null,null,null,null,{"$f":"_xlfn.CONCAT(Table3[[#This Row],[Company]:[Year Founded]]&\" \")","v":"       "}]
[null,null,null,null,null,null,null,null,{"$f":"_xlfn.CONCAT(Table3[[#This Row],[Company]:[Year Founded]]&\" \")","v":"       "}]
[null,null,null,null,null,null,null,null,{"$f":"_xlfn.CONCAT(Table3[[#This Row],[Company]:[Year Founded]]&\" \")","v":"       "}]
[null,null,null,null,null,null,null,null,{"$f":"_xlfn.CONCAT(Table3[[#This Row],[Company]:[Year Founded]]&\" \")","v":"       "}]
[null,null,null,null,null,null,null,null,{"$f":"_xlfn.CONCAT(Table3[[#This Row],[Company]:[Year Founded]]&\" \")","v":"       "}]
[null,null,null,null,null,null,null,null,{"$f":"_xlfn.CONCAT(Table3[[#This Row],[Company]:[Year Founded]]&\" \")","v":"       "}]
[null,null,null,null,null,null,null,null,{"$f":"_xlfn.CONCAT(Table3[[#This Row],[Company]:[Year Founded]]&\" \")","v":"       "}]
[null,null,null,null,null,null,null,null,{"$f":"_xlfn.CONCAT(Table3[[#This Row],[Company]:[Year Founded]]&\" \")","v":"       "}]
[null,null,null,null,null,null,null,null,{"$f":"_xlfn.CONCAT(Table3[[#This Row],[Company]:[Year Founded]]&\" \")","v":"       "}]
[null,null,null,null,null,null,null,null,{"$f":"_xlfn.CONCAT(Table3[[#This Row],[Company]:[Year Founded]]&\" \")","v":"       "}]
[null,null,null,null,null,null,null,null,{"$f":"_xlfn.CONCAT(Table3[[#This Row],[Company]:[Year Founded]]&\" \")","v":"       "}]
[null,null,null,null,null,null,null,null,{"$f":"_xlfn.CONCAT(Table3[[#This Row],[Company]:[Year Founded]]&\" \")","v":"       "}]
[null,null,null,null,null,null,null,null,{"$f":"_xlfn.CONCAT(Table3[[#This Row],[Company]:[Year Founded]]&\" \")","v":"       "}]
[null,null,null,null,null,null,null,null,{"$f":"_xlfn.CONCAT(Table3[[#This Row],[Company]:[Year Founded]]&\" \")","v":"       "}]
[null,null,null,null,null,null,null,null,{"$f":"_xlfn.CONCAT(Table3[[#This Row],[Company]:[Year Founded]]&\" \")","v":"       "}]
[null,null,null,null,null,null,null,null,{"$f":"_xlfn.CONCAT(Table3[[#This Row],[Company]:[Year Founded]]&\" \")","v":"       "}]
[null,null,null,null,null,null,null,null,{"$f":"_xlfn.CONCAT(Table3[[#This Row],[Company]:[Year Founded]]&\" \")","v":"       "}]
[null,null,null,null,null,null,null,null,{"$f":"_xlfn.CONCAT(Table3[[#This Row],[Company]:[Year Founded]]&\" \")","v":"       "}]
[null,null,null,null,null,null,null,null,{"$f":"_xlfn.CONCAT(Table3[[#This Row],[Company]:[Year Founded]]&\" \")","v":"       "}]
[null,null,null,null,null,null,null,null,{"$f":"_xlfn.CONCAT(Table3[[#This Row],[Company]:[Year Founded]]&\" \")","v":"       "}]
[null,null,null,null,null,null,null,null,{"$f":"_xlfn.CONCAT(Table3[[#This Row],[Company]:[Year Founded]]&\" \")","v":"       "}]
[null,null,null,null,null,null,null,null,{"$f":"_xlfn.CONCAT(Table3[[#This Row],[Company]:[Year Founded]]&\" \")","v":"       "}]
[null,null,null,null,null,null,null,null,{"$f":"_xlfn.CONCAT(Table3[[#This Row],[Company]:[Year Founded]]&\" \")","v":"       "}]
[null,null,null,null,null,null,null,null,{"$f":"_xlfn.CONCAT(Table3[[#This Row],[Company]:[Year Founded]]&\" \")","v":"       "}]
[null,null,null,null,null,null,null,null,{"$f":"_xlfn.CONCAT(Table3[[#This Row],[Company]:[Year Founded]]&\" \")","v":"       "}]
[null,null,null,null,null,null,null,null,{"$f":"_xlfn.CONCAT(Table3[[#This Row],[Company]:[Year Founded]]&\" \")","v":"       "}]
[null,null,null,null,null,null,null,null,{"$f":"_xlfn.CONCAT(Table3[[#This Row],[Company]:[Year Founded]]&\" \")","v":"       "}]
[null,null,null,null,null,null,null,null,{"$f":"_xlfn.CONCAT(Table3[[#This Row],[Company]:[Year Founded]]&\" \")","v":"       "}]
[null,null,null,null,null,null,null,null,{"$f":"_xlfn.CONCAT(Table3[[#This Row],[Company]:[Year Founded]]&\" \")","v":"       "}]
[null,null,null,null,null,null,null,null,{"$f":"_xlfn.CONCAT(Table3[[#This Row],[Company]:[Year Founded]]&\" \")","v":"       "}]
[null,null,null,null,null,null,null,null,{"$f":"_xlfn.CONCAT(Table3[[#This Row],[Company]:[Year Founded]]&\" \")","v":"       "}]
[null,null,null,null,null,null,null,null,{"$f":"_xlfn.CONCAT(Table3[[#This Row],[Company]:[Year Founded]]&\" \")","v":"       "}]
[null,null,null,null,null,null,null,null,{"$f":"_xlfn.CONCAT(Table3[[#This Row],[Company]:[Year Founded]]&\" \")","v":"       "}]
[null,null,null,null,null,null,null,null,{"$f":"_xlfn.CONCAT(Table3[[#This Row],[Company]:[Year Founded]]&\" \")","v":"       "}]
[null,null,null,null,null,null,null,null,{"$f":"_xlfn.CONCAT(Table3[[#This Row],[Company]:[Year Founded]]&\" \")","v":"       "}]
[null,null,null,null,null,null,null,null,{"$f":"_xlfn.CONCAT(Table3[[#This Row],[Company]:[Year Founded]]&\" \")","v":"       "}]
[null,null,null,null,null,null,null,null,{"$f":"_xlfn.CONCAT(Table3[[#This Row],[Company]:[Year Founded]]&\" \")","v":"       "}]
[null,null,null,null,null,null,null,null,{"$f":"_xlfn.CONCAT(Table3[[#This Row],[Company]:[Year Founded]]&\" \")","v":"       "}]
[null,null,null,null,null,null,null,null,{"$f":"_xlfn.CONCAT(Table3[[#This Row],[Company]:[Year Founded]]&\" \")","v":"       "}]
[null,null,null,null,null,null,null,null,{"$f":"_xlfn.CONCAT(Table3[[#This Row],[Company]:[Year Founded]]&\" \")","v":"       "}]
[null,null,null,null,null,null,null,null,{"$f":"_xlfn.CONCAT(Table3[[#This Row],[Company]:[Year Founded]]&\" \")","v":"       "}]
[null,null,null,null,null,null,null,null,{"$f":"_xlfn.CONCAT(Table3[[#This Row],[Company]:[Year Founded]]&\" \")","v":"       "}]
[null,null,null,null,null,null,null,null,{"$f":"_xlfn.CONCAT(Table3[[#This Row],[Company]:[Year Founded]]&\" \")","v":"       "}]
[null,null,null,null,null,null,null,null,{"$f":"_xlfn.CONCAT(Table3[[#This Row],[Company]:[Year Founded]]&\" \")","v":"       "}]
[null,null,null,null,null,null,null,null,{"$f":"_xlfn.CONCAT(Table3[[#This Row],[Company]:[Year Founded]]&\" \")","v":"       "}]
[null,null,null,null,null,null,null,null,{"$f":"_xlfn.CONCAT(Table3[[#This Row],[Company]:[Year Founded]]&\" \")","v":"       "}]
[null,null,null,null,null,null,null,null,{"$f":"_xlfn.CONCAT(Table3[[#This Row],[Company]:[Year Founded]]&\" \")","v":"       "}]
[null,null,null,null,null,null,null,null,{"$f":"_xlfn.CONCAT(Table3[[#This Row],[Company]:[Year Founded]]&\" \")","v":"       "}]
[null,null,null,null,null,null,null,null,{"$f":"_xlfn.CONCAT(Table3[[#This Row],[Company]:[Year Founded]]&\" \")","v":"       "}]
[null,null,null,null,null,null,null,null,{"$f":"_xlfn.CONCAT(Table3[[#This Row],[Company]:[Year Founded]]&\" \")","v":"       "}]
[null,null,null,null,null,null,null,null,{"$f":"_xlfn.CONCAT(Table3[[#This Row],[Company]:[Year Founded]]&\" \")","v":"       "}]
[null,null,null,null,null,null,null,null,{"$f":"_xlfn.CONCAT(Table3[[#This Row],[Company]:[Year Founded]]&\" \")","v":"       "}]
[null,null,null,null,null,null,null,null,{"$f":"_xlfn.CONCAT(Table3[[#This Row],[Company]:[Year Founded]]&\" \")","v":"       "}]
[null,null,null,null,null,null,null,null,{"$f":"_xlfn.CONCAT(Table3[[#This Row],[Company]:[Year Founded]]&\" \")","v":"       "}]
[null,null,null,null,null,null,null,null,{"$f":"_xlfn.CONCAT(Table3[[#This Row],[Company]:[Year Founded]]&\" \")","v":"       "}]
[null,null,null,null,null,null,null,null,{"$f":"_xlfn.CONCAT(Table3[[#This Row],[Company]:[Year Founded]]&\" \")","v":"       "}]
[null,null,null,null,null,null,null,null,{"$f":"_xlfn.CONCAT(Table3[[#This Row],[Company]:[Year Founded]]&\" \")","v":"       "}]
[null,null,null,null,null,null,null,null,{"$f":"_xlfn.CONCAT(Table3[[#This Row],[Company]:[Year Founded]]&\" \")","v":"       "}]
[null,null,null,null,null,null,null,null,{"$f":"_xlfn.CONCAT(Table3[[#This Row],[Company]:[Year Founded]]&\" \")","v":"       "}]
[null,null,null,null,null,null,null,null,{"$f":"_xlfn.CONCAT(Table3[[#This Row],[Company]:[Year Founded]]&\" \")","v":"       "}]
[null,null,null,null,null,null,null,null,{"$f":"_xlfn.CONCAT(Table3[[#This Row],[Company]:[Year Founded]]&\" \")","v":"       "}]
[null,null,null,null,null,null,null,null,{"$f":"_xlfn.CONCAT(Table3[[#This Row],[Company]:[Year Founded]]&\" \")","v":"       "}]
[null,null,null,null,null,null,null,null,{"$f":"_xlfn.CONCAT(Table3[[#This Row],[Company]:[Year Founded]]&\" \")","v":"       "}]
[null,null,null,null,null,null,null,null,{"$f":"_xlfn.CONCAT(Table3[[#This Row],[Company]:[Year Founded]]&\" \")","v":"       "}]
[null,null,null,null,null,null,null,null,{"$f":"_xlfn.CONCAT(Table3[[#This Row],[Company]:[Year Founded]]&\" \")","v":"       "}]
[null,null,null,null,null,null,null,null,{"$f":"_xlfn.CONCAT(Table3[[#This Row],[Company]:[Year Founded]]&\" \")","v":"       "}]
[null,null,null,null,null,null,null,null,{"$f":"_xlfn.CONCAT(Table3[[#This Row],[Company]:[Year Founded]]&\" \")","v":"       "}]
[null,null,null,null,null,null,null,null,{"$f":"_xlfn.CONCAT(Table3[[#This Row],[Company]:[Year Founded]]&\" \")","v":"       "}]
[null,null,null,null,null,null,null,null,{"$f":"_xlfn.CONCAT(Table3[[#This Row],[Company]:[Year Founded]]&\" \")","v":"       "}]
[null,null,null,null,null,null,null,null,{"$f":"_xlfn.CONCAT(Table3[[#This Row],[Company]:[Year Founded]]&\" \")","v":"       "}]
[null,null,null,null,null,null,null,null,{"$f":"_xlfn.CONCAT(Table3[[#This Row],[Company]:[Year Founded]]&\" \")","v":"       "}]
[null,null,null,null,null,null,null,null,{"$f":"_xlfn.CONCAT(Table3[[#This Row],[Company]:[Year Founded]]&\" \")","v":"       "}]
[null,null,null,null,null,null,null,null,{"$f":"_xlfn.CONCAT(Table3[[#This Row],[Company]:[Year Founded]]&\" \")","v":"       "}]
[null,null,null,null,null,null,null,null,{"$f":"_xlfn.CONCAT(Table3[[#This Row],[Company]:[Year Founded]]&\" \")","v":"       "}]
[null,null,null,null,null,null,null,null,{"$f":"_xlfn.CONCAT(Table3[[#This Row],[Company]:[Year Founded]]&\" \")","v":"       "}]
[null,null,null,null,null,null,null,null,{"$f":"_xlfn.CONCAT(Table3[[#This Row],[Company]:[Year Founded]]&\" \")","v":"       "}]
[null,null,null,null,null,null,null,null,{"$f":"_xlfn.CONCAT(Table3[[#This Row],[Company]:[Year Founded]]&\" \")","v":"       "}]
[null,null,null,null,null,null,null,null,{"$f":"_xlfn.CONCAT(Table3[[#This Row],[Company]:[Year Founded]]&\" \")","v":"       "}]
[null,null,null,null,null,null,null,null,{"$f":"_xlfn.CONCAT(Table3[[#This Row],[Company]:[Year Founded]]&\" \")","v":"       "}]
[null,null,null,null,null,null,null,null,{"$f":"_xlfn.CONCAT(Table3[[#This Row],[Company]:[Year Founded]]&\" \")","v":"       "}]
[null,null,null,null,null,null,null,null,{"$f":"_xlfn.CONCAT(Table3[[#This Row],[Company]:[Year Founded]]&\" \")","v":"       "}]
[null,null,null,null,null,null,null,null,{"$f":"_xlfn.CONCAT(Table3[[#This Row],[Company]:[Year Founded]]&\" \")","v":"       "}]
[null,null,null,null,null,null,null,null,{"$f":"_xlfn.CONCAT(Table3[[#This Row],[Company]:[Year Founded]]&\" \")","v":"       "}]
[null,null,null,null,null,null,null,null,{"$f":"_xlfn.CONCAT(Table3[[#This Row],[Company]:[Year Founded]]&\" \")","v":"       "}]
[null,null,null,null,null,null,null,null,{"$f":"_xlfn.CONCAT(Table3[[#This Row],[Company]:[Year Founded]]&\" \")","v":"       "}]
[null,null,null,null,null,null,null,null,{"$f":"_xlfn.CONCAT(Table3[[#This Row],[Company]:[Year Founded]]&\" \")","v":"       "}]
[null,null,null,null,null,null,null,null,{"$f":"_xlfn.CONCAT(Table3[[#This Row],[Company]:[Year Founded]]&\" \")","v":"       "}]
[null,null,null,null,null,null,null,null,{"$f":"_xlfn.CONCAT(Table3[[#This Row],[Company]:[Year Founded]]&\" \")","v":"       "}]
[null,null,null,null,null,null,null,null,{"$f":"_xlfn.CONCAT(Table3[[#This Row],[Company]:[Year Founded]]&\" \")","v":"       "}]
[null,null,null,null,null,null,null,null,{"$f":"_xlfn.CONCAT(Table3[[#This Row],[Company]:[Year Founded]]&\" \")","v":"       "}]
[null,null,null,null,null,null,null,null,{"$f":"_xlfn.CONCAT(Table3[[#This Row],[Company]:[Year Founded]]&\" \")","v":"       "}]
[null,null,null,null,null,null,null,null,{"$f":"_xlfn.CONCAT(Table3[[#This Row],[Company]:[Year Founded]]&\" \")","v":"       "}]
[null,null,null,null,null,null,null,null,{"$f":"_xlfn.CONCAT(Table3[[#This Row],[Company]:[Year Founded]]&\" \")","v":"       "}]
[null,null,null,null,null,null,null,null,{"$f":"_xlfn.CONCAT(Table3[[#This Row],[Company]:[Year Founded]]&\" \")","v":"       "}]
[null,null,null,null,null,null,null,null,{"$f":"_xlfn.CONCAT(Table3[[#This Row],[Company]:[Year Founded]]&\" \")","v":"       "}]
[null,null,null,null,null,null,null,null,{"$f":"_xlfn.CONCAT(Table3[[#This Row],[Company]:[Year Founded]]&\" \")","v":"       "}]
[null,null,null,null,null,null,null,null,{"$f":"_xlfn.CONCAT(Table3[[#This Row],[Company]:[Year Founded]]&\" \")","v":"       "}]
[null,null,null,null,null,null,null,null,{"$f":"_xlfn.CONCAT(Table3[[#This Row],[Company]:[Year Founded]]&\" \")","v":"       "}]
[null,null,null,null,null,null,null,null,{"$f":"_xlfn.CONCAT(Table3[[#This Row],[Company]:[Year Founded]]&\" \")","v":"       "}]
[null,null,null,null,null,null,null,null,{"$f":"_xlfn.CONCAT(Table3[[#This Row],[Company]:[Year Founded]]&\" \")","v":"       "}]
[null,null,null,null,null,null,null,null,{"$f":"_xlfn.CONCAT(Table3[[#This Row],[Company]:[Year Founded]]&\" \")","v":"       "}]
[null,null,null,null,null,null,null,null,{"$f":"_xlfn.CONCAT(Table3[[#This Row],[Company]:[Year Founded]]&\" \")","v":"       "}]
[null,null,null,null,null,null,null,null,{"$f":"_xlfn.CONCAT(Table3[[#This Row],[Company]:[Year Founded]]&\" \")","v":"       "}]
[null,null,null,null,null,null,null,null,{"$f":"_xlfn.CONCAT(Table3[[#This Row],[Company]:[Year Founded]]&\" \")","v":"       "}]
[null,null,null,null,null,null,null,null,{"$f":"_xlfn.CONCAT(Table3[[#This Row],[Company]:[Year Founded]]&\" \")","v":"       "}]
[null,null,null,null,null,null,null,null,{"$f":"_xlfn.CONCAT(Table3[[#This Row],[Company]:[Year Founded]]&\" \")","v":"       "}]
[null,null,null,null,null,null,null,null,{"$f":"_xlfn.CONCAT(Table3[[#This Row],[Company]:[Year Founded]]&\" \")","v":"       "}]
[null,null,null,null,null,null,null,null,{"$f":"_xlfn.CONCAT(Table3[[#This Row],[Company]:[Year Founded]]&\" \")","v":"       "}]
[null,null,null,null,null,null,null,null,{"$f":"_xlfn.CONCAT(Table3[[#This Row],[Company]:[Year Founded]]&\" \")","v":"       "}]
[null,null,null,null,null,null,null,null,{"$f":"_xlfn.CONCAT(Table3[[#This Row],[Company]:[Year Founded]]&\" \")","v":"       "}]
[null,null,null,null,null,null,null,null,{"$f":"_xlfn.CONCAT(Table3[[#This Row],[Company]:[Year Founded]]&\" \")","v":"       "}]
[null,null,null,null,null,null,null,null,{"$f":"_xlfn.CONCAT(Table3[[#This Row],[Company]:[Year Founded]]&\" \")","v":"       "}]
[null,null,null,null,null,null,null,null,{"$f":"_xlfn.CONCAT(Table3[[#This Row],[Company]:[Year Founded]]&\" \")","v":"       "}]
[null,null,null,null,null,null,null,null,{"$f":"_xlfn.CONCAT(Table3[[#This Row],[Company]:[Year Founded]]&\" \")","v":"       "}]
[null,null,null,null,null,null,null,null,{"$f":"_xlfn.CONCAT(Table3[[#This Row],[Company]:[Year Founded]]&\" \")","v":"       "}]
[null,null,null,null,null,null,null,null,{"$f":"_xlfn.CONCAT(Table3[[#This Row],[Company]:[Year Founded]]&\" \")","v":"       "}]
[null,null,null,null,null,null,null,null,{"$f":"_xlfn.CONCAT(Table3[[#This Row],[Company]:[Year Founded]]&\" \")","v":"       "}]
[null,null,null,null,null,null,null,null,{"$f":"_xlfn.CONCAT(Table3[[#This Row],[Company]:[Year Founded]]&\" \")","v":"       "}]
[null,null,null,null,null,null,null,null,{"$f":"_xlfn.CONCAT(Table3[[#This Row],[Company]:[Year Founded]]&\" \")","v":"       "}]
[null,null,null,null,null,null,null,null,{"$f":"_xlfn.CONCAT(Table3[[#This Row],[Company]:[Year Founded]]&\" \")","v":"       "}]
[null,null,null,null,null,null,null,null,{"$f":"_xlfn.CONCAT(Table3[[#This Row],[Company]:[Year Founded]]&\" \")","v":"       "}]
[null,null,null,null,null,null,null,null,{"$f":"_xlfn.CONCAT(Table3[[#This Row],[Company]:[Year Founded]]&\" \")","v":"       "}]
[null,null,null,null,null,null,null,null,{"$f":"_xlfn.CONCAT(Table3[[#This Row],[Company]:[Year Founded]]&\" \")","v":"       "}]
[null,null,null,null,null,null,null,null,{"$f":"_xlfn.CONCAT(Table3[[#This Row],[Company]:[Year Founded]]&\" \")","v":"       "}]
[null,null,null,null,null,null,null,null,{"$f":"_xlfn.CONCAT(Table3[[#This Row],[Company]:[Year Founded]]&\" \")","v":"       "}]
[null,null,null,null,null,null,null,null,{"$f":"_xlfn.CONCAT(Table3[[#This Row],[Company]:[Year Founded]]&\" \")","v":"       "}]
[null,null,null,null,null,null,null,null,{"$f":"_xlfn.CONCAT(Table3[[#This Row],[Company]:[Year Founded]]&\" \")","v":"       "}]
[null,null,null,null,null,null,null,null,{"$f":"_xlfn.CONCAT(Table3[[#This Row],[Company]:[Year Founded]]&\" \")","v":"       "}]
[null,null,null,null,null,null,null,null,{"$f":"_xlfn.CONCAT(Table3[[#This Row],[Company]:[Year Founded]]&\" \")","v":"       "}]
[null,null,null,null,null,null,null,null,{"$f":"_xlfn.CONCAT(Table3[[#This Row],[Company]:[Year Founded]]&\" \")","v":"       "}]
[null,null,null,null,null,null,null,null,{"$f":"_xlfn.CONCAT(Table3[[#This Row],[Company]:[Year Founded]]&\" \")","v":"       "}]
[null,null,null,null,null,null,null,null,{"$f":"_xlfn.CONCAT(Table3[[#This Row],[Company]:[Year Founded]]&\" \")","v":"       "}]
[null,null,null,null,null,null,null,null,{"$f":"_xlfn.CONCAT(Table3[[#This Row],[Company]:[Year Founded]]&\" \")","v":"       "}]
[null,null,null,null,null,null,null,null,{"$f":"_xlfn.CONCAT(Table3[[#This Row],[Company]:[Year Founded]]&\" \")","v":"       "}]
[null,null,null,null,null,null,null,null,{"$f":"_xlfn.CONCAT(Table3[[#This Row],[Company]:[Year Founded]]&\" \")","v":"       "}]
[null,null,null,null,null,null,null,null,{"$f":"_xlfn.CONCAT(Table3[[#This Row],[Company]:[Year Founded]]&\" \")","v":"       "}]
[null,null,null,null,null,null,null,null,{"$f":"_xlfn.CONCAT(Table3[[#This Row],[Company]:[Year Founded]]&\" \")","v":"       "}]
[null,null,null,null,null,null,null,null,{"$f":"_xlfn.CONCAT(Table3[[#This Row],[Company]:[Year Founded]]&\" \")","v":"       "}]
[null,null,null,null,null,null,null,null,{"$f":"_xlfn.CONCAT(Table3[[#This Row],[Company]:[Year Founded]]&\" \")","v":"       "}]
[null,null,null,null,null,null,null,null,{"$f":"_xlfn.CONCAT(Table3[[#This Row],[Company]:[Year Founded]]&\" \")","v":"       "}]
[null,null,null,null,null,null,null,null,{"$f":"_xlfn.CONCAT(Table3[[#This Row],[Company]:[Year Founded]]&\" \")","v":"       "}]
[null,null,null,null,null,null,null,null,{"$f":"_xlfn.CONCAT(Table3[[#This Row],[Company]:[Year Founded]]&\" \")","v":"       "}]
[null,null,null,null,null,null,null,null,{"$f":"_xlfn.CONCAT(Table3[[#This Row],[Company]:[Year Founded]]&\" \")","v":"       "}]
[null,null,null,null,null,null,null,null,{"$f":"_xlfn.CONCAT(Table3[[#This Row],[Company]:[Year Founded]]&\" \")","v":"       "}]
[null,null,null,null,null,null,null,null,{"$f":"_xlfn.CONCAT(Table3[[#This Row],[Company]:[Year Founded]]&\" \")","v":"       "}]
[null,null,null,null,null,null,null,null,{"$f":"_xlfn.CONCAT(Table3[[#This Row],[Company]:[Year Founded]]&\" \")","v":"       "}]
[null,null,null,null,null,null,null,null,{"$f":"_xlfn.CONCAT(Table3[[#This Row],[Company]:[Year Founded]]&\" \")","v":"       "}]
[null,null,null,null,null,null,null,null,{"$f":"_xlfn.CONCAT(Table3[[#This Row],[Company]:[Year Founded]]&\" \")","v":"       "}]
[null,null,null,null,null,null,null,null,{"$f":"_xlfn.CONCAT(Table3[[#This Row],[Company]:[Year Founded]]&\" \")","v":"       "}]
[null,null,null,null,null,null,null,null,{"$f":"_xlfn.CONCAT(Table3[[#This Row],[Company]:[Year Founded]]&\" \")","v":"       "}]
[null,null,null,null,null,null,null,null,{"$f":"_xlfn.CONCAT(Table3[[#This Row],[Company]:[Year Founded]]&\" \")","v":"       "}]
[null,null,null,null,null,null,null,null,{"$f":"_xlfn.CONCAT(Table3[[#This Row],[Company]:[Year Founded]]&\" \")","v":"       "}]
[null,null,null,null,null,null,null,null,{"$f":"_xlfn.CONCAT(Table3[[#This Row],[Company]:[Year Founded]]&\" \")","v":"       "}]
[null,null,null,null,null,null,null,null,{"$f":"_xlfn.CONCAT(Table3[[#This Row],[Company]:[Year Founded]]&\" \")","v":"       "}]
[null,null,null,null,null,null,null,null,{"$f":"_xlfn.CONCAT(Table3[[#This Row],[Company]:[Year Founded]]&\" \")","v":"       "}]
[null,null,null,null,null,null,null,null,{"$f":"_xlfn.CONCAT(Table3[[#This Row],[Company]:[Year Founded]]&\" \")","v":"       "}]
[null,null,null,null,null,null,null,null,{"$f":"_xlfn.CONCAT(Table3[[#This Row],[Company]:[Year Founded]]&\" \")","v":"       "}]
[null,null,null,null,null,null,null,null,{"$f":"_xlfn.CONCAT(Table3[[#This Row],[Company]:[Year Founded]]&\" \")","v":"       "}]
[null,null,null,null,null,null,null,null,{"$f":"_xlfn.CONCAT(Table3[[#This Row],[Company]:[Year Founded]]&\" \")","v":"       "}]
[null,null,null,null,null,null,null,null,{"$f":"_xlfn.CONCAT(Table3[[#This Row],[Company]:[Year Founded]]&\" \")","v":"       "}]
[null,null,null,null,null,null,null,null,{"$f":"_xlfn.CONCAT(Table3[[#This Row],[Company]:[Year Founded]]&\" \")","v":"       "}]
[null,null,null,null,null,null,null,null,{"$f":"_xlfn.CONCAT(Table3[[#This Row],[Company]:[Year Founded]]&\" \")","v":"       "}]
[null,null,null,null,null,null,null,null,{"$f":"_xlfn.CONCAT(Table3[[#This Row],[Company]:[Year Founded]]&\" \")","v":"       "}]
[null,null,null,null,null,null,null,null,{"$f":"_xlfn.CONCAT(Table3[[#This Row],[Company]:[Year Founded]]&\" \")","v":"       "}]
[null,null,null,null,null,null,null,null,{"$f":"_xlfn.CONCAT(Table3[[#This Row],[Company]:[Year Founded]]&\" \")","v":"       "}]
[null,null,null,null,null,null,null,null,{"$f":"_xlfn.CONCAT(Table3[[#This Row],[Company]:[Year Founded]]&\" \")","v":"       "}]
[null,null,null,null,null,null,null,null,{"$f":"_xlfn.CONCAT(Table3[[#This Row],[Company]:[Year Founded]]&\" \")","v":"       "}]
[null,null,null,null,null,null,null,null,{"$f":"_xlfn.CONCAT(Table3[[#This Row],[Company]:[Year Founded]]&\" \")","v":"       "}]
[null,null,null,null,null,null,null,null,{"$f":"_xlfn.CONCAT(Table3[[#This Row],[Company]:[Year Founded]]&\" \")","v":"       "}]
[null,null,null,null,null,null,null,null,{"$f":"_xlfn.CONCAT(Table3[[#This Row],[Company]:[Year Founded]]&\" \")","v":"       "}]
[null,null,null,null,null,null,null,null,{"$f":"_xlfn.CONCAT(Table3[[#This Row],[Company]:[Year Founded]]&\" \")","v":"       "}]
[null,null,null,null,null,null,null,null,{"$f":"_xlfn.CONCAT(Table3[[#This Row],[Company]:[Year Founded]]&\" \")","v":"       "}]
[null,null,null,null,null,null,null,null,{"$f":"_xlfn.CONCAT(Table3[[#This Row],[Company]:[Year Founded]]&\" \")","v":"       "}]
[null,null,null,null,null,null,null,null,{"$f":"_xlfn.CONCAT(Table3[[#This Row],[Company]:[Year Founded]]&\" \")","v":"       "}]
[null,null,null,null,null,null,null,null,{"$f":"_xlfn.CONCAT(Table3[[#This Row],[Company]:[Year Founded]]&\" \")","v":"       "}]
[null,null,null,null,null,null,null,null,{"$f":"_xlfn.CONCAT(Table3[[#This Row],[Company]:[Year Founded]]&\" \")","v":"       "}]
[null,null,null,null,null,null,null,null,{"$f":"_xlfn.CONCAT(Table3[[#This Row],[Company]:[Year Founded]]&\" \")","v":"       "}]
[null,null,null,null,null,null,null,null,{"$f":"_xlfn.CONCAT(Table3[[#This Row],[Company]:[Year Founded]]&\" \")","v":"       "}]
[null,null,null,null,null,null,null,null,{"$f":"_xlfn.CONCAT(Table3[[#This Row],[Company]:[Year Founded]]&\" \")","v":"       "}]
[null,null,null,null,null,null,null,null,{"$f":"_xlfn.CONCAT(Table3[[#This Row],[Company]:[Year Founded]]&\" \")","v":"       "}]
[null,null,null,null,null,null,null,null,{"$f":"_xlfn.CONCAT(Table3[[#This Row],[Company]:[Year Founded]]&\" \")","v":"       "}]
[null,null,null,null,null,null,null,null,{"$f":"_xlfn.CONCAT(Table3[[#This Row],[Company]:[Year Founded]]&\" \")","v":"       "}]
[null,null,null,null,null,null,null,null,{"$f":"_xlfn.CONCAT(Table3[[#This Row],[Company]:[Year Founded]]&\" \")","v":"       "}]
[null,null,null,null,null,null,null,null,{"$f":"_xlfn.CONCAT(Table3[[#This Row],[Company]:[Year Founded]]&\" \")","v":"       "}]
[null,null,null,null,null,null,null,null,{"$f":"_xlfn.CONCAT(Table3[[#This Row],[Company]:[Year Founded]]&\" \")","v":"       "}]
[null,null,null,null,null,null,null,null,{"$f":"_xlfn.CONCAT(Table3[[#This Row],[Company]:[Year Founded]]&\" \")","v":"       "}]
[null,null,null,null,null,null,null,null,{"$f":"_xlfn.CONCAT(Table3[[#This Row],[Company]:[Year Founded]]&\" \")","v":"       "}]
[null,null,null,null,null,null,null,null,{"$f":"_xlfn.CONCAT(Table3[[#This Row],[Company]:[Year Founded]]&\" \")","v":"       "}]
[null,null,null,null,null,null,null,null,{"$f":"_xlfn.CONCAT(Table3[[#This Row],[Company]:[Year Founded]]&\" \")","v":"       "}]
[null,null,null,null,null,null,null,null,{"$f":"_xlfn.CONCAT(Table3[[#This Row],[Company]:[Year Founded]]&\" \")","v":"       "}]
[null,null,null,null,null,null,null,null,{"$f":"_xlfn.CONCAT(Table3[[#This Row],[Company]:[Year Founded]]&\" \")","v":"       "}]
[null,null,null,null,null,null,null,null,{"$f":"_xlfn.CONCAT(Table3[[#This Row],[Company]:[Year Founded]]&\" \")","v":"       "}]
[null,null,null,null,null,null,null,null,{"$f":"_xlfn.CONCAT(Table3[[#This Row],[Company]:[Year Founded]]&\" \")","v":"       "}]
[null,null,null,null,null,null,null,null,{"$f":"_xlfn.CONCAT(Table3[[#This Row],[Company]:[Year Founded]]&\" \")","v":"       "}]
[null,null,null,null,null,null,null,null,{"$f":"_xlfn.CONCAT(Table3[[#This Row],[Company]:[Year Founded]]&\" \")","v":"       "}]
[null,null,null,null,null,null,null,null,{"$f":"_xlfn.CONCAT(Table3[[#This Row],[Company]:[Year Founded]]&\" \")","v":"       "}]
[null,null,null,null,null,null,null,null,{"$f":"_xlfn.CONCAT(Table3[[#This Row],[Company]:[Year Founded]]&\" \")","v":"       "}]
[null,null,null,null,null,null,null,null,{"$f":"_xlfn.CONCAT(Table3[[#This Row],[Company]:[Year Founded]]&\" \")","v":"       "}]
[null,null,null,null,null,null,null,null,{"$f":"_xlfn.CONCAT(Table3[[#This Row],[Company]:[Year Founded]]&\" \")","v":"       "}]
[null,null,null,null,null,null,null,null,{"$f":"_xlfn.CONCAT(Table3[[#This Row],[Company]:[Year Founded]]&\" \")","v":"       "}]
[null,null,null,null,null,null,null,null,{"$f":"_xlfn.CONCAT(Table3[[#This Row],[Company]:[Year Founded]]&\" \")","v":"       "}]
[null,null,null,null,null,null,null,null,{"$f":"_xlfn.CONCAT(Table3[[#This Row],[Company]:[Year Founded]]&\" \")","v":"       "}]
[null,null,null,null,null,null,null,null,{"$f":"_xlfn.CONCAT(Table3[[#This Row],[Company]:[Year Founded]]&\" \")","v":"       "}]
[null,null,null,null,null,null,null,null,{"$f":"_xlfn.CONCAT(Table3[[#This Row],[Company]:[Year Founded]]&\" \")","v":"       "}]
[null,null,null,null,null,null,null,null,{"$f":"_xlfn.CONCAT(Table3[[#This Row],[Company]:[Year Founded]]&\" \")","v":"       "}]
[null,null,null,null,null,null,null,null,{"$f":"_xlfn.CONCAT(Table3[[#This Row],[Company]:[Year Founded]]&\" \")","v":"       "}]
[null,null,null,null,null,null,null,null,{"$f":"_xlfn.CONCAT(Table3[[#This Row],[Company]:[Year Founded]]&\" \")","v":"       "}]
[null,null,null,null,null,null,null,null,{"$f":"_xlfn.CONCAT(Table3[[#This Row],[Company]:[Year Founded]]&\" \")","v":"       "}]
[null,null,null,null,null,null,null,null,{"$f":"_xlfn.CONCAT(Table3[[#This Row],[Company]:[Year Founded]]&\" \")","v":"       "}]
[null,null,null,null,null,null,null,null,{"$f":"_xlfn.CONCAT(Table3[[#This Row],[Company]:[Year Founded]]&\" \")","v":"       "}]
[null,null,null,null,null,null,null,null,{"$f":"_xlfn.CONCAT(Table3[[#This Row],[Company]:[Year Founded]]&\" \")","v":"       "}]
[null,null,null,null,null,null,null,null,{"$f":"_xlfn.CONCAT(Table3[[#This Row],[Company]:[Year Founded]]&\" \")","v":"       "}]
[null,null,null,null,null,null,null,null,{"$f":"_xlfn.CONCAT(Table3[[#This Row],[Company]:[Year Founded]]&\" \")","v":"       "}]
[null,null,null,null,null,null,null,null,{"$f":"_xlfn.CONCAT(Table3[[#This Row],[Company]:[Year Founded]]&\" \")","v":"       "}]
[null,null,null,null,null,null,null,null,{"$f":"_xlfn.CONCAT(Table3[[#This Row],[Company]:[Year Founded]]&\" \")","v":"       "}]
[null,null,null,null,null,null,null,null,{"$f":"_xlfn.CONCAT(Table3[[#This Row],[Company]:[Year Founded]]&\" \")","v":"       "}]
[null,null,null,null,null,null,null,null,{"$f":"_xlfn.CONCAT(Table3[[#This Row],[Company]:[Year Founded]]&\" \")","v":"       "}]
[null,null,null,null,null,null,null,null,{"$f":"_xlfn.CONCAT(Table3[[#This Row],[Company]:[Year Founded]]&\" \")","v":"       "}]
[null,null,null,null,null,null,null,null,{"$f":"_xlfn.CONCAT(Table3[[#This Row],[Company]:[Year Founded]]&\" \")","v":"       "}]
[null,null,null,null,null,null,null,null,{"$f":"_xlfn.CONCAT(Table3[[#This Row],[Company]:[Year Founded]]&\" \")","v":"       "}]
[null,null,null,null,null,null,null,null,{"$f":"_xlfn.CONCAT(Table3[[#This Row],[Company]:[Year Founded]]&\" \")","v":"       "}]
[null,null,null,null,null,null,null,null,{"$f":"_xlfn.CONCAT(Table3[[#This Row],[Company]:[Year Founded]]&\" \")","v":"       "}]
[null,null,null,null,null,null,null,null,{"$f":"_xlfn.CONCAT(Table3[[#This Row],[Company]:[Year Founded]]&\" \")","v":"       "}]
[null,null,null,null,null,null,null,null,{"$f":"_xlfn.CONCAT(Table3[[#This Row],[Company]:[Year Founded]]&\" \")","v":"       "}]
[null,null,null,null,null,null,null,null,{"$f":"_xlfn.CONCAT(Table3[[#This Row],[Company]:[Year Founded]]&\" \")","v":"       "}]
[null,null,null,null,null,null,null,null,{"$f":"_xlfn.CONCAT(Table3[[#This Row],[Company]:[Year Founded]]&\" \")","v":"       "}]
[null,null,null,null,null,null,null,null,{"$f":"_xlfn.CONCAT(Table3[[#This Row],[Company]:[Year Founded]]&\" \")","v":"       "}]
[null,null,null,null,null,null,null,null,{"$f":"_xlfn.CONCAT(Table3[[#This Row],[Company]:[Year Founded]]&\" \")","v":"       "}]
[null,null,null,null,null,null,null,null,{"$f":"_xlfn.CONCAT(Table3[[#This Row],[Company]:[Year Founded]]&\" \")","v":"       "}]
[null,null,null,null,null,null,null,null,{"$f":"_xlfn.CONCAT(Table3[[#This Row],[Company]:[Year Founded]]&\" \")","v":"       "}]
[null,null,null,null,null,null,null,null,{"$f":"_xlfn.CONCAT(Table3[[#This Row],[Company]:[Year Founded]]&\" \")","v":"       "}]
[null,null,null,null,null,null,null,null,{"$f":"_xlfn.CONCAT(Table3[[#This Row],[Company]:[Year Founded]]&\" \")","v":"       "}]
[null,null,null,null,null,null,null,null,{"$f":"_xlfn.CONCAT(Table3[[#This Row],[Company]:[Year Founded]]&\" \")","v":"       "}]
[null,null,null,null,null,null,null,null,{"$f":"_xlfn.CONCAT(Table3[[#This Row],[Company]:[Year Founded]]&\" \")","v":"       "}]
[null,null,null,null,null,null,null,null,{"$f":"_xlfn.CONCAT(Table3[[#This Row],[Company]:[Year Founded]]&\" \")","v":"       "}]
[null,null,null,null,null,null,null,null,{"$f":"_xlfn.CONCAT(Table3[[#This Row],[Company]:[Year Founded]]&\" \")","v":"       "}]
[null,null,null,null,null,null,null,null,{"$f":"_xlfn.CONCAT(Table3[[#This Row],[Company]:[Year Founded]]&\" \")","v":"       "}]
[null,null,null,null,null,null,null,null,{"$f":"_xlfn.CONCAT(Table3[[#This Row],[Company]:[Year Founded]]&\" \")","v":"       "}]
[null,null,null,null,null,null,null,null,{"$f":"_xlfn.CONCAT(Table3[[#This Row],[Company]:[Year Founded]]&\" \")","v":"       "}]
[null,null,null,null,null,null,null,null,{"$f":"_xlfn.CONCAT(Table3[[#This Row],[Company]:[Year Founded]]&\" \")","v":"       "}]
[null,null,null,null,null,null,null,null,{"$f":"_xlfn.CONCAT(Table3[[#This Row],[Company]:[Year Founded]]&\" \")","v":"       "}]
[null,null,null,null,null,null,null,null,{"$f":"_xlfn.CONCAT(Table3[[#This Row],[Company]:[Year Founded]]&\" \")","v":"       "}]
[null,null,null,null,null,null,null,null,{"$f":"_xlfn.CONCAT(Table3[[#This Row],[Company]:[Year Founded]]&\" \")","v":"       "}]
[null,null,null,null,null,null,null,null,{"$f":"_xlfn.CONCAT(Table3[[#This Row],[Company]:[Year Founded]]&\" \")","v":"       "}]
[null,null,null,null,null,null,null,null,{"$f":"_xlfn.CONCAT(Table3[[#This Row],[Company]:[Year Founded]]&\" \")","v":"       "}]
[null,null,null,null,null,null,null,null,{"$f":"_xlfn.CONCAT(Table3[[#This Row],[Company]:[Year Founded]]&\" \")","v":"       "}]
[null,null,null,null,null,null,null,null,{"$f":"_xlfn.CONCAT(Table3[[#This Row],[Company]:[Year Founded]]&\" \")","v":"       "}]
[null,null,null,null,null,null,null,null,{"$f":"_xlfn.CONCAT(Table3[[#This Row],[Company]:[Year Founded]]&\" \")","v":"       "}]
[null,null,null,null,null,null,null,null,{"$f":"_xlfn.CONCAT(Table3[[#This Row],[Company]:[Year Founded]]&\" \")","v":"       "}]
[null,null,null,null,null,null,null,null,{"$f":"_xlfn.CONCAT(Table3[[#This Row],[Company]:[Year Founded]]&\" \")","v":"       "}]
[null,null,null,null,null,null,null,null,{"$f":"_xlfn.CONCAT(Table3[[#This Row],[Company]:[Year Founded]]&\" \")","v":"       "}]
[null,null,null,null,null,null,null,null,{"$f":"_xlfn.CONCAT(Table3[[#This Row],[Company]:[Year Founded]]&\" \")","v":"       "}]
[null,null,null,null,null,null,null,null,{"$f":"_xlfn.CONCAT(Table3[[#This Row],[Company]:[Year Founded]]&\" \")","v":"       "}]
[null,null,null,null,null,null,null,null,{"$f":"_xlfn.CONCAT(Table3[[#This Row],[Company]:[Year Founded]]&\" \")","v":"       "}]
[null,null,null,null,null,null,null,null,{"$f":"_xlfn.CONCAT(Table3[[#This Row],[Company]:[Year Founded]]&\" \")","v":"       "}]
[null,null,null,null,null,null,null,null,{"$f":"_xlfn.CONCAT(Table3[[#This Row],[Company]:[Year Founded]]&\" \")","v":"       "}]
[null,null,null,null,null,null,null,null,{"$f":"_xlfn.CONCAT(Table3[[#This Row],[Company]:[Year Founded]]&\" \")","v":"       "}]
[null,null,null,null,null,null,null,null,{"$f":"_xlfn.CONCAT(Table3[[#This Row],[Company]:[Year Founded]]&\" \")","v":"       "}]
[null,null,null,null,null,null,null,null,{"$f":"_xlfn.CONCAT(Table3[[#This Row],[Company]:[Year Founded]]&\" \")","v":"       "}]
[null,null,null,null,null,null,null,null,{"$f":"_xlfn.CONCAT(Table3[[#This Row],[Company]:[Year Founded]]&\" \")","v":"       "}]
[null,null,null,null,null,null,null,null,{"$f":"_xlfn.CONCAT(Table3[[#This Row],[Company]:[Year Founded]]&\" \")","v":"       "}]
[null,null,null,null,null,null,null,null,{"$f":"_xlfn.CONCAT(Table3[[#This Row],[Company]:[Year Founded]]&\" \")","v":"       "}]
[null,null,null,null,null,null,null,null,{"$f":"_xlfn.CONCAT(Table3[[#This Row],[Company]:[Year Founded]]&\" \")","v":"       "}]
[null,null,null,null,null,null,null,null,{"$f":"_xlfn.CONCAT(Table3[[#This Row],[Company]:[Year Founded]]&\" \")","v":"       "}]
[null,null,null,null,null,null,null,null,{"$f":"_xlfn.CONCAT(Table3[[#This Row],[Company]:[Year Founded]]&\" \")","v":"       "}]
[null,null,null,null,null,null,null,null,{"$f":"_xlfn.CONCAT(Table3[[#This Row],[Company]:[Year Founded]]&\" \")","v":"       "}]
[null,null,null,null,null,null,null,null,{"$f":"_xlfn.CONCAT(Table3[[#This Row],[Company]:[Year Founded]]&\" \")","v":"       "}]
[null,null,null,null,null,null,null,null,{"$f":"_xlfn.CONCAT(Table3[[#This Row],[Company]:[Year Founded]]&\" \")","v":"       "}]
[null,null,null,null,null,null,null,null,{"$f":"_xlfn.CONCAT(Table3[[#This Row],[Company]:[Year Founded]]&\" \")","v":"       "}]
[null,null,null,null,null,null,null,null,{"$f":"_xlfn.CONCAT(Table3[[#This Row],[Company]:[Year Founded]]&\" \")","v":"       "}]
[null,null,null,null,null,null,null,null,{"$f":"_xlfn.CONCAT(Table3[[#This Row],[Company]:[Year Founded]]&\" \")","v":"       "}]
[null,null,null,null,null,null,null,null,{"$f":"_xlfn.CONCAT(Table3[[#This Row],[Company]:[Year Founded]]&\" \")","v":"       "}]
[null,null,null,null,null,null,null,null,{"$f":"_xlfn.CONCAT(Table3[[#This Row],[Company]:[Year Founded]]&\" \")","v":"       "}]
[null,null,null,null,null,null,null,null,{"$f":"_xlfn.CONCAT(Table3[[#This Row],[Company]:[Year Founded]]&\" \")","v":"       "}]
[null,null,null,null,null,null,null,null,{"$f":"_xlfn.CONCAT(Table3[[#This Row],[Company]:[Year Founded]]&\" \")","v":"       "}]
[null,null,null,null,null,null,null,null,{"$f":"_xlfn.CONCAT(Table3[[#This Row],[Company]:[Year Founded]]&\" \")","v":"       "}]
[null,null,null,null,null,null,null,null,{"$f":"_xlfn.CONCAT(Table3[[#This Row],[Company]:[Year Founded]]&\" \")","v":"       "}]
[null,null,null,null,null,null,null,null,{"$f":"_xlfn.CONCAT(Table3[[#This Row],[Company]:[Year Founded]]&\" \")","v":"       "}]
[null,null,null,null,null,null,null,null,{"$f":"_xlfn.CONCAT(Table3[[#This Row],[Company]:[Year Founded]]&\" \")","v":"       "}]
[null,null,null,null,null,null,null,null,{"$f":"_xlfn.CONCAT(Table3[[#This Row],[Company]:[Year Founded]]&\" \")","v":"       "}]
[null,null,null,null,null,null,null,null,{"$f":"_xlfn.CONCAT(Table3[[#This Row],[Company]:[Year Founded]]&\" \")","v":"       "}]
[null,null,null,null,null,null,null,null,{"$f":"_xlfn.CONCAT(Table3[[#This Row],[Company]:[Year Founded]]&\" \")","v":"       "}]
[null,null,null,null,null,null,null,null,{"$f":"_xlfn.CONCAT(Table3[[#This Row],[Company]:[Year Founded]]&\" \")","v":"       "}]
[null,null,null,null,null,null,null,null,{"$f":"_xlfn.CONCAT(Table3[[#This Row],[Company]:[Year Founded]]&\" \")","v":"       "}]
[null,null,null,null,null,null,null,null,{"$f":"_xlfn.CONCAT(Table3[[#This Row],[Company]:[Year Founded]]&\" \")","v":"       "}]
[null,null,null,null,null,null,null,null,{"$f":"_xlfn.CONCAT(Table3[[#This Row],[Company]:[Year Founded]]&\" \")","v":"       "}]
[null,null,null,null,null,null,null,null,{"$f":"_xlfn.CONCAT(Table3[[#This Row],[Company]:[Year Founded]]&\" \")","v":"       "}]
[null,null,null,null,null,null,null,null,{"$f":"_xlfn.CONCAT(Table3[[#This Row],[Company]:[Year Founded]]&\" \")","v":"       "}]
[null,null,null,null,null,null,null,null,{"$f":"_xlfn.CONCAT(Table3[[#This Row],[Company]:[Year Founded]]&\" \")","v":"       "}]
[null,null,null,null,null,null,null,null,{"$f":"_xlfn.CONCAT(Table3[[#This Row],[Company]:[Year Founded]]&\" \")","v":"       "}]
[null,null,null,null,null,null,null,null,{"$f":"_xlfn.CONCAT(Table3[[#This Row],[Company]:[Year Founded]]&\" \")","v":"       "}]
[null,null,null,null,null,null,null,null,{"$f":"_xlfn.CONCAT(Table3[[#This Row],[Company]:[Year Founded]]&\" \")","v":"       "}]
[null,null,null,null,null,null,null,null,{"$f":"_xlfn.CONCAT(Table3[[#This Row],[Company]:[Year Founded]]&\" \")","v":"       "}]
[null,null,null,null,null,null,null,null,{"$f":"_xlfn.CONCAT(Table3[[#This Row],[Company]:[Year Founded]]&\" \")","v":"       "}]
[null,null,null,null,null,null,null,null,{"$f":"_xlfn.CONCAT(Table3[[#This Row],[Company]:[Year Founded]]&\" \")","v":"       "}]
[null,null,null,null,null,null,null,null,{"$f":"_xlfn.CONCAT(Table3[[#This Row],[Company]:[Year Founded]]&\" \")","v":"       "}]
[null,null,null,null,null,null,null,null,{"$f":"_xlfn.CONCAT(Table3[[#This Row],[Company]:[Year Founded]]&\" \")","v":"       "}]
[null,null,null,null,null,null,null,null,{"$f":"_xlfn.CONCAT(Table3[[#This Row],[Company]:[Year Founded]]&\" \")","v":"       "}]
[null,null,null,null,null,null,null,null,{"$f":"_xlfn.CONCAT(Table3[[#This Row],[Company]:[Year Founded]]&\" \")","v":"       "}]
[null,null,null,null,null,null,null,null,{"$f":"_xlfn.CONCAT(Table3[[#This Row],[Company]:[Year Founded]]&\" \")","v":"       "}]
[null,null,null,null,null,null,null,null,{"$f":"_xlfn.CONCAT(Table3[[#This Row],[Company]:[Year Founded]]&\" \")","v":"       "}]
[null,null,null,null,null,null,null,null,{"$f":"_xlfn.CONCAT(Table3[[#This Row],[Company]:[Year Founded]]&\" \")","v":"       "}]
[null,null,null,null,null,null,null,null,{"$f":"_xlfn.CONCAT(Table3[[#This Row],[Company]:[Year Founded]]&\" \")","v":"       "}]
[null,null,null,null,null,null,null,null,{"$f":"_xlfn.CONCAT(Table3[[#This Row],[Company]:[Year Founded]]&\" \")","v":"       "}]
[null,null,null,null,null,null,null,null,{"$f":"_xlfn.CONCAT(Table3[[#This Row],[Company]:[Year Founded]]&\" \")","v":"       "}]
[null,null,null,null,null,null,null,null,{"$f":"_xlfn.CONCAT(Table3[[#This Row],[Company]:[Year Founded]]&\" \")","v":"       "}]
[null,null,null,null,null,null,null,null,{"$f":"_xlfn.CONCAT(Table3[[#This Row],[Company]:[Year Founded]]&\" \")","v":"       "}]
[null,null,null,null,null,null,null,null,{"$f":"_xlfn.CONCAT(Table3[[#This Row],[Company]:[Year Founded]]&\" \")","v":"       "}]
[null,null,null,null,null,null,null,null,{"$f":"_xlfn.CONCAT(Table3[[#This Row],[Company]:[Year Founded]]&\" \")","v":"       "}]
[null,null,null,null,null,null,null,null,{"$f":"_xlfn.CONCAT(Table3[[#This Row],[Company]:[Year Founded]]&\" \")","v":"       "}]
[null,null,null,null,null,null,null,null,{"$f":"_xlfn.CONCAT(Table3[[#This Row],[Company]:[Year Founded]]&\" \")","v":"       "}]
[null,null,null,null,null,null,null,null,{"$f":"_xlfn.CONCAT(Table3[[#This Row],[Company]:[Year Founded]]&\" \")","v":"       "}]
[null,null,null,null,null,null,null,null,{"$f":"_xlfn.CONCAT(Table3[[#This Row],[Company]:[Year Founded]]&\" \")","v":"       "}]
[null,null,null,null,null,null,null,null,{"$f":"_xlfn.CONCAT(Table3[[#This Row],[Company]:[Year Founded]]&\" \")","v":"       "}]
[null,null,null,null,null,null,null,null,{"$f":"_xlfn.CONCAT(Table3[[#This Row],[Company]:[Year Founded]]&\" \")","v":"       "}]
[null,null,null,null,null,null,null,null,{"$f":"_xlfn.CONCAT(Table3[[#This Row],[Company]:[Year Founded]]&\" \")","v":"       "}]
[null,null,null,null,null,null,null,null,{"$f":"_xlfn.CONCAT(Table3[[#This Row],[Company]:[Year Founded]]&\" \")","v":"       "}]
[null,null,null,null,null,null,null,null,{"$f":"_xlfn.CONCAT(Table3[[#This Row],[Company]:[Year Founded]]&\" \")","v":"       "}]
[null,null,null,null,null,null,null,null,{"$f":"_xlfn.CONCAT(Table3[[#This Row],[Company]:[Year Founded]]&\" \")","v":"       "}]
[null,null,null,null,null,null,null,null,{"$f":"_xlfn.CONCAT(Table3[[#This Row],[Company]:[Year Founded]]&\" \")","v":"       "}]
[null,null,null,null,null,null,null,null,{"$f":"_xlfn.CONCAT(Table3[[#This Row],[Company]:[Year Founded]]&\" \")","v":"       "}]
[null,null,null,null,null,null,null,null,{"$f":"_xlfn.CONCAT(Table3[[#This Row],[Company]:[Year Founded]]&\" \")","v":"       "}]
[null,null,null,null,null,null,null,null,{"$f":"_xlfn.CONCAT(Table3[[#This Row],[Company]:[Year Founded]]&\" \")","v":"       "}]
[null,null,null,null,null,null,null,null,{"$f":"_xlfn.CONCAT(Table3[[#This Row],[Company]:[Year Founded]]&\" \")","v":"       "}]
[null,null,null,null,null,null,null,null,{"$f":"_xlfn.CONCAT(Table3[[#This Row],[Company]:[Year Founded]]&\" \")","v":"       "}]
[null,null,null,null,null,null,null,null,{"$f":"_xlfn.CONCAT(Table3[[#This Row],[Company]:[Year Founded]]&\" \")","v":"       "}]
[null,null,null,null,null,null,null,null,{"$f":"_xlfn.CONCAT(Table3[[#This Row],[Company]:[Year Founded]]&\" \")","v":"       "}]
[null,null,null,null,null,null,null,null,{"$f":"_xlfn.CONCAT(Table3[[#This Row],[Company]:[Year Founded]]&\" \")","v":"       "}]
[null,null,null,null,null,null,null,null,{"$f":"_xlfn.CONCAT(Table3[[#This Row],[Company]:[Year Founded]]&\" \")","v":"       "}]
[null,null,null,null,null,null,null,null,{"$f":"_xlfn.CONCAT(Table3[[#This Row],[Company]:[Year Founded]]&\" \")","v":"       "}]
[null,null,null,null,null,null,null,null,{"$f":"_xlfn.CONCAT(Table3[[#This Row],[Company]:[Year Founded]]&\" \")","v":"       "}]
[null,null,null,null,null,null,null,null,{"$f":"_xlfn.CONCAT(Table3[[#This Row],[Company]:[Year Founded]]&\" \")","v":"       "}]
[null,null,null,null,null,null,null,null,{"$f":"_xlfn.CONCAT(Table3[[#This Row],[Company]:[Year Founded]]&\" \")","v":"       "}]
[null,null,null,null,null,null,null,null,{"$f":"_xlfn.CONCAT(Table3[[#This Row],[Company]:[Year Founded]]&\" \")","v":"       "}]
[null,null,null,null,null,null,null,null,{"$f":"_xlfn.CONCAT(Table3[[#This Row],[Company]:[Year Founded]]&\" \")","v":"       "}]
[null,null,null,null,null,null,null,null,{"$f":"_xlfn.CONCAT(Table3[[#This Row],[Company]:[Year Founded]]&\" \")","v":"       "}]
[null,null,null,null,null,null,null,null,{"$f":"_xlfn.CONCAT(Table3[[#This Row],[Company]:[Year Founded]]&\" \")","v":"       "}]
[null,null,null,null,null,null,null,null,{"$f":"_xlfn.CONCAT(Table3[[#This Row],[Company]:[Year Founded]]&\" \")","v":"       "}]
[null,null,null,null,null,null,null,null,{"$f":"_xlfn.CONCAT(Table3[[#This Row],[Company]:[Year Founded]]&\" \")","v":"       "}]
[null,null,null,null,null,null,null,null,{"$f":"_xlfn.CONCAT(Table3[[#This Row],[Company]:[Year Founded]]&\" \")","v":"       "}]
[null,null,null,null,null,null,null,null,{"$f":"_xlfn.CONCAT(Table3[[#This Row],[Company]:[Year Founded]]&\" \")","v":"       "}]
[null,null,null,null,null,null,null,null,{"$f":"_xlfn.CONCAT(Table3[[#This Row],[Company]:[Year Founded]]&\" \")","v":"       "}]
[null,null,null,null,null,null,null,null,{"$f":"_xlfn.CONCAT(Table3[[#This Row],[Company]:[Year Founded]]&\" \")","v":"       "}]
[null,null,null,null,null,null,null,null,{"$f":"_xlfn.CONCAT(Table3[[#This Row],[Company]:[Year Founded]]&\" \")","v":"       "}]
[null,null,null,null,null,null,null,null,{"$f":"_xlfn.CONCAT(Table3[[#This Row],[Company]:[Year Founded]]&\" \")","v":"       "}]
[null,null,null,null,null,null,null,null,{"$f":"_xlfn.CONCAT(Table3[[#This Row],[Company]:[Year Founded]]&\" \")","v":"       "}]
[null,null,null,null,null,null,null,null,{"$f":"_xlfn.CONCAT(Table3[[#This Row],[Company]:[Year Founded]]&\" \")","v":"       "}]
[null,null,null,null,null,null,null,null,{"$f":"_xlfn.CONCAT(Table3[[#This Row],[Company]:[Year Founded]]&\" \")","v":"       "}]
[null,null,null,null,null,null,null,null,{"$f":"_xlfn.CONCAT(Table3[[#This Row],[Company]:[Year Founded]]&\" \")","v":"       "}]
[null,null,null,null,null,null,null,null,{"$f":"_xlfn.CONCAT(Table3[[#This Row],[Company]:[Year Founded]]&\" \")","v":"       "}]
[null,null,null,null,null,null,null,null,{"$f":"_xlfn.CONCAT(Table3[[#This Row],[Company]:[Year Founded]]&\" \")","v":"       "}]
[null,null,null,null,null,null,null,null,{"$f":"_xlfn.CONCAT(Table3[[#This Row],[Company]:[Year Founded]]&\" \")","v":"       "}]
[null,null,null,null,null,null,null,null,{"$f":"_xlfn.CONCAT(Table3[[#This Row],[Company]:[Year Founded]]&\" \")","v":"       "}]
[null,null,null,null,null,null,null,null,{"$f":"_xlfn.CONCAT(Table3[[#This Row],[Company]:[Year Founded]]&\" \")","v":"       "}]
[null,null,null,null,null,null,null,null,{"$f":"_xlfn.CONCAT(Table3[[#This Row],[Company]:[Year Founded]]&\" \")","v":"       "}]
[null,null,null,null,null,null,null,null,{"$f":"_xlfn.CONCAT(Table3[[#This Row],[Company]:[Year Founded]]&\" \")","v":"       "}]
[null,null,null,null,null,null,null,null,{"$f":"_xlfn.CONCAT(Table3[[#This Row],[Company]:[Year Founded]]&\" \")","v":"       "}]
[null,null,null,null,null,null,null,null,{"$f":"_xlfn.CONCAT(Table3[[#This Row],[Company]:[Year Founded]]&\" \")","v":"       "}]
[null,null,null,null,null,null,null,null,{"$f":"_xlfn.CONCAT(Table3[[#This Row],[Company]:[Year Founded]]&\" \")","v":"       "}]
[null,null,null,null,null,null,null,null,{"$f":"_xlfn.CONCAT(Table3[[#This Row],[Company]:[Year Founded]]&\" \")","v":"       "}]
[null,null,null,null,null,null,null,null,{"$f":"_xlfn.CONCAT(Table3[[#This Row],[Company]:[Year Founded]]&\" \")","v":"       "}]
[null,null,null,null,null,null,null,null,{"$f":"_xlfn.CONCAT(Table3[[#This Row],[Company]:[Year Founded]]&\" \")","v":"       "}]
[null,null,null,null,null,null,null,null,{"$f":"_xlfn.CONCAT(Table3[[#This Row],[Company]:[Year Founded]]&\" \")","v":"       "}]
[null,null,null,null,null,null,null,null,{"$f":"_xlfn.CONCAT(Table3[[#This Row],[Company]:[Year Founded]]&\" \")","v":"       "}]
[null,null,null,null,null,null,null,null,{"$f":"_xlfn.CONCAT(Table3[[#This Row],[Company]:[Year Founded]]&\" \")","v":"       "}]
[null,null,null,null,null,null,null,null,{"$f":"_xlfn.CONCAT(Table3[[#This Row],[Company]:[Year Founded]]&\" \")","v":"       "}]
[null,null,null,null,null,null,null,null,{"$f":"_xlfn.CONCAT(Table3[[#This Row],[Company]:[Year Founded]]&\" \")","v":"       "}]
[null,null,null,null,null,null,null,null,{"$f":"_xlfn.CONCAT(Table3[[#This Row],[Company]:[Year Founded]]&\" \")","v":"       "}]
[null,null,null,null,null,null,null,null,{"$f":"_xlfn.CONCAT(Table3[[#This Row],[Company]:[Year Founded]]&\" \")","v":"       "}]
[null,null,null,null,null,null,null,null,{"$f":"_xlfn.CONCAT(Table3[[#This Row],[Company]:[Year Founded]]&\" \")","v":"       "}]
[null,null,null,null,null,null,null,null,{"$f":"_xlfn.CONCAT(Table3[[#This Row],[Company]:[Year Founded]]&\" \")","v":"       "}]
[null,null,null,null,null,null,null,null,{"$f":"_xlfn.CONCAT(Table3[[#This Row],[Company]:[Year Founded]]&\" \")","v":"       "}]
[null,null,null,null,null,null,null,null,{"$f":"_xlfn.CONCAT(Table3[[#This Row],[Company]:[Year Founded]]&\" \")","v":"       "}]
[null,null,null,null,null,null,null,null,{"$f":"_xlfn.CONCAT(Table3[[#This Row],[Company]:[Year Founded]]&\" \")","v":"       "}]
[null,null,null,null,null,null,null,null,{"$f":"_xlfn.CONCAT(Table3[[#This Row],[Company]:[Year Founded]]&\" \")","v":"       "}]
[null,null,null,null,null,null,null,null,{"$f":"_xlfn.CONCAT(Table3[[#This Row],[Company]:[Year Founded]]&\" \")","v":"       "}]
[null,null,null,null,null,null,null,null,{"$f":"_xlfn.CONCAT(Table3[[#This Row],[Company]:[Year Founded]]&\" \")","v":"       "}]
[null,null,null,null,null,null,null,null,{"$f":"_xlfn.CONCAT(Table3[[#This Row],[Company]:[Year Founded]]&\" \")","v":"       "}]
[null,null,null,null,null,null,null,null,{"$f":"_xlfn.CONCAT(Table3[[#This Row],[Company]:[Year Founded]]&\" \")","v":"       "}]
[null,null,null,null,null,null,null,null,{"$f":"_xlfn.CONCAT(Table3[[#This Row],[Company]:[Year Founded]]&\" \")","v":"       "}]
[null,null,null,null,null,null,null,null,{"$f":"_xlfn.CONCAT(Table3[[#This Row],[Company]:[Year Founded]]&\" \")","v":"       "}]
[null,null,null,null,null,null,null,null,{"$f":"_xlfn.CONCAT(Table3[[#This Row],[Company]:[Year Founded]]&\" \")","v":"       "}]
[null,null,null,null,null,null,null,null,{"$f":"_xlfn.CONCAT(Table3[[#This Row],[Company]:[Year Founded]]&\" \")","v":"       "}]
[null,null,null,null,null,null,null,null,{"$f":"_xlfn.CONCAT(Table3[[#This Row],[Company]:[Year Founded]]&\" \")","v":"       "}]
[null,null,null,null,null,null,null,null,{"$f":"_xlfn.CONCAT(Table3[[#This Row],[Company]:[Year Founded]]&\" \")","v":"       "}]
[null,null,null,null,null,null,null,null,{"$f":"_xlfn.CONCAT(Table3[[#This Row],[Company]:[Year Founded]]&\" \")","v":"       "}]
[null,null,null,null,null,null,null,null,{"$f":"_xlfn.CONCAT(Table3[[#This Row],[Company]:[Year Founded]]&\" \")","v":"       "}]
[null,null,null,null,null,null,null,null,{"$f":"_xlfn.CONCAT(Table3[[#This Row],[Company]:[Year Founded]]&\" \")","v":"       "}]
[null,null,null,null,null,null,null,null,{"$f":"_xlfn.CONCAT(Table3[[#This Row],[Company]:[Year Founded]]&\" \")","v":"       "}]
[null,null,null,null,null,null,null,null,{"$f":"_xlfn.CONCAT(Table3[[#This Row],[Company]:[Year Founded]]&\" \")","v":"       "}]
[null,null,null,null,null,null,null,null,{"$f":"_xlfn.CONCAT(Table3[[#This Row],[Company]:[Year Founded]]&\" \")","v":"       "}]
[null,null,null,null,null,null,null,null,{"$f":"_xlfn.CONCAT(Table3[[#This Row],[Company]:[Year Founded]]&\" \")","v":"       "}]
[null,null,null,null,null,null,null,null,{"$f":"_xlfn.CONCAT(Table3[[#This Row],[Company]:[Year Founded]]&\" \")","v":"       "}]
[null,null,null,null,null,null,null,null,{"$f":"_xlfn.CONCAT(Table3[[#This Row],[Company]:[Year Founded]]&\" \")","v":"       "}]
[null,null,null,null,null,null,null,null,{"$f":"_xlfn.CONCAT(Table3[[#This Row],[Company]:[Year Founded]]&\" \")","v":"       "}]
[null,null,null,null,null,null,null,null,{"$f":"_xlfn.CONCAT(Table3[[#This Row],[Company]:[Year Founded]]&\" \")","v":"       "}]
[null,null,null,null,null,null,null,null,{"$f":"_xlfn.CONCAT(Table3[[#This Row],[Company]:[Year Founded]]&\" \")","v":"       "}]
[null,null,null,null,null,null,null,null,{"$f":"_xlfn.CONCAT(Table3[[#This Row],[Company]:[Year Founded]]&\" \")","v":"       "}]
[null,null,null,null,null,null,null,null,{"$f":"_xlfn.CONCAT(Table3[[#This Row],[Company]:[Year Founded]]&\" \")","v":"       "}]
[null,null,null,null,null,null,null,null,{"$f":"_xlfn.CONCAT(Table3[[#This Row],[Company]:[Year Founded]]&\" \")","v":"       "}]
[null,null,null,null,null,null,null,null,{"$f":"_xlfn.CONCAT(Table3[[#This Row],[Company]:[Year Founded]]&\" \")","v":"       "}]
[null,null,null,null,null,null,null,null,{"$f":"_xlfn.CONCAT(Table3[[#This Row],[Company]:[Year Founded]]&\" \")","v":"       "}]
[null,null,null,null,null,null,null,null,{"$f":"_xlfn.CONCAT(Table3[[#This Row],[Company]:[Year Founded]]&\" \")","v":"       "}]
[null,null,null,null,null,null,null,null,{"$f":"_xlfn.CONCAT(Table3[[#This Row],[Company]:[Year Founded]]&\" \")","v":"       "}]
[null,null,null,null,null,null,null,null,{"$f":"_xlfn.CONCAT(Table3[[#This Row],[Company]:[Year Founded]]&\" \")","v":"       "}]
[null,null,null,null,null,null,null,null,{"$f":"_xlfn.CONCAT(Table3[[#This Row],[Company]:[Year Founded]]&\" \")","v":"       "}]
[null,null,null,null,null,null,null,null,{"$f":"_xlfn.CONCAT(Table3[[#This Row],[Company]:[Year Founded]]&\" \")","v":"       "}]
[null,null,null,null,null,null,null,null,{"$f":"_xlfn.CONCAT(Table3[[#This Row],[Company]:[Year Founded]]&\" \")","v":"       "}]
[null,null,null,null,null,null,null,null,{"$f":"_xlfn.CONCAT(Table3[[#This Row],[Company]:[Year Founded]]&\" \")","v":"       "}]
[null,null,null,null,null,null,null,null,{"$f":"_xlfn.CONCAT(Table3[[#This Row],[Company]:[Year Founded]]&\" \")","v":"       "}]
[null,null,null,null,null,null,null,null,{"$f":"_xlfn.CONCAT(Table3[[#This Row],[Company]:[Year Founded]]&\" \")","v":"       "}]
[null,null,null,null,null,null,null,null,{"$f":"_xlfn.CONCAT(Table3[[#This Row],[Company]:[Year Founded]]&\" \")","v":"       "}]
[null,null,null,null,null,null,null,null,{"$f":"_xlfn.CONCAT(Table3[[#This Row],[Company]:[Year Founded]]&\" \")","v":"       "}]
[null,null,null,null,null,null,null,null,{"$f":"_xlfn.CONCAT(Table3[[#This Row],[Company]:[Year Founded]]&\" \")","v":"       "}]
[null,null,null,null,null,null,null,null,{"$f":"_xlfn.CONCAT(Table3[[#This Row],[Company]:[Year Founded]]&\" \")","v":"       "}]
[null,null,null,null,null,null,null,null,{"$f":"_xlfn.CONCAT(Table3[[#This Row],[Company]:[Year Founded]]&\" \")","v":"       "}]
[null,null,null,null,null,null,null,null,{"$f":"_xlfn.CONCAT(Table3[[#This Row],[Company]:[Year Founded]]&\" \")","v":"       "}]
[null,null,null,null,null,null,null,null,{"$f":"_xlfn.CONCAT(Table3[[#This Row],[Company]:[Year Founded]]&\" \")","v":"       "}]
[null,null,null,null,null,null,null,null,{"$f":"_xlfn.CONCAT(Table3[[#This Row],[Company]:[Year Founded]]&\" \")","v":"       "}]
[null,null,null,null,null,null,null,null,{"$f":"_xlfn.CONCAT(Table3[[#This Row],[Company]:[Year Founded]]&\" \")","v":"       "}]
[null,null,null,null,null,null,null,null,{"$f":"_xlfn.CONCAT(Table3[[#This Row],[Company]:[Year Founded]]&\" \")","v":"       "}]
[null,null,null,null,null,null,null,null,{"$f":"_xlfn.CONCAT(Table3[[#This Row],[Company]:[Year Founded]]&\" \")","v":"       "}]
[null,null,null,null,null,null,null,null,{"$f":"_xlfn.CONCAT(Table3[[#This Row],[Company]:[Year Founded]]&\" \")","v":"       "}]
[null,null,null,null,null,null,null,null,{"$f":"_xlfn.CONCAT(Table3[[#This Row],[Company]:[Year Founded]]&\" \")","v":"       "}]
[null,null,null,null,null,null,null,null,{"$f":"_xlfn.CONCAT(Table3[[#This Row],[Company]:[Year Founded]]&\" \")","v":"       "}]
[null,null,null,null,null,null,null,null,{"$f":"_xlfn.CONCAT(Table3[[#This Row],[Company]:[Year Founded]]&\" \")","v":"       "}]
[null,null,null,null,null,null,null,null,{"$f":"_xlfn.CONCAT(Table3[[#This Row],[Company]:[Year Founded]]&\" \")","v":"       "}]
[null,null,null,null,null,null,null,null,{"$f":"_xlfn.CONCAT(Table3[[#This Row],[Company]:[Year Founded]]&\" \")","v":"       "}]
[null,null,null,null,null,null,null,null,{"$f":"_xlfn.CONCAT(Table3[[#This Row],[Company]:[Year Founded]]&\" \")","v":"       "}]
[null,null,null,null,null,null,null,null,{"$f":"_xlfn.CONCAT(Table3[[#This Row],[Company]:[Year Founded]]&\" \")","v":"       "}]
[null,null,null,null,null,null,null,null,{"$f":"_xlfn.CONCAT(Table3[[#This Row],[Company]:[Year Founded]]&\" \")","v":"       "}]
[null,null,null,null,null,null,null,null,{"$f":"_xlfn.CONCAT(Table3[[#This Row],[Company]:[Year Founded]]&\" \")","v":"       "}]
[null,null,null,null,null,null,null,null,{"$f":"_xlfn.CONCAT(Table3[[#This Row],[Company]:[Year Founded]]&\" \")","v":"       "}]
[null,null,null,null,null,null,null,null,{"$f":"_xlfn.CONCAT(Table3[[#This Row],[Company]:[Year Founded]]&\" \")","v":"       "}]
[null,null,null,null,null,null,null,null,{"$f":"_xlfn.CONCAT(Table3[[#This Row],[Company]:[Year Founded]]&\" \")","v":"       "}]
[null,null,null,null,null,null,null,null,{"$f":"_xlfn.CONCAT(Table3[[#This Row],[Company]:[Year Founded]]&\" \")","v":"       "}]
[null,null,null,null,null,null,null,null,{"$f":"_xlfn.CONCAT(Table3[[#This Row],[Company]:[Year Founded]]&\" \")","v":"       "}]
[null,null,null,null,null,null,null,null,{"$f":"_xlfn.CONCAT(Table3[[#This Row],[Company]:[Year Founded]]&\" \")","v":"       "}]
[null,null,null,null,null,null,null,null,{"$f":"_xlfn.CONCAT(Table3[[#This Row],[Company]:[Year Founded]]&\" \")","v":"       "}]
[null,null,null,null,null,null,null,null,{"$f":"_xlfn.CONCAT(Table3[[#This Row],[Company]:[Year Founded]]&\" \")","v":"       "}]
[null,null,null,null,null,null,null,null,{"$f":"_xlfn.CONCAT(Table3[[#This Row],[Company]:[Year Founded]]&\" \")","v":"       "}]
[null,null,null,null,null,null,null,null,{"$f":"_xlfn.CONCAT(Table3[[#This Row],[Company]:[Year Founded]]&\" \")","v":"       "}]
[null,null,null,null,null,null,null,null,{"$f":"_xlfn.CONCAT(Table3[[#This Row],[Company]:[Year Founded]]&\" \")","v":"       "}]
[null,null,null,null,null,null,null,null,{"$f":"_xlfn.CONCAT(Table3[[#This Row],[Company]:[Year Founded]]&\" \")","v":"       "}]
[null,null,null,null,null,null,null,null,{"$f":"_xlfn.CONCAT(Table3[[#This Row],[Company]:[Year Founded]]&\" \")","v":"       "}]
[null,null,null,null,null,null,null,null,{"$f":"_xlfn.CONCAT(Table3[[#This Row],[Company]:[Year Founded]]&\" \")","v":"       "}]
[null,null,null,null,null,null,null,null,{"$f":"_xlfn.CONCAT(Table3[[#This Row],[Company]:[Year Founded]]&\" \")","v":"       "}]
[null,null,null,null,null,null,null,null,{"$f":"_xlfn.CONCAT(Table3[[#This Row],[Company]:[Year Founded]]&\" \")","v":"       "}]
[null,null,null,null,null,null,null,null,{"$f":"_xlfn.CONCAT(Table3[[#This Row],[Company]:[Year Founded]]&\" \")","v":"       "}]
[null,null,null,null,null,null,null,null,{"$f":"_xlfn.CONCAT(Table3[[#This Row],[Company]:[Year Founded]]&\" \")","v":"       "}]
[null,null,null,null,null,null,null,null,{"$f":"_xlfn.CONCAT(Table3[[#This Row],[Company]:[Year Founded]]&\" \")","v":"       "}]
[null,null,null,null,null,null,null,null,{"$f":"_xlfn.CONCAT(Table3[[#This Row],[Company]:[Year Founded]]&\" \")","v":"       "}]
[null,null,null,null,null,null,null,null,{"$f":"_xlfn.CONCAT(Table3[[#This Row],[Company]:[Year Founded]]&\" \")","v":"       "}]
[null,null,null,null,null,null,null,null,{"$f":"_xlfn.CONCAT(Table3[[#This Row],[Company]:[Year Founded]]&\" \")","v":"       "}]
[null,null,null,null,null,null,null,null,{"$f":"_xlfn.CONCAT(Table3[[#This Row],[Company]:[Year Founded]]&\" \")","v":"       "}]
[null,null,null,null,null,null,null,null,{"$f":"_xlfn.CONCAT(Table3[[#This Row],[Company]:[Year Founded]]&\" \")","v":"       "}]
[null,null,null,null,null,null,null,null,{"$f":"_xlfn.CONCAT(Table3[[#This Row],[Company]:[Year Founded]]&\" \")","v":"       "}]
[null,null,null,null,null,null,null,null,{"$f":"_xlfn.CONCAT(Table3[[#This Row],[Company]:[Year Founded]]&\" \")","v":"       "}]
[null,null,null,null,null,null,null,null,{"$f":"_xlfn.CONCAT(Table3[[#This Row],[Company]:[Year Founded]]&\" \")","v":"       "}]
[null,null,null,null,null,null,null,null,{"$f":"_xlfn.CONCAT(Table3[[#This Row],[Company]:[Year Founded]]&\" \")","v":"       "}]
[null,null,null,null,null,null,null,null,{"$f":"_xlfn.CONCAT(Table3[[#This Row],[Company]:[Year Founded]]&\" \")","v":"       "}]
[null,null,null,null,null,null,null,null,{"$f":"_xlfn.CONCAT(Table3[[#This Row],[Company]:[Year Founded]]&\" \")","v":"       "}]
[null,null,null,null,null,null,null,null,{"$f":"_xlfn.CONCAT(Table3[[#This Row],[Company]:[Year Founded]]&\" \")","v":"       "}]
[null,null,null,null,null,null,null,null,{"$f":"_xlfn.CONCAT(Table3[[#This Row],[Company]:[Year Founded]]&\" \")","v":"       "}]
[null,null,null,null,null,null,null,null,{"$f":"_xlfn.CONCAT(Table3[[#This Row],[Company]:[Year Founded]]&\" \")","v":"       "}]
[null,null,null,null,null,null,null,null,{"$f":"_xlfn.CONCAT(Table3[[#This Row],[Company]:[Year Founded]]&\" \")","v":"       "}]
[null,null,null,null,null,null,null,null,{"$f":"_xlfn.CONCAT(Table3[[#This Row],[Company]:[Year Founded]]&\" \")","v":"       "}]
[null,null,null,null,null,null,null,null,{"$f":"_xlfn.CONCAT(Table3[[#This Row],[Company]:[Year Founded]]&\" \")","v":"       "}]
[null,null,null,null,null,null,null,null,{"$f":"_xlfn.CONCAT(Table3[[#This Row],[Company]:[Year Founded]]&\" \")","v":"       "}]
[null,null,null,null,null,null,null,null,{"$f":"_xlfn.CONCAT(Table3[[#This Row],[Company]:[Year Founded]]&\" \")","v":"       "}]
[null,null,null,null,null,null,null,null,{"$f":"_xlfn.CONCAT(Table3[[#This Row],[Company]:[Year Founded]]&\" \")","v":"       "}]
[null,null,null,null,null,null,null,null,{"$f":"_xlfn.CONCAT(Table3[[#This Row],[Company]:[Year Founded]]&\" \")","v":"       "}]
[null,null,null,null,null,null,null,null,{"$f":"_xlfn.CONCAT(Table3[[#This Row],[Company]:[Year Founded]]&\" \")","v":"       "}]
[null,null,null,null,null,null,null,null,{"$f":"_xlfn.CONCAT(Table3[[#This Row],[Company]:[Year Founded]]&\" \")","v":"       "}]
[null,null,null,null,null,null,null,null,{"$f":"_xlfn.CONCAT(Table3[[#This Row],[Company]:[Year Founded]]&\" \")","v":"       "}]
[null,null,null,null,null,null,null,null,{"$f":"_xlfn.CONCAT(Table3[[#This Row],[Company]:[Year Founded]]&\" \")","v":"       "}]
[null,null,null,null,null,null,null,null,{"$f":"_xlfn.CONCAT(Table3[[#This Row],[Company]:[Year Founded]]&\" \")","v":"       "}]
[null,null,null,null,null,null,null,null,{"$f":"_xlfn.CONCAT(Table3[[#This Row],[Company]:[Year Founded]]&\" \")","v":"       "}]
[null,null,null,null,null,null,null,null,{"$f":"_xlfn.CONCAT(Table3[[#This Row],[Company]:[Year Founded]]&\" \")","v":"       "}]
[null,null,null,null,null,null,null,null,{"$f":"_xlfn.CONCAT(Table3[[#This Row],[Company]:[Year Founded]]&\" \")","v":"       "}]
[null,null,null,null,null,null,null,null,{"$f":"_xlfn.CONCAT(Table3[[#This Row],[Company]:[Year Founded]]&\" \")","v":"       "}]
[null,null,null,null,null,null,null,null,{"$f":"_xlfn.CONCAT(Table3[[#This Row],[Company]:[Year Founded]]&\" \")","v":"       "}]
[null,null,null,null,null,null,null,null,{"$f":"_xlfn.CONCAT(Table3[[#This Row],[Company]:[Year Founded]]&\" \")","v":"       "}]
[null,null,null,null,null,null,null,null,{"$f":"_xlfn.CONCAT(Table3[[#This Row],[Company]:[Year Founded]]&\" \")","v":"       "}]
[null,null,null,null,null,null,null,null,{"$f":"_xlfn.CONCAT(Table3[[#This Row],[Company]:[Year Founded]]&\" \")","v":"       "}]